BEGIN:VCALENDAR
VERSION:2.0
PRODID:-//St. Peter Lutheran Church and School - ECPv6.15.20//NONSGML v1.0//EN
CALSCALE:GREGORIAN
METHOD:PUBLISH
X-ORIGINAL-URL:https://stpeterriley.org
X-WR-CALDESC:Events for St. Peter Lutheran Church and School
REFRESH-INTERVAL;VALUE=DURATION:PT1H
X-Robots-Tag:noindex
X-PUBLISHED-TTL:PT1H
BEGIN:VTIMEZONE
TZID:America/Detroit
BEGIN:DAYLIGHT
TZOFFSETFROM:-0500
TZOFFSETTO:-0400
TZNAME:EDT
DTSTART:20240310T070000
END:DAYLIGHT
BEGIN:STANDARD
TZOFFSETFROM:-0400
TZOFFSETTO:-0500
TZNAME:EST
DTSTART:20241103T060000
END:STANDARD
BEGIN:DAYLIGHT
TZOFFSETFROM:-0500
TZOFFSETTO:-0400
TZNAME:EDT
DTSTART:20250309T070000
END:DAYLIGHT
BEGIN:STANDARD
TZOFFSETFROM:-0400
TZOFFSETTO:-0500
TZNAME:EST
DTSTART:20251102T060000
END:STANDARD
BEGIN:DAYLIGHT
TZOFFSETFROM:-0500
TZOFFSETTO:-0400
TZNAME:EDT
DTSTART:20260308T070000
END:DAYLIGHT
BEGIN:STANDARD
TZOFFSETFROM:-0400
TZOFFSETTO:-0500
TZNAME:EST
DTSTART:20261101T060000
END:STANDARD
END:VTIMEZONE
BEGIN:VTIMEZONE
TZID:UTC
BEGIN:STANDARD
TZOFFSETFROM:+0000
TZOFFSETTO:+0000
TZNAME:UTC
DTSTART:20240101T000000
END:STANDARD
END:VTIMEZONE
BEGIN:VEVENT
DTSTART;TZID=America/Detroit:20251023T090000
DTEND;TZID=America/Detroit:20251023T120000
DTSTAMP:20260421T190234
CREATED:20230808T135515Z
LAST-MODIFIED:20231005T172928Z
UID:10000314-1761210000-1761220800@stpeterriley.org
SUMMARY:Quilting Meeting
DESCRIPTION:
URL:https://stpeterriley.org/event/quilting-meeting/2025-10-23/
LOCATION:School\, St. Johns\, MI 48879 United States\, St. Peter Lutheran School 8990 Church Rd.\, American Samoa
CATEGORIES:Church
END:VEVENT
BEGIN:VEVENT
DTSTART;TZID=America/Detroit:20251019T110000
DTEND;TZID=America/Detroit:20251019T120000
DTSTAMP:20260421T190234
CREATED:20231005T174949Z
LAST-MODIFIED:20231005T174949Z
UID:10001807-1760871600-1760875200@stpeterriley.org
SUMMARY:Bible Study
DESCRIPTION:
URL:https://stpeterriley.org/event/bible-study-2/2025-10-19/
LOCATION:School\, St. Johns\, MI 48879 United States\, St. Peter Lutheran School 8990 Church Rd.\, American Samoa
CATEGORIES:Church
END:VEVENT
BEGIN:VEVENT
DTSTART;TZID=America/Detroit:20251016T090000
DTEND;TZID=America/Detroit:20251016T120000
DTSTAMP:20260421T190234
CREATED:20230808T135515Z
LAST-MODIFIED:20231005T172928Z
UID:10000313-1760605200-1760616000@stpeterriley.org
SUMMARY:Quilting Meeting
DESCRIPTION:
URL:https://stpeterriley.org/event/quilting-meeting/2025-10-16/
LOCATION:School\, St. Johns\, MI 48879 United States\, St. Peter Lutheran School 8990 Church Rd.\, American Samoa
CATEGORIES:Church
END:VEVENT
BEGIN:VEVENT
DTSTART;TZID=America/Detroit:20251014T183000
DTEND;TZID=America/Detroit:20251014T200000
DTSTAMP:20260421T190234
CREATED:20230807T151821Z
LAST-MODIFIED:20231005T172658Z
UID:10000163-1760466600-1760472000@stpeterriley.org
SUMMARY:Council Meeting
DESCRIPTION:
URL:https://stpeterriley.org/event/council-meeting/2025-10-14/
LOCATION:School\, St. Johns\, MI 48879 United States\, St. Peter Lutheran School 8990 Church Rd.\, American Samoa
CATEGORIES:Church,School
END:VEVENT
BEGIN:VEVENT
DTSTART;TZID=America/Detroit:20251012T110000
DTEND;TZID=America/Detroit:20251012T120000
DTSTAMP:20260421T190234
CREATED:20231005T174949Z
LAST-MODIFIED:20231005T174949Z
UID:10001806-1760266800-1760270400@stpeterriley.org
SUMMARY:Bible Study
DESCRIPTION:
URL:https://stpeterriley.org/event/bible-study-2/2025-10-12/
LOCATION:School\, St. Johns\, MI 48879 United States\, St. Peter Lutheran School 8990 Church Rd.\, American Samoa
CATEGORIES:Church
END:VEVENT
BEGIN:VEVENT
DTSTART;TZID=America/Detroit:20251009T090000
DTEND;TZID=America/Detroit:20251009T120000
DTSTAMP:20260421T190234
CREATED:20230808T135515Z
LAST-MODIFIED:20231005T172928Z
UID:10000312-1760000400-1760011200@stpeterriley.org
SUMMARY:Quilting Meeting
DESCRIPTION:
URL:https://stpeterriley.org/event/quilting-meeting/2025-10-09/
LOCATION:School\, St. Johns\, MI 48879 United States\, St. Peter Lutheran School 8990 Church Rd.\, American Samoa
CATEGORIES:Church
END:VEVENT
BEGIN:VEVENT
DTSTART;TZID=America/Detroit:20251007T180000
DTEND;TZID=America/Detroit:20251007T200000
DTSTAMP:20260421T190234
CREATED:20230807T151538Z
LAST-MODIFIED:20231005T171530Z
UID:10000039-1759860000-1759867200@stpeterriley.org
SUMMARY:Elders Meeting
DESCRIPTION:
URL:https://stpeterriley.org/event/elders-meeting-2/2025-10-07/
LOCATION:School\, St. Johns\, MI 48879 United States\, St. Peter Lutheran School 8990 Church Rd.\, American Samoa
CATEGORIES:Church
END:VEVENT
BEGIN:VEVENT
DTSTART;TZID=UTC:20251006T183000
DTEND;TZID=UTC:20251006T200000
DTSTAMP:20260421T190234
CREATED:20221001T153511Z
LAST-MODIFIED:20260201T212944Z
UID:10000101-1759775400-1759780800@stpeterriley.org
SUMMARY:School Board Meeting
DESCRIPTION:
URL:https://stpeterriley.org/event/school-board-meeting/2025-10-06/
LOCATION:School\, St. Johns\, MI 48879 United States\, St. Peter Lutheran School 8990 Church Rd.\, American Samoa
CATEGORIES:Church,School
END:VEVENT
BEGIN:VEVENT
DTSTART;TZID=America/Detroit:20251005T110000
DTEND;TZID=America/Detroit:20251005T120000
DTSTAMP:20260421T190234
CREATED:20231005T174949Z
LAST-MODIFIED:20231005T174949Z
UID:10001805-1759662000-1759665600@stpeterriley.org
SUMMARY:Bible Study
DESCRIPTION:
URL:https://stpeterriley.org/event/bible-study-2/2025-10-05/
LOCATION:School\, St. Johns\, MI 48879 United States\, St. Peter Lutheran School 8990 Church Rd.\, American Samoa
CATEGORIES:Church
END:VEVENT
BEGIN:VEVENT
DTSTART;TZID=America/Detroit:20251002T120000
DTEND;TZID=America/Detroit:20251002T140000
DTSTAMP:20260421T190234
CREATED:20231005T173339Z
LAST-MODIFIED:20231005T173339Z
UID:10000493-1759406400-1759413600@stpeterriley.org
SUMMARY:Ladies Aid
DESCRIPTION:
URL:https://stpeterriley.org/event/ladies-aid/2025-10-02/
LOCATION:School\, St. Johns\, MI 48879 United States\, St. Peter Lutheran School 8990 Church Rd.\, American Samoa
CATEGORIES:Church
END:VEVENT
BEGIN:VEVENT
DTSTART;TZID=America/Detroit:20251002T090000
DTEND;TZID=America/Detroit:20251002T120000
DTSTAMP:20260421T190234
CREATED:20230808T135515Z
LAST-MODIFIED:20231005T172928Z
UID:10000311-1759395600-1759406400@stpeterriley.org
SUMMARY:Quilting Meeting
DESCRIPTION:
URL:https://stpeterriley.org/event/quilting-meeting/2025-10-02/
LOCATION:School\, St. Johns\, MI 48879 United States\, St. Peter Lutheran School 8990 Church Rd.\, American Samoa
CATEGORIES:Church
END:VEVENT
BEGIN:VEVENT
DTSTART;TZID=America/Detroit:20250928T110000
DTEND;TZID=America/Detroit:20250928T120000
DTSTAMP:20260421T190234
CREATED:20231005T174949Z
LAST-MODIFIED:20231005T174949Z
UID:10001804-1759057200-1759060800@stpeterriley.org
SUMMARY:Bible Study
DESCRIPTION:
URL:https://stpeterriley.org/event/bible-study-2/2025-09-28/
LOCATION:School\, St. Johns\, MI 48879 United States\, St. Peter Lutheran School 8990 Church Rd.\, American Samoa
CATEGORIES:Church
END:VEVENT
BEGIN:VEVENT
DTSTART;TZID=America/Detroit:20250927T140000
DTEND;TZID=America/Detroit:20250927T170000
DTSTAMP:20260421T190234
CREATED:20250901T192952Z
LAST-MODIFIED:20250916T215316Z
UID:10003591-1758981600-1758992400@stpeterriley.org
SUMMARY:Oktoberfest
DESCRIPTION:
URL:https://stpeterriley.org/event/oktoberfest-festival/
LOCATION:School\, St. Johns\, MI 48879 United States\, St. Peter Lutheran School 8990 Church Rd.\, American Samoa
CATEGORIES:Church
END:VEVENT
BEGIN:VEVENT
DTSTART;TZID=America/Detroit:20250925T090000
DTEND;TZID=America/Detroit:20250925T120000
DTSTAMP:20260421T190234
CREATED:20230808T135515Z
LAST-MODIFIED:20231005T172928Z
UID:10000310-1758790800-1758801600@stpeterriley.org
SUMMARY:Quilting Meeting
DESCRIPTION:
URL:https://stpeterriley.org/event/quilting-meeting/2025-09-25/
LOCATION:School\, St. Johns\, MI 48879 United States\, St. Peter Lutheran School 8990 Church Rd.\, American Samoa
CATEGORIES:Church
END:VEVENT
BEGIN:VEVENT
DTSTART;TZID=America/Detroit:20250921T110000
DTEND;TZID=America/Detroit:20250921T120000
DTSTAMP:20260421T190234
CREATED:20231005T174949Z
LAST-MODIFIED:20231005T174949Z
UID:10001803-1758452400-1758456000@stpeterriley.org
SUMMARY:Bible Study
DESCRIPTION:
URL:https://stpeterriley.org/event/bible-study-2/2025-09-21/
LOCATION:School\, St. Johns\, MI 48879 United States\, St. Peter Lutheran School 8990 Church Rd.\, American Samoa
CATEGORIES:Church
END:VEVENT
BEGIN:VEVENT
DTSTART;TZID=America/Detroit:20250918T090000
DTEND;TZID=America/Detroit:20250918T120000
DTSTAMP:20260421T190234
CREATED:20230808T135515Z
LAST-MODIFIED:20231005T172928Z
UID:10000309-1758186000-1758196800@stpeterriley.org
SUMMARY:Quilting Meeting
DESCRIPTION:
URL:https://stpeterriley.org/event/quilting-meeting/2025-09-18/
LOCATION:School\, St. Johns\, MI 48879 United States\, St. Peter Lutheran School 8990 Church Rd.\, American Samoa
CATEGORIES:Church
END:VEVENT
BEGIN:VEVENT
DTSTART;TZID=America/Detroit:20250914T110000
DTEND;TZID=America/Detroit:20250914T120000
DTSTAMP:20260421T190234
CREATED:20231005T174949Z
LAST-MODIFIED:20231005T174949Z
UID:10001802-1757847600-1757851200@stpeterriley.org
SUMMARY:Bible Study
DESCRIPTION:
URL:https://stpeterriley.org/event/bible-study-2/2025-09-14/
LOCATION:School\, St. Johns\, MI 48879 United States\, St. Peter Lutheran School 8990 Church Rd.\, American Samoa
CATEGORIES:Church
END:VEVENT
BEGIN:VEVENT
DTSTART;TZID=America/Detroit:20250911T090000
DTEND;TZID=America/Detroit:20250911T120000
DTSTAMP:20260421T190234
CREATED:20230808T135515Z
LAST-MODIFIED:20231005T172928Z
UID:10000308-1757581200-1757592000@stpeterriley.org
SUMMARY:Quilting Meeting
DESCRIPTION:
URL:https://stpeterriley.org/event/quilting-meeting/2025-09-11/
LOCATION:School\, St. Johns\, MI 48879 United States\, St. Peter Lutheran School 8990 Church Rd.\, American Samoa
CATEGORIES:Church
END:VEVENT
BEGIN:VEVENT
DTSTART;TZID=America/Detroit:20250909T183000
DTEND;TZID=America/Detroit:20250909T200000
DTSTAMP:20260421T190234
CREATED:20230807T151821Z
LAST-MODIFIED:20231005T172658Z
UID:10000162-1757442600-1757448000@stpeterriley.org
SUMMARY:Council Meeting
DESCRIPTION:
URL:https://stpeterriley.org/event/council-meeting/2025-09-09/
LOCATION:School\, St. Johns\, MI 48879 United States\, St. Peter Lutheran School 8990 Church Rd.\, American Samoa
CATEGORIES:Church,School
END:VEVENT
BEGIN:VEVENT
DTSTART;TZID=America/Detroit:20250907T110000
DTEND;TZID=America/Detroit:20250907T120000
DTSTAMP:20260421T190234
CREATED:20231005T174949Z
LAST-MODIFIED:20231005T174949Z
UID:10001801-1757242800-1757246400@stpeterriley.org
SUMMARY:Bible Study
DESCRIPTION:
URL:https://stpeterriley.org/event/bible-study-2/2025-09-07/
LOCATION:School\, St. Johns\, MI 48879 United States\, St. Peter Lutheran School 8990 Church Rd.\, American Samoa
CATEGORIES:Church
END:VEVENT
BEGIN:VEVENT
DTSTART;TZID=America/Detroit:20250904T120000
DTEND;TZID=America/Detroit:20250904T140000
DTSTAMP:20260421T190234
CREATED:20231005T173339Z
LAST-MODIFIED:20231005T173339Z
UID:10000492-1756987200-1756994400@stpeterriley.org
SUMMARY:Ladies Aid
DESCRIPTION:
URL:https://stpeterriley.org/event/ladies-aid/2025-09-04/
LOCATION:School\, St. Johns\, MI 48879 United States\, St. Peter Lutheran School 8990 Church Rd.\, American Samoa
CATEGORIES:Church
END:VEVENT
BEGIN:VEVENT
DTSTART;TZID=America/Detroit:20250904T090000
DTEND;TZID=America/Detroit:20250904T120000
DTSTAMP:20260421T190234
CREATED:20230808T135515Z
LAST-MODIFIED:20231005T172928Z
UID:10000307-1756976400-1756987200@stpeterriley.org
SUMMARY:Quilting Meeting
DESCRIPTION:
URL:https://stpeterriley.org/event/quilting-meeting/2025-09-04/
LOCATION:School\, St. Johns\, MI 48879 United States\, St. Peter Lutheran School 8990 Church Rd.\, American Samoa
CATEGORIES:Church
END:VEVENT
BEGIN:VEVENT
DTSTART;TZID=America/Detroit:20250902T180000
DTEND;TZID=America/Detroit:20250902T200000
DTSTAMP:20260421T190234
CREATED:20230807T151538Z
LAST-MODIFIED:20231005T171530Z
UID:10000038-1756836000-1756843200@stpeterriley.org
SUMMARY:Elders Meeting
DESCRIPTION:
URL:https://stpeterriley.org/event/elders-meeting-2/2025-09-02/
LOCATION:School\, St. Johns\, MI 48879 United States\, St. Peter Lutheran School 8990 Church Rd.\, American Samoa
CATEGORIES:Church
END:VEVENT
BEGIN:VEVENT
DTSTART;TZID=UTC:20250901T183000
DTEND;TZID=UTC:20250901T200000
DTSTAMP:20260421T190234
CREATED:20221001T153511Z
LAST-MODIFIED:20260201T212944Z
UID:10000100-1756751400-1756756800@stpeterriley.org
SUMMARY:School Board Meeting
DESCRIPTION:
URL:https://stpeterriley.org/event/school-board-meeting/2025-09-01/
LOCATION:School\, St. Johns\, MI 48879 United States\, St. Peter Lutheran School 8990 Church Rd.\, American Samoa
CATEGORIES:Church,School
END:VEVENT
BEGIN:VEVENT
DTSTART;TZID=America/Detroit:20250831T110000
DTEND;TZID=America/Detroit:20250831T120000
DTSTAMP:20260421T190234
CREATED:20231005T174949Z
LAST-MODIFIED:20231005T174949Z
UID:10001800-1756638000-1756641600@stpeterriley.org
SUMMARY:Bible Study
DESCRIPTION:
URL:https://stpeterriley.org/event/bible-study-2/2025-08-31/
LOCATION:School\, St. Johns\, MI 48879 United States\, St. Peter Lutheran School 8990 Church Rd.\, American Samoa
CATEGORIES:Church
END:VEVENT
BEGIN:VEVENT
DTSTART;TZID=America/Detroit:20250828T090000
DTEND;TZID=America/Detroit:20250828T120000
DTSTAMP:20260421T190234
CREATED:20230808T135515Z
LAST-MODIFIED:20231005T172928Z
UID:10000306-1756371600-1756382400@stpeterriley.org
SUMMARY:Quilting Meeting
DESCRIPTION:
URL:https://stpeterriley.org/event/quilting-meeting/2025-08-28/
LOCATION:School\, St. Johns\, MI 48879 United States\, St. Peter Lutheran School 8990 Church Rd.\, American Samoa
CATEGORIES:Church
END:VEVENT
BEGIN:VEVENT
DTSTART;TZID=America/Detroit:20250824T110000
DTEND;TZID=America/Detroit:20250824T120000
DTSTAMP:20260421T190234
CREATED:20231005T174949Z
LAST-MODIFIED:20231005T174949Z
UID:10001799-1756033200-1756036800@stpeterriley.org
SUMMARY:Bible Study
DESCRIPTION:
URL:https://stpeterriley.org/event/bible-study-2/2025-08-24/
LOCATION:School\, St. Johns\, MI 48879 United States\, St. Peter Lutheran School 8990 Church Rd.\, American Samoa
CATEGORIES:Church
END:VEVENT
BEGIN:VEVENT
DTSTART;TZID=America/Detroit:20250821T090000
DTEND;TZID=America/Detroit:20250821T120000
DTSTAMP:20260421T190234
CREATED:20230808T135515Z
LAST-MODIFIED:20231005T172928Z
UID:10000305-1755766800-1755777600@stpeterriley.org
SUMMARY:Quilting Meeting
DESCRIPTION:
URL:https://stpeterriley.org/event/quilting-meeting/2025-08-21/
LOCATION:School\, St. Johns\, MI 48879 United States\, St. Peter Lutheran School 8990 Church Rd.\, American Samoa
CATEGORIES:Church
END:VEVENT
BEGIN:VEVENT
DTSTART;TZID=America/Detroit:20250817T110000
DTEND;TZID=America/Detroit:20250817T120000
DTSTAMP:20260421T190234
CREATED:20231005T174949Z
LAST-MODIFIED:20231005T174949Z
UID:10001798-1755428400-1755432000@stpeterriley.org
SUMMARY:Bible Study
DESCRIPTION:
URL:https://stpeterriley.org/event/bible-study-2/2025-08-17/
LOCATION:School\, St. Johns\, MI 48879 United States\, St. Peter Lutheran School 8990 Church Rd.\, American Samoa
CATEGORIES:Church
END:VEVENT
BEGIN:VEVENT
DTSTART;TZID=America/Detroit:20250814T090000
DTEND;TZID=America/Detroit:20250814T120000
DTSTAMP:20260421T190234
CREATED:20230808T135515Z
LAST-MODIFIED:20231005T172928Z
UID:10000304-1755162000-1755172800@stpeterriley.org
SUMMARY:Quilting Meeting
DESCRIPTION:
URL:https://stpeterriley.org/event/quilting-meeting/2025-08-14/
LOCATION:School\, St. Johns\, MI 48879 United States\, St. Peter Lutheran School 8990 Church Rd.\, American Samoa
CATEGORIES:Church
END:VEVENT
END:VCALENDAR