BEGIN:VCALENDAR
VERSION:2.0
PRODID:-//St. Peter Lutheran Church and School - ECPv6.15.20//NONSGML v1.0//EN
CALSCALE:GREGORIAN
METHOD:PUBLISH
X-ORIGINAL-URL:https://stpeterriley.org
X-WR-CALDESC:Events for St. Peter Lutheran Church and School
REFRESH-INTERVAL;VALUE=DURATION:PT1H
X-Robots-Tag:noindex
X-PUBLISHED-TTL:PT1H
BEGIN:VTIMEZONE
TZID:America/Detroit
BEGIN:DAYLIGHT
TZOFFSETFROM:-0500
TZOFFSETTO:-0400
TZNAME:EDT
DTSTART:20220313T070000
END:DAYLIGHT
BEGIN:STANDARD
TZOFFSETFROM:-0400
TZOFFSETTO:-0500
TZNAME:EST
DTSTART:20221106T060000
END:STANDARD
BEGIN:DAYLIGHT
TZOFFSETFROM:-0500
TZOFFSETTO:-0400
TZNAME:EDT
DTSTART:20230312T070000
END:DAYLIGHT
BEGIN:STANDARD
TZOFFSETFROM:-0400
TZOFFSETTO:-0500
TZNAME:EST
DTSTART:20231105T060000
END:STANDARD
BEGIN:DAYLIGHT
TZOFFSETFROM:-0500
TZOFFSETTO:-0400
TZNAME:EDT
DTSTART:20240310T070000
END:DAYLIGHT
BEGIN:STANDARD
TZOFFSETFROM:-0400
TZOFFSETTO:-0500
TZNAME:EST
DTSTART:20241103T060000
END:STANDARD
END:VTIMEZONE
BEGIN:VTIMEZONE
TZID:UTC
BEGIN:STANDARD
TZOFFSETFROM:+0000
TZOFFSETTO:+0000
TZNAME:UTC
DTSTART:20220101T000000
END:STANDARD
END:VTIMEZONE
BEGIN:VEVENT
DTSTART;TZID=America/Detroit:20231119T110000
DTEND;TZID=America/Detroit:20231119T120000
DTSTAMP:20260424T220906
CREATED:20231005T174949Z
LAST-MODIFIED:20231005T174949Z
UID:10001707-1700391600-1700395200@stpeterriley.org
SUMMARY:Bible Study
DESCRIPTION:
URL:https://stpeterriley.org/event/bible-study-2/2023-11-19/
LOCATION:School\, St. Johns\, MI 48879 United States\, St. Peter Lutheran School 8990 Church Rd.\, American Samoa
CATEGORIES:Church
END:VEVENT
BEGIN:VEVENT
DTSTART;TZID=America/Detroit:20231116T090000
DTEND;TZID=America/Detroit:20231116T120000
DTSTAMP:20260424T220906
CREATED:20230808T135515Z
LAST-MODIFIED:20231005T172928Z
UID:10000213-1700125200-1700136000@stpeterriley.org
SUMMARY:Quilting Meeting
DESCRIPTION:
URL:https://stpeterriley.org/event/quilting-meeting/2023-11-16/
LOCATION:School\, St. Johns\, MI 48879 United States\, St. Peter Lutheran School 8990 Church Rd.\, American Samoa
CATEGORIES:Church
END:VEVENT
BEGIN:VEVENT
DTSTART;TZID=America/Detroit:20231115T180000
DTEND;TZID=America/Detroit:20231115T190000
DTSTAMP:20260424T220906
CREATED:20231005T173705Z
LAST-MODIFIED:20231113T214850Z
UID:10000597-1700071200-1700074800@stpeterriley.org
SUMMARY:Bible Study
DESCRIPTION:
URL:https://stpeterriley.org/event/bible-study/2023-11-15/
LOCATION:School\, St. Johns\, MI 48879 United States\, St. Peter Lutheran School 8990 Church Rd.\, American Samoa
CATEGORIES:Church
END:VEVENT
BEGIN:VEVENT
DTSTART;TZID=America/Detroit:20231114T183000
DTEND;TZID=America/Detroit:20231114T200000
DTSTAMP:20260424T220906
CREATED:20230807T151821Z
LAST-MODIFIED:20231005T172658Z
UID:10000140-1699986600-1699992000@stpeterriley.org
SUMMARY:Council Meeting
DESCRIPTION:
URL:https://stpeterriley.org/event/council-meeting/2023-11-14/
LOCATION:School\, St. Johns\, MI 48879 United States\, St. Peter Lutheran School 8990 Church Rd.\, American Samoa
CATEGORIES:Church,School
END:VEVENT
BEGIN:VEVENT
DTSTART;TZID=America/Detroit:20231112T110000
DTEND;TZID=America/Detroit:20231112T120000
DTSTAMP:20260424T220906
CREATED:20231005T174949Z
LAST-MODIFIED:20231005T174949Z
UID:10001706-1699786800-1699790400@stpeterriley.org
SUMMARY:Bible Study
DESCRIPTION:
URL:https://stpeterriley.org/event/bible-study-2/2023-11-12/
LOCATION:School\, St. Johns\, MI 48879 United States\, St. Peter Lutheran School 8990 Church Rd.\, American Samoa
CATEGORIES:Church
END:VEVENT
BEGIN:VEVENT
DTSTART;TZID=America/Detroit:20231109T090000
DTEND;TZID=America/Detroit:20231109T120000
DTSTAMP:20260424T220906
CREATED:20230808T135515Z
LAST-MODIFIED:20231005T172928Z
UID:10000212-1699520400-1699531200@stpeterriley.org
SUMMARY:Quilting Meeting
DESCRIPTION:
URL:https://stpeterriley.org/event/quilting-meeting/2023-11-09/
LOCATION:School\, St. Johns\, MI 48879 United States\, St. Peter Lutheran School 8990 Church Rd.\, American Samoa
CATEGORIES:Church
END:VEVENT
BEGIN:VEVENT
DTSTART;TZID=America/Detroit:20231108T180000
DTEND;TZID=America/Detroit:20231108T190000
DTSTAMP:20260424T220906
CREATED:20231005T173705Z
LAST-MODIFIED:20231113T214850Z
UID:10000596-1699466400-1699470000@stpeterriley.org
SUMMARY:Bible Study
DESCRIPTION:
URL:https://stpeterriley.org/event/bible-study/2023-11-08/
LOCATION:School\, St. Johns\, MI 48879 United States\, St. Peter Lutheran School 8990 Church Rd.\, American Samoa
CATEGORIES:Church
END:VEVENT
BEGIN:VEVENT
DTSTART;TZID=America/Detroit:20231107T180000
DTEND;TZID=America/Detroit:20231107T200000
DTSTAMP:20260424T220906
CREATED:20230807T151538Z
LAST-MODIFIED:20231005T171530Z
UID:10000016-1699380000-1699387200@stpeterriley.org
SUMMARY:Elders Meeting
DESCRIPTION:
URL:https://stpeterriley.org/event/elders-meeting-2/2023-11-07/
LOCATION:School\, St. Johns\, MI 48879 United States\, St. Peter Lutheran School 8990 Church Rd.\, American Samoa
CATEGORIES:Church
END:VEVENT
BEGIN:VEVENT
DTSTART;TZID=UTC:20231106T183000
DTEND;TZID=UTC:20231106T200000
DTSTAMP:20260424T220906
CREATED:20221001T153511Z
LAST-MODIFIED:20260201T212944Z
UID:10000078-1699295400-1699300800@stpeterriley.org
SUMMARY:School Board Meeting
DESCRIPTION:
URL:https://stpeterriley.org/event/school-board-meeting/2023-11-06/
LOCATION:School\, St. Johns\, MI 48879 United States\, St. Peter Lutheran School 8990 Church Rd.\, American Samoa
CATEGORIES:Church,School
END:VEVENT
BEGIN:VEVENT
DTSTART;TZID=America/Detroit:20231105T110000
DTEND;TZID=America/Detroit:20231105T120000
DTSTAMP:20260424T220906
CREATED:20231005T174949Z
LAST-MODIFIED:20231005T174949Z
UID:10001705-1699182000-1699185600@stpeterriley.org
SUMMARY:Bible Study
DESCRIPTION:
URL:https://stpeterriley.org/event/bible-study-2/2023-11-05/
LOCATION:School\, St. Johns\, MI 48879 United States\, St. Peter Lutheran School 8990 Church Rd.\, American Samoa
CATEGORIES:Church
END:VEVENT
BEGIN:VEVENT
DTSTART;TZID=America/Detroit:20231102T120000
DTEND;TZID=America/Detroit:20231102T140000
DTSTAMP:20260424T220906
CREATED:20231005T173339Z
LAST-MODIFIED:20231005T173339Z
UID:10000470-1698926400-1698933600@stpeterriley.org
SUMMARY:Ladies Aid
DESCRIPTION:
URL:https://stpeterriley.org/event/ladies-aid/2023-11-02/
LOCATION:School\, St. Johns\, MI 48879 United States\, St. Peter Lutheran School 8990 Church Rd.\, American Samoa
CATEGORIES:Church
END:VEVENT
BEGIN:VEVENT
DTSTART;TZID=America/Detroit:20231102T090000
DTEND;TZID=America/Detroit:20231102T120000
DTSTAMP:20260424T220906
CREATED:20230808T135515Z
LAST-MODIFIED:20231005T172928Z
UID:10000211-1698915600-1698926400@stpeterriley.org
SUMMARY:Quilting Meeting
DESCRIPTION:
URL:https://stpeterriley.org/event/quilting-meeting/2023-11-02/
LOCATION:School\, St. Johns\, MI 48879 United States\, St. Peter Lutheran School 8990 Church Rd.\, American Samoa
CATEGORIES:Church
END:VEVENT
BEGIN:VEVENT
DTSTART;TZID=America/Detroit:20231101T180000
DTEND;TZID=America/Detroit:20231101T190000
DTSTAMP:20260424T220906
CREATED:20231005T173705Z
LAST-MODIFIED:20231113T214850Z
UID:10000595-1698861600-1698865200@stpeterriley.org
SUMMARY:Bible Study
DESCRIPTION:
URL:https://stpeterriley.org/event/bible-study/2023-11-01/
LOCATION:School\, St. Johns\, MI 48879 United States\, St. Peter Lutheran School 8990 Church Rd.\, American Samoa
CATEGORIES:Church
END:VEVENT
BEGIN:VEVENT
DTSTART;TZID=America/Detroit:20231029T110000
DTEND;TZID=America/Detroit:20231029T120000
DTSTAMP:20260424T220906
CREATED:20231005T174949Z
LAST-MODIFIED:20231005T174949Z
UID:10001704-1698577200-1698580800@stpeterriley.org
SUMMARY:Bible Study
DESCRIPTION:
URL:https://stpeterriley.org/event/bible-study-2/2023-10-29/
LOCATION:School\, St. Johns\, MI 48879 United States\, St. Peter Lutheran School 8990 Church Rd.\, American Samoa
CATEGORIES:Church
END:VEVENT
BEGIN:VEVENT
DTSTART;TZID=America/Detroit:20231027T180000
DTEND;TZID=America/Detroit:20231027T193000
DTSTAMP:20260424T220906
CREATED:20231005T175345Z
LAST-MODIFIED:20231005T175345Z
UID:10002224-1698429600-1698435000@stpeterriley.org
SUMMARY:Trunk or Treat
DESCRIPTION:
URL:https://stpeterriley.org/event/trunk-or-treat/
LOCATION:School\, St. Johns\, MI 48879 United States\, St. Peter Lutheran School 8990 Church Rd.\, American Samoa
CATEGORIES:Church
END:VEVENT
BEGIN:VEVENT
DTSTART;TZID=America/Detroit:20231026T090000
DTEND;TZID=America/Detroit:20231026T120000
DTSTAMP:20260424T220906
CREATED:20230808T135515Z
LAST-MODIFIED:20231005T172928Z
UID:10000210-1698310800-1698321600@stpeterriley.org
SUMMARY:Quilting Meeting
DESCRIPTION:
URL:https://stpeterriley.org/event/quilting-meeting/2023-10-26/
LOCATION:School\, St. Johns\, MI 48879 United States\, St. Peter Lutheran School 8990 Church Rd.\, American Samoa
CATEGORIES:Church
END:VEVENT
BEGIN:VEVENT
DTSTART;TZID=America/Detroit:20231025T180000
DTEND;TZID=America/Detroit:20231025T190000
DTSTAMP:20260424T220906
CREATED:20231005T173705Z
LAST-MODIFIED:20231113T214850Z
UID:10000594-1698256800-1698260400@stpeterriley.org
SUMMARY:Bible Study
DESCRIPTION:
URL:https://stpeterriley.org/event/bible-study/2023-10-25/
LOCATION:School\, St. Johns\, MI 48879 United States\, St. Peter Lutheran School 8990 Church Rd.\, American Samoa
CATEGORIES:Church
END:VEVENT
BEGIN:VEVENT
DTSTART;TZID=America/Detroit:20231022T110000
DTEND;TZID=America/Detroit:20231022T120000
DTSTAMP:20260424T220906
CREATED:20231005T174949Z
LAST-MODIFIED:20231005T174949Z
UID:10001703-1697972400-1697976000@stpeterriley.org
SUMMARY:Bible Study
DESCRIPTION:
URL:https://stpeterriley.org/event/bible-study-2/2023-10-22/
LOCATION:School\, St. Johns\, MI 48879 United States\, St. Peter Lutheran School 8990 Church Rd.\, American Samoa
CATEGORIES:Church
END:VEVENT
BEGIN:VEVENT
DTSTART;TZID=America/Detroit:20231019T090000
DTEND;TZID=America/Detroit:20231019T120000
DTSTAMP:20260424T220906
CREATED:20230808T135515Z
LAST-MODIFIED:20231005T172928Z
UID:10000209-1697706000-1697716800@stpeterriley.org
SUMMARY:Quilting Meeting
DESCRIPTION:
URL:https://stpeterriley.org/event/quilting-meeting/2023-10-19/
LOCATION:School\, St. Johns\, MI 48879 United States\, St. Peter Lutheran School 8990 Church Rd.\, American Samoa
CATEGORIES:Church
END:VEVENT
BEGIN:VEVENT
DTSTART;TZID=America/Detroit:20231018T180000
DTEND;TZID=America/Detroit:20231018T190000
DTSTAMP:20260424T220906
CREATED:20231005T173705Z
LAST-MODIFIED:20231113T214850Z
UID:10000593-1697652000-1697655600@stpeterriley.org
SUMMARY:Bible Study
DESCRIPTION:
URL:https://stpeterriley.org/event/bible-study/2023-10-18/
LOCATION:School\, St. Johns\, MI 48879 United States\, St. Peter Lutheran School 8990 Church Rd.\, American Samoa
CATEGORIES:Church
END:VEVENT
BEGIN:VEVENT
DTSTART;TZID=America/Detroit:20231015T110000
DTEND;TZID=America/Detroit:20231015T120000
DTSTAMP:20260424T220906
CREATED:20231005T174949Z
LAST-MODIFIED:20231005T174949Z
UID:10001702-1697367600-1697371200@stpeterriley.org
SUMMARY:Bible Study
DESCRIPTION:
URL:https://stpeterriley.org/event/bible-study-2/2023-10-15/
LOCATION:School\, St. Johns\, MI 48879 United States\, St. Peter Lutheran School 8990 Church Rd.\, American Samoa
CATEGORIES:Church
END:VEVENT
BEGIN:VEVENT
DTSTART;TZID=America/Detroit:20231012T090000
DTEND;TZID=America/Detroit:20231012T120000
DTSTAMP:20260424T220906
CREATED:20230808T135515Z
LAST-MODIFIED:20231005T172928Z
UID:10000208-1697101200-1697112000@stpeterriley.org
SUMMARY:Quilting Meeting
DESCRIPTION:
URL:https://stpeterriley.org/event/quilting-meeting/2023-10-12/
LOCATION:School\, St. Johns\, MI 48879 United States\, St. Peter Lutheran School 8990 Church Rd.\, American Samoa
CATEGORIES:Church
END:VEVENT
BEGIN:VEVENT
DTSTART;TZID=America/Detroit:20231011T180000
DTEND;TZID=America/Detroit:20231011T190000
DTSTAMP:20260424T220906
CREATED:20231005T173705Z
LAST-MODIFIED:20231113T214850Z
UID:10000592-1697047200-1697050800@stpeterriley.org
SUMMARY:Bible Study
DESCRIPTION:
URL:https://stpeterriley.org/event/bible-study/2023-10-11/
LOCATION:School\, St. Johns\, MI 48879 United States\, St. Peter Lutheran School 8990 Church Rd.\, American Samoa
CATEGORIES:Church
END:VEVENT
BEGIN:VEVENT
DTSTART;TZID=America/Detroit:20231010T183000
DTEND;TZID=America/Detroit:20231010T200000
DTSTAMP:20260424T220906
CREATED:20230807T151821Z
LAST-MODIFIED:20231005T172658Z
UID:10000139-1696962600-1696968000@stpeterriley.org
SUMMARY:Council Meeting
DESCRIPTION:
URL:https://stpeterriley.org/event/council-meeting/2023-10-10/
LOCATION:School\, St. Johns\, MI 48879 United States\, St. Peter Lutheran School 8990 Church Rd.\, American Samoa
CATEGORIES:Church,School
END:VEVENT
BEGIN:VEVENT
DTSTART;TZID=America/Detroit:20231008T110000
DTEND;TZID=America/Detroit:20231008T120000
DTSTAMP:20260424T220906
CREATED:20231005T174949Z
LAST-MODIFIED:20231005T174949Z
UID:10001701-1696762800-1696766400@stpeterriley.org
SUMMARY:Bible Study
DESCRIPTION:
URL:https://stpeterriley.org/event/bible-study-2/2023-10-08/
LOCATION:School\, St. Johns\, MI 48879 United States\, St. Peter Lutheran School 8990 Church Rd.\, American Samoa
CATEGORIES:Church
END:VEVENT
BEGIN:VEVENT
DTSTART;TZID=America/Detroit:20231005T120000
DTEND;TZID=America/Detroit:20231005T140000
DTSTAMP:20260424T220906
CREATED:20231005T173339Z
LAST-MODIFIED:20231005T173339Z
UID:10000469-1696507200-1696514400@stpeterriley.org
SUMMARY:Ladies Aid
DESCRIPTION:
URL:https://stpeterriley.org/event/ladies-aid/2023-10-05/
LOCATION:School\, St. Johns\, MI 48879 United States\, St. Peter Lutheran School 8990 Church Rd.\, American Samoa
CATEGORIES:Church
END:VEVENT
BEGIN:VEVENT
DTSTART;TZID=America/Detroit:20231005T090000
DTEND;TZID=America/Detroit:20231005T120000
DTSTAMP:20260424T220906
CREATED:20230808T135515Z
LAST-MODIFIED:20231005T172928Z
UID:10000207-1696496400-1696507200@stpeterriley.org
SUMMARY:Quilting Meeting
DESCRIPTION:
URL:https://stpeterriley.org/event/quilting-meeting/2023-10-05/
LOCATION:School\, St. Johns\, MI 48879 United States\, St. Peter Lutheran School 8990 Church Rd.\, American Samoa
CATEGORIES:Church
END:VEVENT
BEGIN:VEVENT
DTSTART;TZID=America/Detroit:20231004T180000
DTEND;TZID=America/Detroit:20231004T190000
DTSTAMP:20260424T220906
CREATED:20231005T173705Z
LAST-MODIFIED:20231113T214850Z
UID:10000591-1696442400-1696446000@stpeterriley.org
SUMMARY:Bible Study
DESCRIPTION:
URL:https://stpeterriley.org/event/bible-study/2023-10-04/
LOCATION:School\, St. Johns\, MI 48879 United States\, St. Peter Lutheran School 8990 Church Rd.\, American Samoa
CATEGORIES:Church
END:VEVENT
BEGIN:VEVENT
DTSTART;TZID=America/Detroit:20231003T180000
DTEND;TZID=America/Detroit:20231003T200000
DTSTAMP:20260424T220906
CREATED:20230807T151538Z
LAST-MODIFIED:20231005T171530Z
UID:10000006-1696356000-1696363200@stpeterriley.org
SUMMARY:Elders Meeting
DESCRIPTION:
URL:https://stpeterriley.org/event/elders-meeting-2/2023-10-03/
LOCATION:School\, St. Johns\, MI 48879 United States\, St. Peter Lutheran School 8990 Church Rd.\, American Samoa
CATEGORIES:Church
END:VEVENT
BEGIN:VEVENT
DTSTART;TZID=UTC:20231002T183000
DTEND;TZID=UTC:20231002T200000
DTSTAMP:20260424T220906
CREATED:20221001T153511Z
LAST-MODIFIED:20260201T212944Z
UID:10000077-1696271400-1696276800@stpeterriley.org
SUMMARY:School Board Meeting
DESCRIPTION:
URL:https://stpeterriley.org/event/school-board-meeting/2023-10-02/
LOCATION:School\, St. Johns\, MI 48879 United States\, St. Peter Lutheran School 8990 Church Rd.\, American Samoa
CATEGORIES:Church,School
END:VEVENT
END:VCALENDAR