BEGIN:VCALENDAR
VERSION:2.0
PRODID:-//St. Peter Lutheran Church and School - ECPv6.15.20//NONSGML v1.0//EN
CALSCALE:GREGORIAN
METHOD:PUBLISH
X-WR-CALNAME:St. Peter Lutheran Church and School
X-ORIGINAL-URL:https://stpeterriley.org
X-WR-CALDESC:Events for St. Peter Lutheran Church and School
REFRESH-INTERVAL;VALUE=DURATION:PT1H
X-Robots-Tag:noindex
X-PUBLISHED-TTL:PT1H
BEGIN:VTIMEZONE
TZID:America/Detroit
BEGIN:DAYLIGHT
TZOFFSETFROM:-0500
TZOFFSETTO:-0400
TZNAME:EDT
DTSTART:20220313T070000
END:DAYLIGHT
BEGIN:STANDARD
TZOFFSETFROM:-0400
TZOFFSETTO:-0500
TZNAME:EST
DTSTART:20221106T060000
END:STANDARD
BEGIN:DAYLIGHT
TZOFFSETFROM:-0500
TZOFFSETTO:-0400
TZNAME:EDT
DTSTART:20230312T070000
END:DAYLIGHT
BEGIN:STANDARD
TZOFFSETFROM:-0400
TZOFFSETTO:-0500
TZNAME:EST
DTSTART:20231105T060000
END:STANDARD
BEGIN:DAYLIGHT
TZOFFSETFROM:-0500
TZOFFSETTO:-0400
TZNAME:EDT
DTSTART:20240310T070000
END:DAYLIGHT
BEGIN:STANDARD
TZOFFSETFROM:-0400
TZOFFSETTO:-0500
TZNAME:EST
DTSTART:20241103T060000
END:STANDARD
BEGIN:DAYLIGHT
TZOFFSETFROM:-0500
TZOFFSETTO:-0400
TZNAME:EDT
DTSTART:20250309T070000
END:DAYLIGHT
BEGIN:STANDARD
TZOFFSETFROM:-0400
TZOFFSETTO:-0500
TZNAME:EST
DTSTART:20251102T060000
END:STANDARD
END:VTIMEZONE
BEGIN:VTIMEZONE
TZID:UTC
BEGIN:STANDARD
TZOFFSETFROM:+0000
TZOFFSETTO:+0000
TZNAME:UTC
DTSTART:20230101T000000
END:STANDARD
END:VTIMEZONE
BEGIN:VEVENT
DTSTART;TZID=America/Detroit:20240208T090000
DTEND;TZID=America/Detroit:20240208T120000
DTSTAMP:20260424T174117
CREATED:20230808T135515Z
LAST-MODIFIED:20231005T172928Z
UID:10000225-1707382800-1707393600@stpeterriley.org
SUMMARY:Quilting Meeting
DESCRIPTION:
URL:https://stpeterriley.org/event/quilting-meeting/2024-02-08/
LOCATION:School\, St. Johns\, MI 48879 United States\, St. Peter Lutheran School 8990 Church Rd.\, American Samoa
CATEGORIES:Church
END:VEVENT
BEGIN:VEVENT
DTSTART;TZID=America/Detroit:20240207T180000
DTEND;TZID=America/Detroit:20240207T190000
DTSTAMP:20260424T174117
CREATED:20231218T180933Z
LAST-MODIFIED:20240203T182202Z
UID:10000599-1707328800-1707332400@stpeterriley.org
SUMMARY:Bible Study
DESCRIPTION:
URL:https://stpeterriley.org/event/bible-study-3/
LOCATION:School\, St. Johns\, MI 48879 United States\, St. Peter Lutheran School 8990 Church Rd.\, American Samoa
CATEGORIES:Church
END:VEVENT
BEGIN:VEVENT
DTSTART;TZID=America/Detroit:20240206T180000
DTEND;TZID=America/Detroit:20240206T200000
DTSTAMP:20260424T174117
CREATED:20230807T151538Z
LAST-MODIFIED:20231005T171530Z
UID:10000019-1707242400-1707249600@stpeterriley.org
SUMMARY:Elders Meeting
DESCRIPTION:
URL:https://stpeterriley.org/event/elders-meeting-2/2024-02-06/
LOCATION:School\, St. Johns\, MI 48879 United States\, St. Peter Lutheran School 8990 Church Rd.\, American Samoa
CATEGORIES:Church
END:VEVENT
BEGIN:VEVENT
DTSTART;TZID=UTC:20240205T183000
DTEND;TZID=UTC:20240205T200000
DTSTAMP:20260424T174117
CREATED:20221001T153511Z
LAST-MODIFIED:20260201T212944Z
UID:10000081-1707157800-1707163200@stpeterriley.org
SUMMARY:School Board Meeting
DESCRIPTION:
URL:https://stpeterriley.org/event/school-board-meeting/2024-02-05/
LOCATION:School\, St. Johns\, MI 48879 United States\, St. Peter Lutheran School 8990 Church Rd.\, American Samoa
CATEGORIES:Church,School
END:VEVENT
BEGIN:VEVENT
DTSTART;TZID=America/Detroit:20240204T110000
DTEND;TZID=America/Detroit:20240204T120000
DTSTAMP:20260424T174118
CREATED:20231005T174949Z
LAST-MODIFIED:20231005T174949Z
UID:10001718-1707044400-1707048000@stpeterriley.org
SUMMARY:Bible Study
DESCRIPTION:
URL:https://stpeterriley.org/event/bible-study-2/2024-02-04/
LOCATION:School\, St. Johns\, MI 48879 United States\, St. Peter Lutheran School 8990 Church Rd.\, American Samoa
CATEGORIES:Church
END:VEVENT
BEGIN:VEVENT
DTSTART;TZID=America/Detroit:20240201T120000
DTEND;TZID=America/Detroit:20240201T140000
DTSTAMP:20260424T174118
CREATED:20231005T173339Z
LAST-MODIFIED:20231005T173339Z
UID:10000473-1706788800-1706796000@stpeterriley.org
SUMMARY:Ladies Aid
DESCRIPTION:
URL:https://stpeterriley.org/event/ladies-aid/2024-02-01/
LOCATION:School\, St. Johns\, MI 48879 United States\, St. Peter Lutheran School 8990 Church Rd.\, American Samoa
CATEGORIES:Church
END:VEVENT
BEGIN:VEVENT
DTSTART;TZID=America/Detroit:20240201T090000
DTEND;TZID=America/Detroit:20240201T120000
DTSTAMP:20260424T174118
CREATED:20230808T135515Z
LAST-MODIFIED:20231005T172928Z
UID:10000224-1706778000-1706788800@stpeterriley.org
SUMMARY:Quilting Meeting
DESCRIPTION:
URL:https://stpeterriley.org/event/quilting-meeting/2024-02-01/
LOCATION:School\, St. Johns\, MI 48879 United States\, St. Peter Lutheran School 8990 Church Rd.\, American Samoa
CATEGORIES:Church
END:VEVENT
BEGIN:VEVENT
DTSTART;TZID=America/Detroit:20240128T110000
DTEND;TZID=America/Detroit:20240128T120000
DTSTAMP:20260424T174118
CREATED:20231005T174949Z
LAST-MODIFIED:20231005T174949Z
UID:10001717-1706439600-1706443200@stpeterriley.org
SUMMARY:Bible Study
DESCRIPTION:
URL:https://stpeterriley.org/event/bible-study-2/2024-01-28/
LOCATION:School\, St. Johns\, MI 48879 United States\, St. Peter Lutheran School 8990 Church Rd.\, American Samoa
CATEGORIES:Church
END:VEVENT
BEGIN:VEVENT
DTSTART;TZID=America/Detroit:20240125T090000
DTEND;TZID=America/Detroit:20240125T120000
DTSTAMP:20260424T174118
CREATED:20230808T135515Z
LAST-MODIFIED:20231005T172928Z
UID:10000223-1706173200-1706184000@stpeterriley.org
SUMMARY:Quilting Meeting
DESCRIPTION:
URL:https://stpeterriley.org/event/quilting-meeting/2024-01-25/
LOCATION:School\, St. Johns\, MI 48879 United States\, St. Peter Lutheran School 8990 Church Rd.\, American Samoa
CATEGORIES:Church
END:VEVENT
BEGIN:VEVENT
DTSTART;TZID=America/Detroit:20240121T110000
DTEND;TZID=America/Detroit:20240121T120000
DTSTAMP:20260424T174118
CREATED:20231005T174949Z
LAST-MODIFIED:20231005T174949Z
UID:10001716-1705834800-1705838400@stpeterriley.org
SUMMARY:Bible Study
DESCRIPTION:
URL:https://stpeterriley.org/event/bible-study-2/2024-01-21/
LOCATION:School\, St. Johns\, MI 48879 United States\, St. Peter Lutheran School 8990 Church Rd.\, American Samoa
CATEGORIES:Church
END:VEVENT
BEGIN:VEVENT
DTSTART;TZID=America/Detroit:20240118T090000
DTEND;TZID=America/Detroit:20240118T120000
DTSTAMP:20260424T174118
CREATED:20230808T135515Z
LAST-MODIFIED:20231005T172928Z
UID:10000222-1705568400-1705579200@stpeterriley.org
SUMMARY:Quilting Meeting
DESCRIPTION:
URL:https://stpeterriley.org/event/quilting-meeting/2024-01-18/
LOCATION:School\, St. Johns\, MI 48879 United States\, St. Peter Lutheran School 8990 Church Rd.\, American Samoa
CATEGORIES:Church
END:VEVENT
BEGIN:VEVENT
DTSTART;TZID=America/Detroit:20240114T110000
DTEND;TZID=America/Detroit:20240114T120000
DTSTAMP:20260424T174118
CREATED:20231005T174949Z
LAST-MODIFIED:20231005T174949Z
UID:10001715-1705230000-1705233600@stpeterriley.org
SUMMARY:Bible Study
DESCRIPTION:
URL:https://stpeterriley.org/event/bible-study-2/2024-01-14/
LOCATION:School\, St. Johns\, MI 48879 United States\, St. Peter Lutheran School 8990 Church Rd.\, American Samoa
CATEGORIES:Church
END:VEVENT
BEGIN:VEVENT
DTSTART;TZID=America/Detroit:20240111T090000
DTEND;TZID=America/Detroit:20240111T120000
DTSTAMP:20260424T174118
CREATED:20230808T135515Z
LAST-MODIFIED:20231005T172928Z
UID:10000221-1704963600-1704974400@stpeterriley.org
SUMMARY:Quilting Meeting
DESCRIPTION:
URL:https://stpeterriley.org/event/quilting-meeting/2024-01-11/
LOCATION:School\, St. Johns\, MI 48879 United States\, St. Peter Lutheran School 8990 Church Rd.\, American Samoa
CATEGORIES:Church
END:VEVENT
BEGIN:VEVENT
DTSTART;TZID=America/Detroit:20240109T183000
DTEND;TZID=America/Detroit:20240109T200000
DTSTAMP:20260424T174118
CREATED:20230807T151821Z
LAST-MODIFIED:20231005T172658Z
UID:10000142-1704825000-1704830400@stpeterriley.org
SUMMARY:Council Meeting
DESCRIPTION:
URL:https://stpeterriley.org/event/council-meeting/2024-01-09/
LOCATION:School\, St. Johns\, MI 48879 United States\, St. Peter Lutheran School 8990 Church Rd.\, American Samoa
CATEGORIES:Church,School
END:VEVENT
BEGIN:VEVENT
DTSTART;TZID=America/Detroit:20240107T110000
DTEND;TZID=America/Detroit:20240107T120000
DTSTAMP:20260424T174118
CREATED:20231005T174949Z
LAST-MODIFIED:20231005T174949Z
UID:10001714-1704625200-1704628800@stpeterriley.org
SUMMARY:Bible Study
DESCRIPTION:
URL:https://stpeterriley.org/event/bible-study-2/2024-01-07/
LOCATION:School\, St. Johns\, MI 48879 United States\, St. Peter Lutheran School 8990 Church Rd.\, American Samoa
CATEGORIES:Church
END:VEVENT
BEGIN:VEVENT
DTSTART;TZID=America/Detroit:20240104T120000
DTEND;TZID=America/Detroit:20240104T140000
DTSTAMP:20260424T174118
CREATED:20231005T173339Z
LAST-MODIFIED:20231005T173339Z
UID:10000472-1704369600-1704376800@stpeterriley.org
SUMMARY:Ladies Aid
DESCRIPTION:
URL:https://stpeterriley.org/event/ladies-aid/2024-01-04/
LOCATION:School\, St. Johns\, MI 48879 United States\, St. Peter Lutheran School 8990 Church Rd.\, American Samoa
CATEGORIES:Church
END:VEVENT
BEGIN:VEVENT
DTSTART;TZID=America/Detroit:20240104T090000
DTEND;TZID=America/Detroit:20240104T120000
DTSTAMP:20260424T174118
CREATED:20230808T135515Z
LAST-MODIFIED:20231005T172928Z
UID:10000220-1704358800-1704369600@stpeterriley.org
SUMMARY:Quilting Meeting
DESCRIPTION:
URL:https://stpeterriley.org/event/quilting-meeting/2024-01-04/
LOCATION:School\, St. Johns\, MI 48879 United States\, St. Peter Lutheran School 8990 Church Rd.\, American Samoa
CATEGORIES:Church
END:VEVENT
BEGIN:VEVENT
DTSTART;TZID=America/Detroit:20240102T180000
DTEND;TZID=America/Detroit:20240102T200000
DTSTAMP:20260424T174118
CREATED:20230807T151538Z
LAST-MODIFIED:20231005T171530Z
UID:10000018-1704218400-1704225600@stpeterriley.org
SUMMARY:Elders Meeting
DESCRIPTION:
URL:https://stpeterriley.org/event/elders-meeting-2/2024-01-02/
LOCATION:School\, St. Johns\, MI 48879 United States\, St. Peter Lutheran School 8990 Church Rd.\, American Samoa
CATEGORIES:Church
END:VEVENT
BEGIN:VEVENT
DTSTART;TZID=UTC:20240101T183000
DTEND;TZID=UTC:20240101T200000
DTSTAMP:20260424T174118
CREATED:20221001T153511Z
LAST-MODIFIED:20260201T212944Z
UID:10003657-1704133800-1704139200@stpeterriley.org
SUMMARY:School Board Meeting
DESCRIPTION:
URL:https://stpeterriley.org/event/school-board-meeting/2024-01-01/
LOCATION:School\, St. Johns\, MI 48879 United States\, St. Peter Lutheran School 8990 Church Rd.\, American Samoa
CATEGORIES:Church,School
END:VEVENT
BEGIN:VEVENT
DTSTART;TZID=America/Detroit:20231231T110000
DTEND;TZID=America/Detroit:20231231T120000
DTSTAMP:20260424T174118
CREATED:20231005T174949Z
LAST-MODIFIED:20231005T174949Z
UID:10001713-1704020400-1704024000@stpeterriley.org
SUMMARY:Bible Study
DESCRIPTION:
URL:https://stpeterriley.org/event/bible-study-2/2023-12-31/
LOCATION:School\, St. Johns\, MI 48879 United States\, St. Peter Lutheran School 8990 Church Rd.\, American Samoa
CATEGORIES:Church
END:VEVENT
BEGIN:VEVENT
DTSTART;TZID=America/Detroit:20231228T090000
DTEND;TZID=America/Detroit:20231228T120000
DTSTAMP:20260424T174118
CREATED:20230808T135515Z
LAST-MODIFIED:20231005T172928Z
UID:10000219-1703754000-1703764800@stpeterriley.org
SUMMARY:Quilting Meeting
DESCRIPTION:
URL:https://stpeterriley.org/event/quilting-meeting/2023-12-28/
LOCATION:School\, St. Johns\, MI 48879 United States\, St. Peter Lutheran School 8990 Church Rd.\, American Samoa
CATEGORIES:Church
END:VEVENT
BEGIN:VEVENT
DTSTART;TZID=America/Detroit:20231224T110000
DTEND;TZID=America/Detroit:20231224T120000
DTSTAMP:20260424T174118
CREATED:20231005T174949Z
LAST-MODIFIED:20231005T174949Z
UID:10001712-1703415600-1703419200@stpeterriley.org
SUMMARY:Bible Study
DESCRIPTION:
URL:https://stpeterriley.org/event/bible-study-2/2023-12-24/
LOCATION:School\, St. Johns\, MI 48879 United States\, St. Peter Lutheran School 8990 Church Rd.\, American Samoa
CATEGORIES:Church
END:VEVENT
BEGIN:VEVENT
DTSTART;TZID=America/Detroit:20231221T090000
DTEND;TZID=America/Detroit:20231221T120000
DTSTAMP:20260424T174118
CREATED:20230808T135515Z
LAST-MODIFIED:20231005T172928Z
UID:10000218-1703149200-1703160000@stpeterriley.org
SUMMARY:Quilting Meeting
DESCRIPTION:
URL:https://stpeterriley.org/event/quilting-meeting/2023-12-21/
LOCATION:School\, St. Johns\, MI 48879 United States\, St. Peter Lutheran School 8990 Church Rd.\, American Samoa
CATEGORIES:Church
END:VEVENT
BEGIN:VEVENT
DTSTART;TZID=America/Detroit:20231217T110000
DTEND;TZID=America/Detroit:20231217T120000
DTSTAMP:20260424T174118
CREATED:20231005T174949Z
LAST-MODIFIED:20231005T174949Z
UID:10001711-1702810800-1702814400@stpeterriley.org
SUMMARY:Bible Study
DESCRIPTION:
URL:https://stpeterriley.org/event/bible-study-2/2023-12-17/
LOCATION:School\, St. Johns\, MI 48879 United States\, St. Peter Lutheran School 8990 Church Rd.\, American Samoa
CATEGORIES:Church
END:VEVENT
BEGIN:VEVENT
DTSTART;TZID=America/Detroit:20231214T090000
DTEND;TZID=America/Detroit:20231214T120000
DTSTAMP:20260424T174118
CREATED:20230808T135515Z
LAST-MODIFIED:20231005T172928Z
UID:10000217-1702544400-1702555200@stpeterriley.org
SUMMARY:Quilting Meeting
DESCRIPTION:
URL:https://stpeterriley.org/event/quilting-meeting/2023-12-14/
LOCATION:School\, St. Johns\, MI 48879 United States\, St. Peter Lutheran School 8990 Church Rd.\, American Samoa
CATEGORIES:Church
END:VEVENT
BEGIN:VEVENT
DTSTART;TZID=America/Detroit:20231212T183000
DTEND;TZID=America/Detroit:20231212T200000
DTSTAMP:20260424T174118
CREATED:20230807T151821Z
LAST-MODIFIED:20231005T172658Z
UID:10000141-1702405800-1702411200@stpeterriley.org
SUMMARY:Council Meeting
DESCRIPTION:
URL:https://stpeterriley.org/event/council-meeting/2023-12-12/
LOCATION:School\, St. Johns\, MI 48879 United States\, St. Peter Lutheran School 8990 Church Rd.\, American Samoa
CATEGORIES:Church,School
END:VEVENT
BEGIN:VEVENT
DTSTART;TZID=America/Detroit:20231210T110000
DTEND;TZID=America/Detroit:20231210T120000
DTSTAMP:20260424T174118
CREATED:20231005T174949Z
LAST-MODIFIED:20231005T174949Z
UID:10001710-1702206000-1702209600@stpeterriley.org
SUMMARY:Bible Study
DESCRIPTION:
URL:https://stpeterriley.org/event/bible-study-2/2023-12-10/
LOCATION:School\, St. Johns\, MI 48879 United States\, St. Peter Lutheran School 8990 Church Rd.\, American Samoa
CATEGORIES:Church
END:VEVENT
BEGIN:VEVENT
DTSTART;TZID=America/Detroit:20231207T120000
DTEND;TZID=America/Detroit:20231207T140000
DTSTAMP:20260424T174118
CREATED:20231005T173339Z
LAST-MODIFIED:20231005T173339Z
UID:10000471-1701950400-1701957600@stpeterriley.org
SUMMARY:Ladies Aid
DESCRIPTION:
URL:https://stpeterriley.org/event/ladies-aid/2023-12-07/
LOCATION:School\, St. Johns\, MI 48879 United States\, St. Peter Lutheran School 8990 Church Rd.\, American Samoa
CATEGORIES:Church
END:VEVENT
BEGIN:VEVENT
DTSTART;TZID=America/Detroit:20231207T090000
DTEND;TZID=America/Detroit:20231207T120000
DTSTAMP:20260424T174118
CREATED:20230808T135515Z
LAST-MODIFIED:20231005T172928Z
UID:10000216-1701939600-1701950400@stpeterriley.org
SUMMARY:Quilting Meeting
DESCRIPTION:
URL:https://stpeterriley.org/event/quilting-meeting/2023-12-07/
LOCATION:School\, St. Johns\, MI 48879 United States\, St. Peter Lutheran School 8990 Church Rd.\, American Samoa
CATEGORIES:Church
END:VEVENT
BEGIN:VEVENT
DTSTART;TZID=America/Detroit:20231205T180000
DTEND;TZID=America/Detroit:20231205T200000
DTSTAMP:20260424T174118
CREATED:20230807T151538Z
LAST-MODIFIED:20231005T171530Z
UID:10000017-1701799200-1701806400@stpeterriley.org
SUMMARY:Elders Meeting
DESCRIPTION:
URL:https://stpeterriley.org/event/elders-meeting-2/2023-12-05/
LOCATION:School\, St. Johns\, MI 48879 United States\, St. Peter Lutheran School 8990 Church Rd.\, American Samoa
CATEGORIES:Church
END:VEVENT
END:VCALENDAR