BEGIN:VCALENDAR
VERSION:2.0
PRODID:-//St. Peter Lutheran Church and School - ECPv6.15.20//NONSGML v1.0//EN
CALSCALE:GREGORIAN
METHOD:PUBLISH
X-WR-CALNAME:St. Peter Lutheran Church and School
X-ORIGINAL-URL:https://stpeterriley.org
X-WR-CALDESC:Events for St. Peter Lutheran Church and School
REFRESH-INTERVAL;VALUE=DURATION:PT1H
X-Robots-Tag:noindex
X-PUBLISHED-TTL:PT1H
BEGIN:VTIMEZONE
TZID:America/Detroit
BEGIN:DAYLIGHT
TZOFFSETFROM:-0500
TZOFFSETTO:-0400
TZNAME:EDT
DTSTART:20250309T070000
END:DAYLIGHT
BEGIN:STANDARD
TZOFFSETFROM:-0400
TZOFFSETTO:-0500
TZNAME:EST
DTSTART:20251102T060000
END:STANDARD
BEGIN:DAYLIGHT
TZOFFSETFROM:-0500
TZOFFSETTO:-0400
TZNAME:EDT
DTSTART:20260308T070000
END:DAYLIGHT
BEGIN:STANDARD
TZOFFSETFROM:-0400
TZOFFSETTO:-0500
TZNAME:EST
DTSTART:20261101T060000
END:STANDARD
BEGIN:DAYLIGHT
TZOFFSETFROM:-0500
TZOFFSETTO:-0400
TZNAME:EDT
DTSTART:20270314T070000
END:DAYLIGHT
BEGIN:STANDARD
TZOFFSETFROM:-0400
TZOFFSETTO:-0500
TZNAME:EST
DTSTART:20271107T060000
END:STANDARD
END:VTIMEZONE
BEGIN:VTIMEZONE
TZID:UTC
BEGIN:STANDARD
TZOFFSETFROM:+0000
TZOFFSETTO:+0000
TZNAME:UTC
DTSTART:20250101T000000
END:STANDARD
END:VTIMEZONE
BEGIN:VEVENT
DTSTART;TZID=America/Detroit:20260301T110000
DTEND;TZID=America/Detroit:20260301T120000
DTSTAMP:20260421T105645
CREATED:20231005T174949Z
LAST-MODIFIED:20231005T174949Z
UID:10001826-1772362800-1772366400@stpeterriley.org
SUMMARY:Bible Study
DESCRIPTION:
URL:https://stpeterriley.org/event/bible-study-2/2026-03-01/
LOCATION:School\, St. Johns\, MI 48879 United States\, St. Peter Lutheran School 8990 Church Rd.\, American Samoa
CATEGORIES:Church
END:VEVENT
BEGIN:VEVENT
DTSTART;TZID=America/Detroit:20260226T090000
DTEND;TZID=America/Detroit:20260226T120000
DTSTAMP:20260421T105645
CREATED:20230808T135515Z
LAST-MODIFIED:20231005T172928Z
UID:10000332-1772096400-1772107200@stpeterriley.org
SUMMARY:Quilting Meeting
DESCRIPTION:
URL:https://stpeterriley.org/event/quilting-meeting/2026-02-26/
LOCATION:School\, St. Johns\, MI 48879 United States\, St. Peter Lutheran School 8990 Church Rd.\, American Samoa
CATEGORIES:Church
END:VEVENT
BEGIN:VEVENT
DTSTART;TZID=America/Detroit:20260222T110000
DTEND;TZID=America/Detroit:20260222T120000
DTSTAMP:20260421T105645
CREATED:20231005T174949Z
LAST-MODIFIED:20231005T174949Z
UID:10001825-1771758000-1771761600@stpeterriley.org
SUMMARY:Bible Study
DESCRIPTION:
URL:https://stpeterriley.org/event/bible-study-2/2026-02-22/
LOCATION:School\, St. Johns\, MI 48879 United States\, St. Peter Lutheran School 8990 Church Rd.\, American Samoa
CATEGORIES:Church
END:VEVENT
BEGIN:VEVENT
DTSTART;TZID=America/Detroit:20260219T090000
DTEND;TZID=America/Detroit:20260219T120000
DTSTAMP:20260421T105645
CREATED:20230808T135515Z
LAST-MODIFIED:20231005T172928Z
UID:10000331-1771491600-1771502400@stpeterriley.org
SUMMARY:Quilting Meeting
DESCRIPTION:
URL:https://stpeterriley.org/event/quilting-meeting/2026-02-19/
LOCATION:School\, St. Johns\, MI 48879 United States\, St. Peter Lutheran School 8990 Church Rd.\, American Samoa
CATEGORIES:Church
END:VEVENT
BEGIN:VEVENT
DTSTART;TZID=America/Detroit:20260215T110000
DTEND;TZID=America/Detroit:20260215T120000
DTSTAMP:20260421T105645
CREATED:20231005T174949Z
LAST-MODIFIED:20231005T174949Z
UID:10001824-1771153200-1771156800@stpeterriley.org
SUMMARY:Bible Study
DESCRIPTION:
URL:https://stpeterriley.org/event/bible-study-2/2026-02-15/
LOCATION:School\, St. Johns\, MI 48879 United States\, St. Peter Lutheran School 8990 Church Rd.\, American Samoa
CATEGORIES:Church
END:VEVENT
BEGIN:VEVENT
DTSTART;TZID=America/Detroit:20260212T090000
DTEND;TZID=America/Detroit:20260212T120000
DTSTAMP:20260421T105645
CREATED:20230808T135515Z
LAST-MODIFIED:20231005T172928Z
UID:10000330-1770886800-1770897600@stpeterriley.org
SUMMARY:Quilting Meeting
DESCRIPTION:
URL:https://stpeterriley.org/event/quilting-meeting/2026-02-12/
LOCATION:School\, St. Johns\, MI 48879 United States\, St. Peter Lutheran School 8990 Church Rd.\, American Samoa
CATEGORIES:Church
END:VEVENT
BEGIN:VEVENT
DTSTART;TZID=America/Detroit:20260211T180000
DTEND;TZID=America/Detroit:20260211T190000
DTSTAMP:20260421T105645
CREATED:20260201T213429Z
LAST-MODIFIED:20260201T213527Z
UID:10003684-1770832800-1770836400@stpeterriley.org
SUMMARY:Bible Study
DESCRIPTION:
URL:https://stpeterriley.org/event/bible-study-4-2-2-2/2026-02-11/
LOCATION:School\, St. Johns\, MI 48879 United States\, St. Peter Lutheran School 8990 Church Rd.\, American Samoa
CATEGORIES:Church
END:VEVENT
BEGIN:VEVENT
DTSTART;TZID=America/Detroit:20260210T183000
DTEND;TZID=America/Detroit:20260210T200000
DTSTAMP:20260421T105645
CREATED:20230807T151821Z
LAST-MODIFIED:20231005T172658Z
UID:10000167-1770748200-1770753600@stpeterriley.org
SUMMARY:Council Meeting
DESCRIPTION:
URL:https://stpeterriley.org/event/council-meeting/2026-02-10/
LOCATION:School\, St. Johns\, MI 48879 United States\, St. Peter Lutheran School 8990 Church Rd.\, American Samoa
CATEGORIES:Church,School
END:VEVENT
BEGIN:VEVENT
DTSTART;TZID=America/Detroit:20260209T183000
DTEND;TZID=America/Detroit:20260209T200000
DTSTAMP:20260421T105645
CREATED:20260201T213100Z
LAST-MODIFIED:20260201T213100Z
UID:10003683-1770661800-1770667200@stpeterriley.org
SUMMARY:School Board (Rescheduled)
DESCRIPTION:
URL:https://stpeterriley.org/event/school-board-rescheduled/
LOCATION:School\, St. Johns\, MI 48879 United States\, St. Peter Lutheran School 8990 Church Rd.\, American Samoa
CATEGORIES:Church
END:VEVENT
BEGIN:VEVENT
DTSTART;TZID=America/Detroit:20260208T120000
DTEND;TZID=America/Detroit:20260208T140000
DTSTAMP:20260421T105645
CREATED:20240203T160630Z
LAST-MODIFIED:20260117T144731Z
UID:10002519-1770552000-1770559200@stpeterriley.org
SUMMARY:Chili & Cornbread Cook-Off
DESCRIPTION:
URL:https://stpeterriley.org/event/chili-cook-off/
LOCATION:School\, St. Johns\, MI 48879 United States\, St. Peter Lutheran School 8990 Church Rd.\, American Samoa
CATEGORIES:Church
END:VEVENT
BEGIN:VEVENT
DTSTART;TZID=America/Detroit:20260208T110000
DTEND;TZID=America/Detroit:20260208T120000
DTSTAMP:20260421T105645
CREATED:20231005T174949Z
LAST-MODIFIED:20231005T174949Z
UID:10001823-1770548400-1770552000@stpeterriley.org
SUMMARY:Bible Study
DESCRIPTION:
URL:https://stpeterriley.org/event/bible-study-2/2026-02-08/
LOCATION:School\, St. Johns\, MI 48879 United States\, St. Peter Lutheran School 8990 Church Rd.\, American Samoa
CATEGORIES:Church
END:VEVENT
BEGIN:VEVENT
DTSTART;TZID=America/Detroit:20260205T120000
DTEND;TZID=America/Detroit:20260205T140000
DTSTAMP:20260421T105645
CREATED:20231005T173339Z
LAST-MODIFIED:20231005T173339Z
UID:10000497-1770292800-1770300000@stpeterriley.org
SUMMARY:Ladies Aid
DESCRIPTION:
URL:https://stpeterriley.org/event/ladies-aid/2026-02-05/
LOCATION:School\, St. Johns\, MI 48879 United States\, St. Peter Lutheran School 8990 Church Rd.\, American Samoa
CATEGORIES:Church
END:VEVENT
BEGIN:VEVENT
DTSTART;TZID=America/Detroit:20260205T090000
DTEND;TZID=America/Detroit:20260205T120000
DTSTAMP:20260421T105645
CREATED:20230808T135515Z
LAST-MODIFIED:20231005T172928Z
UID:10000329-1770282000-1770292800@stpeterriley.org
SUMMARY:Quilting Meeting
DESCRIPTION:
URL:https://stpeterriley.org/event/quilting-meeting/2026-02-05/
LOCATION:School\, St. Johns\, MI 48879 United States\, St. Peter Lutheran School 8990 Church Rd.\, American Samoa
CATEGORIES:Church
END:VEVENT
BEGIN:VEVENT
DTSTART;TZID=America/Detroit:20260204T180000
DTEND;TZID=America/Detroit:20260204T190000
DTSTAMP:20260421T105645
CREATED:20260201T213429Z
LAST-MODIFIED:20260201T213527Z
UID:10003250-1770228000-1770231600@stpeterriley.org
SUMMARY:Bible Study
DESCRIPTION:
URL:https://stpeterriley.org/event/bible-study-4-2-2-2/2026-02-04/
LOCATION:School\, St. Johns\, MI 48879 United States\, St. Peter Lutheran School 8990 Church Rd.\, American Samoa
CATEGORIES:Church
END:VEVENT
BEGIN:VEVENT
DTSTART;TZID=America/Detroit:20260203T180000
DTEND;TZID=America/Detroit:20260203T200000
DTSTAMP:20260421T105645
CREATED:20230807T151538Z
LAST-MODIFIED:20231005T171530Z
UID:10000043-1770141600-1770148800@stpeterriley.org
SUMMARY:Elders Meeting
DESCRIPTION:
URL:https://stpeterriley.org/event/elders-meeting-2/2026-02-03/
LOCATION:School\, St. Johns\, MI 48879 United States\, St. Peter Lutheran School 8990 Church Rd.\, American Samoa
CATEGORIES:Church
END:VEVENT
BEGIN:VEVENT
DTSTART;TZID=America/Detroit:20260201T110000
DTEND;TZID=America/Detroit:20260201T120000
DTSTAMP:20260421T105645
CREATED:20231005T174949Z
LAST-MODIFIED:20231005T174949Z
UID:10001822-1769943600-1769947200@stpeterriley.org
SUMMARY:Bible Study
DESCRIPTION:
URL:https://stpeterriley.org/event/bible-study-2/2026-02-01/
LOCATION:School\, St. Johns\, MI 48879 United States\, St. Peter Lutheran School 8990 Church Rd.\, American Samoa
CATEGORIES:Church
END:VEVENT
BEGIN:VEVENT
DTSTART;TZID=America/Detroit:20260130T180000
DTEND;TZID=America/Detroit:20260130T200000
DTSTAMP:20260421T105645
CREATED:20250118T224112Z
LAST-MODIFIED:20251220T160249Z
UID:10003246-1769796000-1769803200@stpeterriley.org
SUMMARY:Jubilee Carnival
DESCRIPTION:Jubilee Carnival Details
URL:https://stpeterriley.org/event/jubilee-carnival/
LOCATION:School\, St. Johns\, MI 48879 United States\, St. Peter Lutheran School 8990 Church Rd.\, American Samoa
CATEGORIES:Church
END:VEVENT
BEGIN:VEVENT
DTSTART;TZID=America/Detroit:20260129T090000
DTEND;TZID=America/Detroit:20260129T120000
DTSTAMP:20260421T105645
CREATED:20230808T135515Z
LAST-MODIFIED:20231005T172928Z
UID:10000328-1769677200-1769688000@stpeterriley.org
SUMMARY:Quilting Meeting
DESCRIPTION:
URL:https://stpeterriley.org/event/quilting-meeting/2026-01-29/
LOCATION:School\, St. Johns\, MI 48879 United States\, St. Peter Lutheran School 8990 Church Rd.\, American Samoa
CATEGORIES:Church
END:VEVENT
BEGIN:VEVENT
DTSTART;TZID=America/Detroit:20260125T110000
DTEND;TZID=America/Detroit:20260125T120000
DTSTAMP:20260421T105645
CREATED:20231005T174949Z
LAST-MODIFIED:20231005T174949Z
UID:10001821-1769338800-1769342400@stpeterriley.org
SUMMARY:Bible Study
DESCRIPTION:
URL:https://stpeterriley.org/event/bible-study-2/2026-01-25/
LOCATION:School\, St. Johns\, MI 48879 United States\, St. Peter Lutheran School 8990 Church Rd.\, American Samoa
CATEGORIES:Church
END:VEVENT
BEGIN:VEVENT
DTSTART;TZID=America/Detroit:20260122T090000
DTEND;TZID=America/Detroit:20260122T120000
DTSTAMP:20260421T105645
CREATED:20230808T135515Z
LAST-MODIFIED:20231005T172928Z
UID:10000327-1769072400-1769083200@stpeterriley.org
SUMMARY:Quilting Meeting
DESCRIPTION:
URL:https://stpeterriley.org/event/quilting-meeting/2026-01-22/
LOCATION:School\, St. Johns\, MI 48879 United States\, St. Peter Lutheran School 8990 Church Rd.\, American Samoa
CATEGORIES:Church
END:VEVENT
BEGIN:VEVENT
DTSTART;TZID=America/Detroit:20260120T190000
DTEND;TZID=America/Detroit:20260120T200000
DTSTAMP:20260421T105645
CREATED:20230808T140314Z
LAST-MODIFIED:20251220T154658Z
UID:10000014-1768935600-1768939200@stpeterriley.org
SUMMARY:4-H Meeting
DESCRIPTION:
URL:https://stpeterriley.org/event/4-h-meeting/
LOCATION:School\, St. Johns\, MI 48879 United States\, St. Peter Lutheran School 8990 Church Rd.\, American Samoa
CATEGORIES:Church
END:VEVENT
BEGIN:VEVENT
DTSTART;TZID=America/Detroit:20260120T183000
DTEND;TZID=America/Detroit:20260120T200000
DTSTAMP:20260421T105645
CREATED:20230808T140049Z
LAST-MODIFIED:20251220T154822Z
UID:10000013-1768933800-1768939200@stpeterriley.org
SUMMARY:PTL Meeting
DESCRIPTION:
URL:https://stpeterriley.org/event/ptl-meeting/
LOCATION:School\, St. Johns\, MI 48879 United States\, St. Peter Lutheran School 8990 Church Rd.\, American Samoa
CATEGORIES:Church
END:VEVENT
BEGIN:VEVENT
DTSTART;TZID=America/Detroit:20260118T110000
DTEND;TZID=America/Detroit:20260118T120000
DTSTAMP:20260421T105645
CREATED:20231005T174949Z
LAST-MODIFIED:20231005T174949Z
UID:10001820-1768734000-1768737600@stpeterriley.org
SUMMARY:Bible Study
DESCRIPTION:
URL:https://stpeterriley.org/event/bible-study-2/2026-01-18/
LOCATION:School\, St. Johns\, MI 48879 United States\, St. Peter Lutheran School 8990 Church Rd.\, American Samoa
CATEGORIES:Church
END:VEVENT
BEGIN:VEVENT
DTSTART;TZID=America/Detroit:20260115T090000
DTEND;TZID=America/Detroit:20260115T120000
DTSTAMP:20260421T105645
CREATED:20230808T135515Z
LAST-MODIFIED:20231005T172928Z
UID:10000326-1768467600-1768478400@stpeterriley.org
SUMMARY:Quilting Meeting
DESCRIPTION:
URL:https://stpeterriley.org/event/quilting-meeting/2026-01-15/
LOCATION:School\, St. Johns\, MI 48879 United States\, St. Peter Lutheran School 8990 Church Rd.\, American Samoa
CATEGORIES:Church
END:VEVENT
BEGIN:VEVENT
DTSTART;TZID=America/Detroit:20260113T183000
DTEND;TZID=America/Detroit:20260113T200000
DTSTAMP:20260421T105645
CREATED:20230807T151821Z
LAST-MODIFIED:20231005T172658Z
UID:10000166-1768329000-1768334400@stpeterriley.org
SUMMARY:Council Meeting
DESCRIPTION:
URL:https://stpeterriley.org/event/council-meeting/2026-01-13/
LOCATION:School\, St. Johns\, MI 48879 United States\, St. Peter Lutheran School 8990 Church Rd.\, American Samoa
CATEGORIES:Church,School
END:VEVENT
BEGIN:VEVENT
DTSTART;TZID=UTC:20260112T180000
DTEND;TZID=UTC:20260112T200000
DTSTAMP:20260421T105645
CREATED:20221003T150129Z
LAST-MODIFIED:20251220T154449Z
UID:10000004-1768240800-1768248000@stpeterriley.org
SUMMARY:Elders Meeting
DESCRIPTION:
URL:https://stpeterriley.org/event/elders-meeting/
LOCATION:School\, St. Johns\, MI 48879 United States\, St. Peter Lutheran School 8990 Church Rd.\, American Samoa
CATEGORIES:Church
END:VEVENT
BEGIN:VEVENT
DTSTART;TZID=America/Detroit:20260111T110000
DTEND;TZID=America/Detroit:20260111T120000
DTSTAMP:20260421T105645
CREATED:20231005T174949Z
LAST-MODIFIED:20231005T174949Z
UID:10001819-1768129200-1768132800@stpeterriley.org
SUMMARY:Bible Study
DESCRIPTION:
URL:https://stpeterriley.org/event/bible-study-2/2026-01-11/
LOCATION:School\, St. Johns\, MI 48879 United States\, St. Peter Lutheran School 8990 Church Rd.\, American Samoa
CATEGORIES:Church
END:VEVENT
BEGIN:VEVENT
DTSTART;TZID=America/Detroit:20260108T090000
DTEND;TZID=America/Detroit:20260108T120000
DTSTAMP:20260421T105645
CREATED:20230808T135515Z
LAST-MODIFIED:20231005T172928Z
UID:10000325-1767862800-1767873600@stpeterriley.org
SUMMARY:Quilting Meeting
DESCRIPTION:
URL:https://stpeterriley.org/event/quilting-meeting/2026-01-08/
LOCATION:School\, St. Johns\, MI 48879 United States\, St. Peter Lutheran School 8990 Church Rd.\, American Samoa
CATEGORIES:Church
END:VEVENT
BEGIN:VEVENT
DTSTART;TZID=America/Detroit:20260106T180000
DTEND;TZID=America/Detroit:20260106T200000
DTSTAMP:20260421T105645
CREATED:20230807T151538Z
LAST-MODIFIED:20231005T171530Z
UID:10000042-1767722400-1767729600@stpeterriley.org
SUMMARY:Elders Meeting
DESCRIPTION:
URL:https://stpeterriley.org/event/elders-meeting-2/2026-01-06/
LOCATION:School\, St. Johns\, MI 48879 United States\, St. Peter Lutheran School 8990 Church Rd.\, American Samoa
CATEGORIES:Church
END:VEVENT
BEGIN:VEVENT
DTSTART;TZID=UTC:20260105T183000
DTEND;TZID=UTC:20260105T200000
DTSTAMP:20260421T105645
CREATED:20221001T153511Z
LAST-MODIFIED:20260201T212944Z
UID:10000104-1767637800-1767643200@stpeterriley.org
SUMMARY:School Board Meeting
DESCRIPTION:
URL:https://stpeterriley.org/event/school-board-meeting/2026-01-05/
LOCATION:School\, St. Johns\, MI 48879 United States\, St. Peter Lutheran School 8990 Church Rd.\, American Samoa
CATEGORIES:Church,School
END:VEVENT
END:VCALENDAR