BEGIN:VCALENDAR
VERSION:2.0
PRODID:-//St. Peter Lutheran Church and School - ECPv6.15.20//NONSGML v1.0//EN
CALSCALE:GREGORIAN
METHOD:PUBLISH
X-WR-CALNAME:St. Peter Lutheran Church and School
X-ORIGINAL-URL:https://stpeterriley.org
X-WR-CALDESC:Events for St. Peter Lutheran Church and School
REFRESH-INTERVAL;VALUE=DURATION:PT1H
X-Robots-Tag:noindex
X-PUBLISHED-TTL:PT1H
BEGIN:VTIMEZONE
TZID:America/Detroit
BEGIN:DAYLIGHT
TZOFFSETFROM:-0500
TZOFFSETTO:-0400
TZNAME:EDT
DTSTART:20230312T070000
END:DAYLIGHT
BEGIN:STANDARD
TZOFFSETFROM:-0400
TZOFFSETTO:-0500
TZNAME:EST
DTSTART:20231105T060000
END:STANDARD
BEGIN:DAYLIGHT
TZOFFSETFROM:-0500
TZOFFSETTO:-0400
TZNAME:EDT
DTSTART:20240310T070000
END:DAYLIGHT
BEGIN:STANDARD
TZOFFSETFROM:-0400
TZOFFSETTO:-0500
TZNAME:EST
DTSTART:20241103T060000
END:STANDARD
BEGIN:DAYLIGHT
TZOFFSETFROM:-0500
TZOFFSETTO:-0400
TZNAME:EDT
DTSTART:20250309T070000
END:DAYLIGHT
BEGIN:STANDARD
TZOFFSETFROM:-0400
TZOFFSETTO:-0500
TZNAME:EST
DTSTART:20251102T060000
END:STANDARD
END:VTIMEZONE
BEGIN:VTIMEZONE
TZID:UTC
BEGIN:STANDARD
TZOFFSETFROM:+0000
TZOFFSETTO:+0000
TZNAME:UTC
DTSTART:20230101T000000
END:STANDARD
END:VTIMEZONE
BEGIN:VEVENT
DTSTART;TZID=America/Detroit:20240516T090000
DTEND;TZID=America/Detroit:20240516T120000
DTSTAMP:20260424T112530
CREATED:20230808T135515Z
LAST-MODIFIED:20231005T172928Z
UID:10000239-1715850000-1715860800@stpeterriley.org
SUMMARY:Quilting Meeting
DESCRIPTION:
URL:https://stpeterriley.org/event/quilting-meeting/2024-05-16/
LOCATION:School\, St. Johns\, MI 48879 United States\, St. Peter Lutheran School 8990 Church Rd.\, American Samoa
CATEGORIES:Church
END:VEVENT
BEGIN:VEVENT
DTSTART;TZID=America/Detroit:20240515T180000
DTEND;TZID=America/Detroit:20240515T190000
DTSTAMP:20260424T112530
CREATED:20240412T215828Z
LAST-MODIFIED:20240412T220001Z
UID:10002542-1715796000-1715799600@stpeterriley.org
SUMMARY:Bible Study
DESCRIPTION:
URL:https://stpeterriley.org/event/bible-study-4/2024-05-15/
LOCATION:School\, St. Johns\, MI 48879 United States\, St. Peter Lutheran School 8990 Church Rd.\, American Samoa
CATEGORIES:Church
END:VEVENT
BEGIN:VEVENT
DTSTART;TZID=America/Detroit:20240514T183000
DTEND;TZID=America/Detroit:20240514T200000
DTSTAMP:20260424T112530
CREATED:20230807T151821Z
LAST-MODIFIED:20231005T172658Z
UID:10000146-1715711400-1715716800@stpeterriley.org
SUMMARY:Council Meeting
DESCRIPTION:
URL:https://stpeterriley.org/event/council-meeting/2024-05-14/
LOCATION:School\, St. Johns\, MI 48879 United States\, St. Peter Lutheran School 8990 Church Rd.\, American Samoa
CATEGORIES:Church,School
END:VEVENT
BEGIN:VEVENT
DTSTART;TZID=America/Detroit:20240512T110000
DTEND;TZID=America/Detroit:20240512T120000
DTSTAMP:20260424T112530
CREATED:20231005T174949Z
LAST-MODIFIED:20231005T174949Z
UID:10001732-1715511600-1715515200@stpeterriley.org
SUMMARY:Bible Study
DESCRIPTION:
URL:https://stpeterriley.org/event/bible-study-2/2024-05-12/
LOCATION:School\, St. Johns\, MI 48879 United States\, St. Peter Lutheran School 8990 Church Rd.\, American Samoa
CATEGORIES:Church
END:VEVENT
BEGIN:VEVENT
DTSTART;TZID=America/Detroit:20240509T090000
DTEND;TZID=America/Detroit:20240509T120000
DTSTAMP:20260424T112530
CREATED:20230808T135515Z
LAST-MODIFIED:20231005T172928Z
UID:10000238-1715245200-1715256000@stpeterriley.org
SUMMARY:Quilting Meeting
DESCRIPTION:
URL:https://stpeterriley.org/event/quilting-meeting/2024-05-09/
LOCATION:School\, St. Johns\, MI 48879 United States\, St. Peter Lutheran School 8990 Church Rd.\, American Samoa
CATEGORIES:Church
END:VEVENT
BEGIN:VEVENT
DTSTART;TZID=America/Detroit:20240508T180000
DTEND;TZID=America/Detroit:20240508T190000
DTSTAMP:20260424T112530
CREATED:20240412T215828Z
LAST-MODIFIED:20240412T220001Z
UID:10002541-1715191200-1715194800@stpeterriley.org
SUMMARY:Bible Study
DESCRIPTION:
URL:https://stpeterriley.org/event/bible-study-4/2024-05-08/
LOCATION:School\, St. Johns\, MI 48879 United States\, St. Peter Lutheran School 8990 Church Rd.\, American Samoa
CATEGORIES:Church
END:VEVENT
BEGIN:VEVENT
DTSTART;TZID=America/Detroit:20240507T180000
DTEND;TZID=America/Detroit:20240507T200000
DTSTAMP:20260424T112530
CREATED:20230807T151538Z
LAST-MODIFIED:20231005T171530Z
UID:10000022-1715104800-1715112000@stpeterriley.org
SUMMARY:Elders Meeting
DESCRIPTION:
URL:https://stpeterriley.org/event/elders-meeting-2/2024-05-07/
LOCATION:School\, St. Johns\, MI 48879 United States\, St. Peter Lutheran School 8990 Church Rd.\, American Samoa
CATEGORIES:Church
END:VEVENT
BEGIN:VEVENT
DTSTART;TZID=UTC:20240506T183000
DTEND;TZID=UTC:20240506T200000
DTSTAMP:20260424T112530
CREATED:20221001T153511Z
LAST-MODIFIED:20260201T212944Z
UID:10000084-1715020200-1715025600@stpeterriley.org
SUMMARY:School Board Meeting
DESCRIPTION:
URL:https://stpeterriley.org/event/school-board-meeting/2024-05-06/
LOCATION:School\, St. Johns\, MI 48879 United States\, St. Peter Lutheran School 8990 Church Rd.\, American Samoa
CATEGORIES:Church,School
END:VEVENT
BEGIN:VEVENT
DTSTART;TZID=America/Detroit:20240505T110000
DTEND;TZID=America/Detroit:20240505T120000
DTSTAMP:20260424T112530
CREATED:20231005T174949Z
LAST-MODIFIED:20231005T174949Z
UID:10001731-1714906800-1714910400@stpeterriley.org
SUMMARY:Bible Study
DESCRIPTION:
URL:https://stpeterriley.org/event/bible-study-2/2024-05-05/
LOCATION:School\, St. Johns\, MI 48879 United States\, St. Peter Lutheran School 8990 Church Rd.\, American Samoa
CATEGORIES:Church
END:VEVENT
BEGIN:VEVENT
DTSTART;TZID=America/Detroit:20240502T120000
DTEND;TZID=America/Detroit:20240502T140000
DTSTAMP:20260424T112530
CREATED:20231005T173339Z
LAST-MODIFIED:20231005T173339Z
UID:10000476-1714651200-1714658400@stpeterriley.org
SUMMARY:Ladies Aid
DESCRIPTION:
URL:https://stpeterriley.org/event/ladies-aid/2024-05-02/
LOCATION:School\, St. Johns\, MI 48879 United States\, St. Peter Lutheran School 8990 Church Rd.\, American Samoa
CATEGORIES:Church
END:VEVENT
BEGIN:VEVENT
DTSTART;TZID=America/Detroit:20240502T090000
DTEND;TZID=America/Detroit:20240502T120000
DTSTAMP:20260424T112530
CREATED:20230808T135515Z
LAST-MODIFIED:20231005T172928Z
UID:10000237-1714640400-1714651200@stpeterriley.org
SUMMARY:Quilting Meeting
DESCRIPTION:
URL:https://stpeterriley.org/event/quilting-meeting/2024-05-02/
LOCATION:School\, St. Johns\, MI 48879 United States\, St. Peter Lutheran School 8990 Church Rd.\, American Samoa
CATEGORIES:Church
END:VEVENT
BEGIN:VEVENT
DTSTART;TZID=America/Detroit:20240501T180000
DTEND;TZID=America/Detroit:20240501T190000
DTSTAMP:20260424T112530
CREATED:20240412T215828Z
LAST-MODIFIED:20240412T220001Z
UID:10002540-1714586400-1714590000@stpeterriley.org
SUMMARY:Bible Study
DESCRIPTION:
URL:https://stpeterriley.org/event/bible-study-4/2024-05-01/
LOCATION:School\, St. Johns\, MI 48879 United States\, St. Peter Lutheran School 8990 Church Rd.\, American Samoa
CATEGORIES:Church
END:VEVENT
BEGIN:VEVENT
DTSTART;TZID=America/Detroit:20240428T110000
DTEND;TZID=America/Detroit:20240428T120000
DTSTAMP:20260424T112530
CREATED:20231005T174949Z
LAST-MODIFIED:20231005T174949Z
UID:10001730-1714302000-1714305600@stpeterriley.org
SUMMARY:Bible Study
DESCRIPTION:
URL:https://stpeterriley.org/event/bible-study-2/2024-04-28/
LOCATION:School\, St. Johns\, MI 48879 United States\, St. Peter Lutheran School 8990 Church Rd.\, American Samoa
CATEGORIES:Church
END:VEVENT
BEGIN:VEVENT
DTSTART;TZID=America/Detroit:20240425T090000
DTEND;TZID=America/Detroit:20240425T120000
DTSTAMP:20260424T112530
CREATED:20230808T135515Z
LAST-MODIFIED:20231005T172928Z
UID:10000236-1714035600-1714046400@stpeterriley.org
SUMMARY:Quilting Meeting
DESCRIPTION:
URL:https://stpeterriley.org/event/quilting-meeting/2024-04-25/
LOCATION:School\, St. Johns\, MI 48879 United States\, St. Peter Lutheran School 8990 Church Rd.\, American Samoa
CATEGORIES:Church
END:VEVENT
BEGIN:VEVENT
DTSTART;TZID=America/Detroit:20240424T180000
DTEND;TZID=America/Detroit:20240424T190000
DTSTAMP:20260424T112530
CREATED:20240412T215828Z
LAST-MODIFIED:20240412T220001Z
UID:10002539-1713981600-1713985200@stpeterriley.org
SUMMARY:Bible Study
DESCRIPTION:
URL:https://stpeterriley.org/event/bible-study-4/2024-04-24/
LOCATION:School\, St. Johns\, MI 48879 United States\, St. Peter Lutheran School 8990 Church Rd.\, American Samoa
CATEGORIES:Church
END:VEVENT
BEGIN:VEVENT
DTSTART;TZID=America/Detroit:20240421T110000
DTEND;TZID=America/Detroit:20240421T120000
DTSTAMP:20260424T112530
CREATED:20231005T174949Z
LAST-MODIFIED:20231005T174949Z
UID:10001729-1713697200-1713700800@stpeterriley.org
SUMMARY:Bible Study
DESCRIPTION:
URL:https://stpeterriley.org/event/bible-study-2/2024-04-21/
LOCATION:School\, St. Johns\, MI 48879 United States\, St. Peter Lutheran School 8990 Church Rd.\, American Samoa
CATEGORIES:Church
END:VEVENT
BEGIN:VEVENT
DTSTART;TZID=America/Detroit:20240418T090000
DTEND;TZID=America/Detroit:20240418T120000
DTSTAMP:20260424T112530
CREATED:20230808T135515Z
LAST-MODIFIED:20231005T172928Z
UID:10000235-1713430800-1713441600@stpeterriley.org
SUMMARY:Quilting Meeting
DESCRIPTION:
URL:https://stpeterriley.org/event/quilting-meeting/2024-04-18/
LOCATION:School\, St. Johns\, MI 48879 United States\, St. Peter Lutheran School 8990 Church Rd.\, American Samoa
CATEGORIES:Church
END:VEVENT
BEGIN:VEVENT
DTSTART;TZID=America/Detroit:20240417T180000
DTEND;TZID=America/Detroit:20240417T190000
DTSTAMP:20260424T112530
CREATED:20240412T215828Z
LAST-MODIFIED:20240412T220001Z
UID:10002538-1713376800-1713380400@stpeterriley.org
SUMMARY:Bible Study
DESCRIPTION:
URL:https://stpeterriley.org/event/bible-study-4/2024-04-17/
LOCATION:School\, St. Johns\, MI 48879 United States\, St. Peter Lutheran School 8990 Church Rd.\, American Samoa
CATEGORIES:Church
END:VEVENT
BEGIN:VEVENT
DTSTART;TZID=America/Detroit:20240414T110000
DTEND;TZID=America/Detroit:20240414T120000
DTSTAMP:20260424T112530
CREATED:20231005T174949Z
LAST-MODIFIED:20231005T174949Z
UID:10001728-1713092400-1713096000@stpeterriley.org
SUMMARY:Bible Study
DESCRIPTION:
URL:https://stpeterriley.org/event/bible-study-2/2024-04-14/
LOCATION:School\, St. Johns\, MI 48879 United States\, St. Peter Lutheran School 8990 Church Rd.\, American Samoa
CATEGORIES:Church
END:VEVENT
BEGIN:VEVENT
DTSTART;TZID=America/Detroit:20240411T090000
DTEND;TZID=America/Detroit:20240411T120000
DTSTAMP:20260424T112530
CREATED:20230808T135515Z
LAST-MODIFIED:20231005T172928Z
UID:10000234-1712826000-1712836800@stpeterriley.org
SUMMARY:Quilting Meeting
DESCRIPTION:
URL:https://stpeterriley.org/event/quilting-meeting/2024-04-11/
LOCATION:School\, St. Johns\, MI 48879 United States\, St. Peter Lutheran School 8990 Church Rd.\, American Samoa
CATEGORIES:Church
END:VEVENT
BEGIN:VEVENT
DTSTART;TZID=America/Detroit:20240410T180000
DTEND;TZID=America/Detroit:20240410T190000
DTSTAMP:20260424T112530
CREATED:20240412T215828Z
LAST-MODIFIED:20240412T220001Z
UID:10002537-1712772000-1712775600@stpeterriley.org
SUMMARY:Bible Study
DESCRIPTION:
URL:https://stpeterriley.org/event/bible-study-4/2024-04-10/
LOCATION:School\, St. Johns\, MI 48879 United States\, St. Peter Lutheran School 8990 Church Rd.\, American Samoa
CATEGORIES:Church
END:VEVENT
BEGIN:VEVENT
DTSTART;TZID=America/Detroit:20240409T183000
DTEND;TZID=America/Detroit:20240409T200000
DTSTAMP:20260424T112530
CREATED:20230807T151821Z
LAST-MODIFIED:20231005T172658Z
UID:10000145-1712687400-1712692800@stpeterriley.org
SUMMARY:Council Meeting
DESCRIPTION:
URL:https://stpeterriley.org/event/council-meeting/2024-04-09/
LOCATION:School\, St. Johns\, MI 48879 United States\, St. Peter Lutheran School 8990 Church Rd.\, American Samoa
CATEGORIES:Church,School
END:VEVENT
BEGIN:VEVENT
DTSTART;TZID=America/Detroit:20240407T110000
DTEND;TZID=America/Detroit:20240407T120000
DTSTAMP:20260424T112530
CREATED:20231005T174949Z
LAST-MODIFIED:20231005T174949Z
UID:10001727-1712487600-1712491200@stpeterriley.org
SUMMARY:Bible Study
DESCRIPTION:
URL:https://stpeterriley.org/event/bible-study-2/2024-04-07/
LOCATION:School\, St. Johns\, MI 48879 United States\, St. Peter Lutheran School 8990 Church Rd.\, American Samoa
CATEGORIES:Church
END:VEVENT
BEGIN:VEVENT
DTSTART;TZID=America/Detroit:20240404T120000
DTEND;TZID=America/Detroit:20240404T140000
DTSTAMP:20260424T112530
CREATED:20231005T173339Z
LAST-MODIFIED:20231005T173339Z
UID:10000475-1712232000-1712239200@stpeterriley.org
SUMMARY:Ladies Aid
DESCRIPTION:
URL:https://stpeterriley.org/event/ladies-aid/2024-04-04/
LOCATION:School\, St. Johns\, MI 48879 United States\, St. Peter Lutheran School 8990 Church Rd.\, American Samoa
CATEGORIES:Church
END:VEVENT
BEGIN:VEVENT
DTSTART;TZID=America/Detroit:20240404T090000
DTEND;TZID=America/Detroit:20240404T120000
DTSTAMP:20260424T112530
CREATED:20230808T135515Z
LAST-MODIFIED:20231005T172928Z
UID:10000233-1712221200-1712232000@stpeterriley.org
SUMMARY:Quilting Meeting
DESCRIPTION:
URL:https://stpeterriley.org/event/quilting-meeting/2024-04-04/
LOCATION:School\, St. Johns\, MI 48879 United States\, St. Peter Lutheran School 8990 Church Rd.\, American Samoa
CATEGORIES:Church
END:VEVENT
BEGIN:VEVENT
DTSTART;TZID=America/Detroit:20240403T180000
DTEND;TZID=America/Detroit:20240403T190000
DTSTAMP:20260424T112530
CREATED:20240412T215828Z
LAST-MODIFIED:20240412T220001Z
UID:10000598-1712167200-1712170800@stpeterriley.org
SUMMARY:Bible Study
DESCRIPTION:
URL:https://stpeterriley.org/event/bible-study-4/2024-04-03/
LOCATION:School\, St. Johns\, MI 48879 United States\, St. Peter Lutheran School 8990 Church Rd.\, American Samoa
CATEGORIES:Church
END:VEVENT
BEGIN:VEVENT
DTSTART;TZID=America/Detroit:20240402T180000
DTEND;TZID=America/Detroit:20240402T200000
DTSTAMP:20260424T112530
CREATED:20230807T151538Z
LAST-MODIFIED:20231005T171530Z
UID:10000021-1712080800-1712088000@stpeterriley.org
SUMMARY:Elders Meeting
DESCRIPTION:
URL:https://stpeterriley.org/event/elders-meeting-2/2024-04-02/
LOCATION:School\, St. Johns\, MI 48879 United States\, St. Peter Lutheran School 8990 Church Rd.\, American Samoa
CATEGORIES:Church
END:VEVENT
BEGIN:VEVENT
DTSTART;TZID=UTC:20240401T183000
DTEND;TZID=UTC:20240401T200000
DTSTAMP:20260424T112530
CREATED:20221001T153511Z
LAST-MODIFIED:20260201T212944Z
UID:10000083-1711996200-1712001600@stpeterriley.org
SUMMARY:School Board Meeting
DESCRIPTION:
URL:https://stpeterriley.org/event/school-board-meeting/2024-04-01/
LOCATION:School\, St. Johns\, MI 48879 United States\, St. Peter Lutheran School 8990 Church Rd.\, American Samoa
CATEGORIES:Church,School
END:VEVENT
BEGIN:VEVENT
DTSTART;TZID=America/Detroit:20240331T110000
DTEND;TZID=America/Detroit:20240331T120000
DTSTAMP:20260424T112530
CREATED:20231005T174949Z
LAST-MODIFIED:20231005T174949Z
UID:10001726-1711882800-1711886400@stpeterriley.org
SUMMARY:Bible Study
DESCRIPTION:
URL:https://stpeterriley.org/event/bible-study-2/2024-03-31/
LOCATION:School\, St. Johns\, MI 48879 United States\, St. Peter Lutheran School 8990 Church Rd.\, American Samoa
CATEGORIES:Church
END:VEVENT
BEGIN:VEVENT
DTSTART;TZID=America/Detroit:20240328T090000
DTEND;TZID=America/Detroit:20240328T120000
DTSTAMP:20260424T112530
CREATED:20230808T135515Z
LAST-MODIFIED:20231005T172928Z
UID:10000232-1711616400-1711627200@stpeterriley.org
SUMMARY:Quilting Meeting
DESCRIPTION:
URL:https://stpeterriley.org/event/quilting-meeting/2024-03-28/
LOCATION:School\, St. Johns\, MI 48879 United States\, St. Peter Lutheran School 8990 Church Rd.\, American Samoa
CATEGORIES:Church
END:VEVENT
END:VCALENDAR