BEGIN:VCALENDAR
VERSION:2.0
PRODID:-//St. Peter Lutheran Church and School - ECPv6.15.20//NONSGML v1.0//EN
CALSCALE:GREGORIAN
METHOD:PUBLISH
X-WR-CALNAME:St. Peter Lutheran Church and School
X-ORIGINAL-URL:https://stpeterriley.org
X-WR-CALDESC:Events for St. Peter Lutheran Church and School
REFRESH-INTERVAL;VALUE=DURATION:PT1H
X-Robots-Tag:noindex
X-PUBLISHED-TTL:PT1H
BEGIN:VTIMEZONE
TZID:UTC
BEGIN:STANDARD
TZOFFSETFROM:+0000
TZOFFSETTO:+0000
TZNAME:UTC
DTSTART:20230101T000000
END:STANDARD
END:VTIMEZONE
BEGIN:VTIMEZONE
TZID:America/Detroit
BEGIN:DAYLIGHT
TZOFFSETFROM:-0500
TZOFFSETTO:-0400
TZNAME:EDT
DTSTART:20230312T070000
END:DAYLIGHT
BEGIN:STANDARD
TZOFFSETFROM:-0400
TZOFFSETTO:-0500
TZNAME:EST
DTSTART:20231105T060000
END:STANDARD
BEGIN:DAYLIGHT
TZOFFSETFROM:-0500
TZOFFSETTO:-0400
TZNAME:EDT
DTSTART:20240310T070000
END:DAYLIGHT
BEGIN:STANDARD
TZOFFSETFROM:-0400
TZOFFSETTO:-0500
TZNAME:EST
DTSTART:20241103T060000
END:STANDARD
BEGIN:DAYLIGHT
TZOFFSETFROM:-0500
TZOFFSETTO:-0400
TZNAME:EDT
DTSTART:20250309T070000
END:DAYLIGHT
BEGIN:STANDARD
TZOFFSETFROM:-0400
TZOFFSETTO:-0500
TZNAME:EST
DTSTART:20251102T060000
END:STANDARD
END:VTIMEZONE
BEGIN:VEVENT
DTSTART;TZID=UTC:20240902T183000
DTEND;TZID=UTC:20240902T200000
DTSTAMP:20260423T000939
CREATED:20221001T153511Z
LAST-MODIFIED:20260201T212944Z
UID:10000088-1725301800-1725307200@stpeterriley.org
SUMMARY:School Board Meeting
DESCRIPTION:
URL:https://stpeterriley.org/event/school-board-meeting/2024-09-02/
LOCATION:School\, St. Johns\, MI 48879 United States\, St. Peter Lutheran School 8990 Church Rd.\, American Samoa
CATEGORIES:Church,School
END:VEVENT
BEGIN:VEVENT
DTSTART;TZID=America/Detroit:20240901T110000
DTEND;TZID=America/Detroit:20240901T120000
DTSTAMP:20260423T000939
CREATED:20231005T174949Z
LAST-MODIFIED:20231005T174949Z
UID:10001748-1725188400-1725192000@stpeterriley.org
SUMMARY:Bible Study
DESCRIPTION:
URL:https://stpeterriley.org/event/bible-study-2/2024-09-01/
LOCATION:School\, St. Johns\, MI 48879 United States\, St. Peter Lutheran School 8990 Church Rd.\, American Samoa
CATEGORIES:Church
END:VEVENT
BEGIN:VEVENT
DTSTART;TZID=America/Detroit:20240829T090000
DTEND;TZID=America/Detroit:20240829T120000
DTSTAMP:20260423T000939
CREATED:20230808T135515Z
LAST-MODIFIED:20231005T172928Z
UID:10000254-1724922000-1724932800@stpeterriley.org
SUMMARY:Quilting Meeting
DESCRIPTION:
URL:https://stpeterriley.org/event/quilting-meeting/2024-08-29/
LOCATION:School\, St. Johns\, MI 48879 United States\, St. Peter Lutheran School 8990 Church Rd.\, American Samoa
CATEGORIES:Church
END:VEVENT
BEGIN:VEVENT
DTSTART;TZID=America/Detroit:20240825T110000
DTEND;TZID=America/Detroit:20240825T120000
DTSTAMP:20260423T000939
CREATED:20231005T174949Z
LAST-MODIFIED:20231005T174949Z
UID:10001747-1724583600-1724587200@stpeterriley.org
SUMMARY:Bible Study
DESCRIPTION:
URL:https://stpeterriley.org/event/bible-study-2/2024-08-25/
LOCATION:School\, St. Johns\, MI 48879 United States\, St. Peter Lutheran School 8990 Church Rd.\, American Samoa
CATEGORIES:Church
END:VEVENT
BEGIN:VEVENT
DTSTART;TZID=America/Detroit:20240822T090000
DTEND;TZID=America/Detroit:20240822T120000
DTSTAMP:20260423T000939
CREATED:20230808T135515Z
LAST-MODIFIED:20231005T172928Z
UID:10000253-1724317200-1724328000@stpeterriley.org
SUMMARY:Quilting Meeting
DESCRIPTION:
URL:https://stpeterriley.org/event/quilting-meeting/2024-08-22/
LOCATION:School\, St. Johns\, MI 48879 United States\, St. Peter Lutheran School 8990 Church Rd.\, American Samoa
CATEGORIES:Church
END:VEVENT
BEGIN:VEVENT
DTSTART;TZID=America/Detroit:20240818T110000
DTEND;TZID=America/Detroit:20240818T120000
DTSTAMP:20260423T000939
CREATED:20231005T174949Z
LAST-MODIFIED:20231005T174949Z
UID:10001746-1723978800-1723982400@stpeterriley.org
SUMMARY:Bible Study
DESCRIPTION:
URL:https://stpeterriley.org/event/bible-study-2/2024-08-18/
LOCATION:School\, St. Johns\, MI 48879 United States\, St. Peter Lutheran School 8990 Church Rd.\, American Samoa
CATEGORIES:Church
END:VEVENT
BEGIN:VEVENT
DTSTART;TZID=America/Detroit:20240815T090000
DTEND;TZID=America/Detroit:20240815T120000
DTSTAMP:20260423T000939
CREATED:20230808T135515Z
LAST-MODIFIED:20231005T172928Z
UID:10000252-1723712400-1723723200@stpeterriley.org
SUMMARY:Quilting Meeting
DESCRIPTION:
URL:https://stpeterriley.org/event/quilting-meeting/2024-08-15/
LOCATION:School\, St. Johns\, MI 48879 United States\, St. Peter Lutheran School 8990 Church Rd.\, American Samoa
CATEGORIES:Church
END:VEVENT
BEGIN:VEVENT
DTSTART;TZID=America/Detroit:20240813T183000
DTEND;TZID=America/Detroit:20240813T200000
DTSTAMP:20260423T000939
CREATED:20230807T151821Z
LAST-MODIFIED:20231005T172658Z
UID:10000149-1723573800-1723579200@stpeterriley.org
SUMMARY:Council Meeting
DESCRIPTION:
URL:https://stpeterriley.org/event/council-meeting/2024-08-13/
LOCATION:School\, St. Johns\, MI 48879 United States\, St. Peter Lutheran School 8990 Church Rd.\, American Samoa
CATEGORIES:Church,School
END:VEVENT
BEGIN:VEVENT
DTSTART;TZID=America/Detroit:20240811T110000
DTEND;TZID=America/Detroit:20240811T120000
DTSTAMP:20260423T000939
CREATED:20231005T174949Z
LAST-MODIFIED:20231005T174949Z
UID:10001745-1723374000-1723377600@stpeterriley.org
SUMMARY:Bible Study
DESCRIPTION:
URL:https://stpeterriley.org/event/bible-study-2/2024-08-11/
LOCATION:School\, St. Johns\, MI 48879 United States\, St. Peter Lutheran School 8990 Church Rd.\, American Samoa
CATEGORIES:Church
END:VEVENT
BEGIN:VEVENT
DTSTART;TZID=America/Detroit:20240808T090000
DTEND;TZID=America/Detroit:20240808T120000
DTSTAMP:20260423T000939
CREATED:20230808T135515Z
LAST-MODIFIED:20231005T172928Z
UID:10000251-1723107600-1723118400@stpeterriley.org
SUMMARY:Quilting Meeting
DESCRIPTION:
URL:https://stpeterriley.org/event/quilting-meeting/2024-08-08/
LOCATION:School\, St. Johns\, MI 48879 United States\, St. Peter Lutheran School 8990 Church Rd.\, American Samoa
CATEGORIES:Church
END:VEVENT
BEGIN:VEVENT
DTSTART;TZID=America/Detroit:20240806T180000
DTEND;TZID=America/Detroit:20240806T200000
DTSTAMP:20260423T000939
CREATED:20230807T151538Z
LAST-MODIFIED:20231005T171530Z
UID:10000025-1722967200-1722974400@stpeterriley.org
SUMMARY:Elders Meeting
DESCRIPTION:
URL:https://stpeterriley.org/event/elders-meeting-2/2024-08-06/
LOCATION:School\, St. Johns\, MI 48879 United States\, St. Peter Lutheran School 8990 Church Rd.\, American Samoa
CATEGORIES:Church
END:VEVENT
BEGIN:VEVENT
DTSTART;TZID=UTC:20240805T183000
DTEND;TZID=UTC:20240805T200000
DTSTAMP:20260423T000939
CREATED:20221001T153511Z
LAST-MODIFIED:20260201T212944Z
UID:10000087-1722882600-1722888000@stpeterriley.org
SUMMARY:School Board Meeting
DESCRIPTION:
URL:https://stpeterriley.org/event/school-board-meeting/2024-08-05/
LOCATION:School\, St. Johns\, MI 48879 United States\, St. Peter Lutheran School 8990 Church Rd.\, American Samoa
CATEGORIES:Church,School
END:VEVENT
BEGIN:VEVENT
DTSTART;TZID=America/Detroit:20240804T110000
DTEND;TZID=America/Detroit:20240804T120000
DTSTAMP:20260423T000939
CREATED:20231005T174949Z
LAST-MODIFIED:20231005T174949Z
UID:10001744-1722769200-1722772800@stpeterriley.org
SUMMARY:Bible Study
DESCRIPTION:
URL:https://stpeterriley.org/event/bible-study-2/2024-08-04/
LOCATION:School\, St. Johns\, MI 48879 United States\, St. Peter Lutheran School 8990 Church Rd.\, American Samoa
CATEGORIES:Church
END:VEVENT
BEGIN:VEVENT
DTSTART;TZID=America/Detroit:20240801T120000
DTEND;TZID=America/Detroit:20240801T140000
DTSTAMP:20260423T000939
CREATED:20231005T173339Z
LAST-MODIFIED:20231005T173339Z
UID:10000479-1722513600-1722520800@stpeterriley.org
SUMMARY:Ladies Aid
DESCRIPTION:
URL:https://stpeterriley.org/event/ladies-aid/2024-08-01/
LOCATION:School\, St. Johns\, MI 48879 United States\, St. Peter Lutheran School 8990 Church Rd.\, American Samoa
CATEGORIES:Church
END:VEVENT
BEGIN:VEVENT
DTSTART;TZID=America/Detroit:20240801T090000
DTEND;TZID=America/Detroit:20240801T120000
DTSTAMP:20260423T000939
CREATED:20230808T135515Z
LAST-MODIFIED:20231005T172928Z
UID:10000250-1722502800-1722513600@stpeterriley.org
SUMMARY:Quilting Meeting
DESCRIPTION:
URL:https://stpeterriley.org/event/quilting-meeting/2024-08-01/
LOCATION:School\, St. Johns\, MI 48879 United States\, St. Peter Lutheran School 8990 Church Rd.\, American Samoa
CATEGORIES:Church
END:VEVENT
BEGIN:VEVENT
DTSTART;TZID=America/Detroit:20240728T110000
DTEND;TZID=America/Detroit:20240728T120000
DTSTAMP:20260423T000939
CREATED:20231005T174949Z
LAST-MODIFIED:20231005T174949Z
UID:10001743-1722164400-1722168000@stpeterriley.org
SUMMARY:Bible Study
DESCRIPTION:
URL:https://stpeterriley.org/event/bible-study-2/2024-07-28/
LOCATION:School\, St. Johns\, MI 48879 United States\, St. Peter Lutheran School 8990 Church Rd.\, American Samoa
CATEGORIES:Church
END:VEVENT
BEGIN:VEVENT
DTSTART;TZID=America/Detroit:20240725T090000
DTEND;TZID=America/Detroit:20240725T120000
DTSTAMP:20260423T000939
CREATED:20230808T135515Z
LAST-MODIFIED:20231005T172928Z
UID:10000249-1721898000-1721908800@stpeterriley.org
SUMMARY:Quilting Meeting
DESCRIPTION:
URL:https://stpeterriley.org/event/quilting-meeting/2024-07-25/
LOCATION:School\, St. Johns\, MI 48879 United States\, St. Peter Lutheran School 8990 Church Rd.\, American Samoa
CATEGORIES:Church
END:VEVENT
BEGIN:VEVENT
DTSTART;TZID=America/Detroit:20240721T110000
DTEND;TZID=America/Detroit:20240721T120000
DTSTAMP:20260423T000939
CREATED:20231005T174949Z
LAST-MODIFIED:20231005T174949Z
UID:10001742-1721559600-1721563200@stpeterriley.org
SUMMARY:Bible Study
DESCRIPTION:
URL:https://stpeterriley.org/event/bible-study-2/2024-07-21/
LOCATION:School\, St. Johns\, MI 48879 United States\, St. Peter Lutheran School 8990 Church Rd.\, American Samoa
CATEGORIES:Church
END:VEVENT
BEGIN:VEVENT
DTSTART;TZID=America/Detroit:20240718T090000
DTEND;TZID=America/Detroit:20240718T120000
DTSTAMP:20260423T000939
CREATED:20230808T135515Z
LAST-MODIFIED:20231005T172928Z
UID:10000248-1721293200-1721304000@stpeterriley.org
SUMMARY:Quilting Meeting
DESCRIPTION:
URL:https://stpeterriley.org/event/quilting-meeting/2024-07-18/
LOCATION:School\, St. Johns\, MI 48879 United States\, St. Peter Lutheran School 8990 Church Rd.\, American Samoa
CATEGORIES:Church
END:VEVENT
BEGIN:VEVENT
DTSTART;TZID=America/Detroit:20240714T110000
DTEND;TZID=America/Detroit:20240714T120000
DTSTAMP:20260423T000939
CREATED:20231005T174949Z
LAST-MODIFIED:20231005T174949Z
UID:10001741-1720954800-1720958400@stpeterriley.org
SUMMARY:Bible Study
DESCRIPTION:
URL:https://stpeterriley.org/event/bible-study-2/2024-07-14/
LOCATION:School\, St. Johns\, MI 48879 United States\, St. Peter Lutheran School 8990 Church Rd.\, American Samoa
CATEGORIES:Church
END:VEVENT
BEGIN:VEVENT
DTSTART;TZID=America/Detroit:20240711T090000
DTEND;TZID=America/Detroit:20240711T120000
DTSTAMP:20260423T000939
CREATED:20230808T135515Z
LAST-MODIFIED:20231005T172928Z
UID:10000247-1720688400-1720699200@stpeterriley.org
SUMMARY:Quilting Meeting
DESCRIPTION:
URL:https://stpeterriley.org/event/quilting-meeting/2024-07-11/
LOCATION:School\, St. Johns\, MI 48879 United States\, St. Peter Lutheran School 8990 Church Rd.\, American Samoa
CATEGORIES:Church
END:VEVENT
BEGIN:VEVENT
DTSTART;TZID=America/Detroit:20240709T183000
DTEND;TZID=America/Detroit:20240709T200000
DTSTAMP:20260423T000939
CREATED:20230807T151821Z
LAST-MODIFIED:20231005T172658Z
UID:10000148-1720549800-1720555200@stpeterriley.org
SUMMARY:Council Meeting
DESCRIPTION:
URL:https://stpeterriley.org/event/council-meeting/2024-07-09/
LOCATION:School\, St. Johns\, MI 48879 United States\, St. Peter Lutheran School 8990 Church Rd.\, American Samoa
CATEGORIES:Church,School
END:VEVENT
BEGIN:VEVENT
DTSTART;TZID=America/Detroit:20240707T110000
DTEND;TZID=America/Detroit:20240707T120000
DTSTAMP:20260423T000939
CREATED:20231005T174949Z
LAST-MODIFIED:20231005T174949Z
UID:10001740-1720350000-1720353600@stpeterriley.org
SUMMARY:Bible Study
DESCRIPTION:
URL:https://stpeterriley.org/event/bible-study-2/2024-07-07/
LOCATION:School\, St. Johns\, MI 48879 United States\, St. Peter Lutheran School 8990 Church Rd.\, American Samoa
CATEGORIES:Church
END:VEVENT
BEGIN:VEVENT
DTSTART;TZID=America/Detroit:20240704T120000
DTEND;TZID=America/Detroit:20240704T140000
DTSTAMP:20260423T000939
CREATED:20231005T173339Z
LAST-MODIFIED:20231005T173339Z
UID:10000478-1720094400-1720101600@stpeterriley.org
SUMMARY:Ladies Aid
DESCRIPTION:
URL:https://stpeterriley.org/event/ladies-aid/2024-07-04/
LOCATION:School\, St. Johns\, MI 48879 United States\, St. Peter Lutheran School 8990 Church Rd.\, American Samoa
CATEGORIES:Church
END:VEVENT
BEGIN:VEVENT
DTSTART;TZID=America/Detroit:20240704T090000
DTEND;TZID=America/Detroit:20240704T120000
DTSTAMP:20260423T000939
CREATED:20230808T135515Z
LAST-MODIFIED:20231005T172928Z
UID:10000246-1720083600-1720094400@stpeterriley.org
SUMMARY:Quilting Meeting
DESCRIPTION:
URL:https://stpeterriley.org/event/quilting-meeting/2024-07-04/
LOCATION:School\, St. Johns\, MI 48879 United States\, St. Peter Lutheran School 8990 Church Rd.\, American Samoa
CATEGORIES:Church
END:VEVENT
BEGIN:VEVENT
DTSTART;TZID=America/Detroit:20240702T180000
DTEND;TZID=America/Detroit:20240702T200000
DTSTAMP:20260423T000939
CREATED:20230807T151538Z
LAST-MODIFIED:20231005T171530Z
UID:10000024-1719943200-1719950400@stpeterriley.org
SUMMARY:Elders Meeting
DESCRIPTION:
URL:https://stpeterriley.org/event/elders-meeting-2/2024-07-02/
LOCATION:School\, St. Johns\, MI 48879 United States\, St. Peter Lutheran School 8990 Church Rd.\, American Samoa
CATEGORIES:Church
END:VEVENT
BEGIN:VEVENT
DTSTART;TZID=UTC:20240701T183000
DTEND;TZID=UTC:20240701T200000
DTSTAMP:20260423T000939
CREATED:20221001T153511Z
LAST-MODIFIED:20260201T212944Z
UID:10000086-1719858600-1719864000@stpeterriley.org
SUMMARY:School Board Meeting
DESCRIPTION:
URL:https://stpeterriley.org/event/school-board-meeting/2024-07-01/
LOCATION:School\, St. Johns\, MI 48879 United States\, St. Peter Lutheran School 8990 Church Rd.\, American Samoa
CATEGORIES:Church,School
END:VEVENT
BEGIN:VEVENT
DTSTART;TZID=America/Detroit:20240630T110000
DTEND;TZID=America/Detroit:20240630T130000
DTSTAMP:20260423T000939
CREATED:20240614T210001Z
LAST-MODIFIED:20240614T210001Z
UID:10003128-1719745200-1719752400@stpeterriley.org
SUMMARY:Pastor Bayer & Family - 5th Anniversary Celebration
DESCRIPTION:
URL:https://stpeterriley.org/event/pastor-bayer-family-5th-anniversary-celebration/
LOCATION:School\, St. Johns\, MI 48879 United States\, St. Peter Lutheran School 8990 Church Rd.\, American Samoa
CATEGORIES:Church
END:VEVENT
BEGIN:VEVENT
DTSTART;TZID=America/Detroit:20240630T110000
DTEND;TZID=America/Detroit:20240630T120000
DTSTAMP:20260423T000939
CREATED:20231005T174949Z
LAST-MODIFIED:20231005T174949Z
UID:10001739-1719745200-1719748800@stpeterriley.org
SUMMARY:Bible Study
DESCRIPTION:
URL:https://stpeterriley.org/event/bible-study-2/2024-06-30/
LOCATION:School\, St. Johns\, MI 48879 United States\, St. Peter Lutheran School 8990 Church Rd.\, American Samoa
CATEGORIES:Church
END:VEVENT
BEGIN:VEVENT
DTSTART;TZID=America/Detroit:20240627T090000
DTEND;TZID=America/Detroit:20240627T120000
DTSTAMP:20260423T000939
CREATED:20230808T135515Z
LAST-MODIFIED:20231005T172928Z
UID:10000245-1719478800-1719489600@stpeterriley.org
SUMMARY:Quilting Meeting
DESCRIPTION:
URL:https://stpeterriley.org/event/quilting-meeting/2024-06-27/
LOCATION:School\, St. Johns\, MI 48879 United States\, St. Peter Lutheran School 8990 Church Rd.\, American Samoa
CATEGORIES:Church
END:VEVENT
END:VCALENDAR