BEGIN:VCALENDAR
VERSION:2.0
PRODID:-//St. Peter Lutheran Church and School - ECPv6.15.20//NONSGML v1.0//EN
CALSCALE:GREGORIAN
METHOD:PUBLISH
X-ORIGINAL-URL:https://stpeterriley.org
X-WR-CALDESC:Events for St. Peter Lutheran Church and School
REFRESH-INTERVAL;VALUE=DURATION:PT1H
X-Robots-Tag:noindex
X-PUBLISHED-TTL:PT1H
BEGIN:VTIMEZONE
TZID:America/Detroit
BEGIN:DAYLIGHT
TZOFFSETFROM:-0500
TZOFFSETTO:-0400
TZNAME:EDT
DTSTART:20230312T070000
END:DAYLIGHT
BEGIN:STANDARD
TZOFFSETFROM:-0400
TZOFFSETTO:-0500
TZNAME:EST
DTSTART:20231105T060000
END:STANDARD
BEGIN:DAYLIGHT
TZOFFSETFROM:-0500
TZOFFSETTO:-0400
TZNAME:EDT
DTSTART:20240310T070000
END:DAYLIGHT
BEGIN:STANDARD
TZOFFSETFROM:-0400
TZOFFSETTO:-0500
TZNAME:EST
DTSTART:20241103T060000
END:STANDARD
BEGIN:DAYLIGHT
TZOFFSETFROM:-0500
TZOFFSETTO:-0400
TZNAME:EDT
DTSTART:20250309T070000
END:DAYLIGHT
BEGIN:STANDARD
TZOFFSETFROM:-0400
TZOFFSETTO:-0500
TZNAME:EST
DTSTART:20251102T060000
END:STANDARD
END:VTIMEZONE
BEGIN:VTIMEZONE
TZID:UTC
BEGIN:STANDARD
TZOFFSETFROM:+0000
TZOFFSETTO:+0000
TZNAME:UTC
DTSTART:20230101T000000
END:STANDARD
END:VTIMEZONE
BEGIN:VEVENT
DTSTART;TZID=America/Detroit:20241110T110000
DTEND;TZID=America/Detroit:20241110T120000
DTSTAMP:20260422T193028
CREATED:20231005T174949Z
LAST-MODIFIED:20231005T174949Z
UID:10001758-1731236400-1731240000@stpeterriley.org
SUMMARY:Bible Study
DESCRIPTION:
URL:https://stpeterriley.org/event/bible-study-2/2024-11-10/
LOCATION:School\, St. Johns\, MI 48879 United States\, St. Peter Lutheran School 8990 Church Rd.\, American Samoa
CATEGORIES:Church
END:VEVENT
BEGIN:VEVENT
DTSTART;TZID=America/Detroit:20241107T120000
DTEND;TZID=America/Detroit:20241107T140000
DTSTAMP:20260422T193028
CREATED:20231005T173339Z
LAST-MODIFIED:20231005T173339Z
UID:10000482-1730980800-1730988000@stpeterriley.org
SUMMARY:Ladies Aid
DESCRIPTION:
URL:https://stpeterriley.org/event/ladies-aid/2024-11-07/
LOCATION:School\, St. Johns\, MI 48879 United States\, St. Peter Lutheran School 8990 Church Rd.\, American Samoa
CATEGORIES:Church
END:VEVENT
BEGIN:VEVENT
DTSTART;TZID=America/Detroit:20241107T090000
DTEND;TZID=America/Detroit:20241107T120000
DTSTAMP:20260422T193028
CREATED:20230808T135515Z
LAST-MODIFIED:20231005T172928Z
UID:10000264-1730970000-1730980800@stpeterriley.org
SUMMARY:Quilting Meeting
DESCRIPTION:
URL:https://stpeterriley.org/event/quilting-meeting/2024-11-07/
LOCATION:School\, St. Johns\, MI 48879 United States\, St. Peter Lutheran School 8990 Church Rd.\, American Samoa
CATEGORIES:Church
END:VEVENT
BEGIN:VEVENT
DTSTART;TZID=America/Detroit:20241106T180000
DTEND;TZID=America/Detroit:20241106T190000
DTSTAMP:20260422T193028
CREATED:20241014T153415Z
LAST-MODIFIED:20241014T153520Z
UID:10003186-1730916000-1730919600@stpeterriley.org
SUMMARY:Bible Study
DESCRIPTION:
URL:https://stpeterriley.org/event/bible-study-4-2/2024-11-06/
LOCATION:School\, St. Johns\, MI 48879 United States\, St. Peter Lutheran School 8990 Church Rd.\, American Samoa
CATEGORIES:Church
END:VEVENT
BEGIN:VEVENT
DTSTART;TZID=America/Detroit:20241105T180000
DTEND;TZID=America/Detroit:20241105T200000
DTSTAMP:20260422T193028
CREATED:20230807T151538Z
LAST-MODIFIED:20231005T171530Z
UID:10000028-1730829600-1730836800@stpeterriley.org
SUMMARY:Elders Meeting
DESCRIPTION:
URL:https://stpeterriley.org/event/elders-meeting-2/2024-11-05/
LOCATION:School\, St. Johns\, MI 48879 United States\, St. Peter Lutheran School 8990 Church Rd.\, American Samoa
CATEGORIES:Church
END:VEVENT
BEGIN:VEVENT
DTSTART;TZID=UTC:20241104T183000
DTEND;TZID=UTC:20241104T200000
DTSTAMP:20260422T193028
CREATED:20221001T153511Z
LAST-MODIFIED:20260201T212944Z
UID:10000090-1730745000-1730750400@stpeterriley.org
SUMMARY:School Board Meeting
DESCRIPTION:
URL:https://stpeterriley.org/event/school-board-meeting/2024-11-04/
LOCATION:School\, St. Johns\, MI 48879 United States\, St. Peter Lutheran School 8990 Church Rd.\, American Samoa
CATEGORIES:Church,School
END:VEVENT
BEGIN:VEVENT
DTSTART;TZID=America/Detroit:20241103T110000
DTEND;TZID=America/Detroit:20241103T120000
DTSTAMP:20260422T193028
CREATED:20231005T174949Z
LAST-MODIFIED:20231005T174949Z
UID:10001757-1730631600-1730635200@stpeterriley.org
SUMMARY:Bible Study
DESCRIPTION:
URL:https://stpeterriley.org/event/bible-study-2/2024-11-03/
LOCATION:School\, St. Johns\, MI 48879 United States\, St. Peter Lutheran School 8990 Church Rd.\, American Samoa
CATEGORIES:Church
END:VEVENT
BEGIN:VEVENT
DTSTART;TZID=America/Detroit:20241031T090000
DTEND;TZID=America/Detroit:20241031T120000
DTSTAMP:20260422T193028
CREATED:20230808T135515Z
LAST-MODIFIED:20231005T172928Z
UID:10000263-1730365200-1730376000@stpeterriley.org
SUMMARY:Quilting Meeting
DESCRIPTION:
URL:https://stpeterriley.org/event/quilting-meeting/2024-10-31/
LOCATION:School\, St. Johns\, MI 48879 United States\, St. Peter Lutheran School 8990 Church Rd.\, American Samoa
CATEGORIES:Church
END:VEVENT
BEGIN:VEVENT
DTSTART;TZID=America/Detroit:20241030T180000
DTEND;TZID=America/Detroit:20241030T190000
DTSTAMP:20260422T193028
CREATED:20241014T153415Z
LAST-MODIFIED:20241014T153520Z
UID:10003185-1730311200-1730314800@stpeterriley.org
SUMMARY:Bible Study
DESCRIPTION:
URL:https://stpeterriley.org/event/bible-study-4-2/2024-10-30/
LOCATION:School\, St. Johns\, MI 48879 United States\, St. Peter Lutheran School 8990 Church Rd.\, American Samoa
CATEGORIES:Church
END:VEVENT
BEGIN:VEVENT
DTSTART;TZID=America/Detroit:20241027T110000
DTEND;TZID=America/Detroit:20241027T120000
DTSTAMP:20260422T193028
CREATED:20231005T174949Z
LAST-MODIFIED:20231005T174949Z
UID:10001756-1730026800-1730030400@stpeterriley.org
SUMMARY:Bible Study
DESCRIPTION:
URL:https://stpeterriley.org/event/bible-study-2/2024-10-27/
LOCATION:School\, St. Johns\, MI 48879 United States\, St. Peter Lutheran School 8990 Church Rd.\, American Samoa
CATEGORIES:Church
END:VEVENT
BEGIN:VEVENT
DTSTART;TZID=America/Detroit:20241024T090000
DTEND;TZID=America/Detroit:20241024T120000
DTSTAMP:20260422T193028
CREATED:20230808T135515Z
LAST-MODIFIED:20231005T172928Z
UID:10000262-1729760400-1729771200@stpeterriley.org
SUMMARY:Quilting Meeting
DESCRIPTION:
URL:https://stpeterriley.org/event/quilting-meeting/2024-10-24/
LOCATION:School\, St. Johns\, MI 48879 United States\, St. Peter Lutheran School 8990 Church Rd.\, American Samoa
CATEGORIES:Church
END:VEVENT
BEGIN:VEVENT
DTSTART;TZID=America/Detroit:20241023T180000
DTEND;TZID=America/Detroit:20241023T190000
DTSTAMP:20260422T193028
CREATED:20241014T153415Z
LAST-MODIFIED:20241014T153520Z
UID:10003184-1729706400-1729710000@stpeterriley.org
SUMMARY:Bible Study
DESCRIPTION:
URL:https://stpeterriley.org/event/bible-study-4-2/2024-10-23/
LOCATION:School\, St. Johns\, MI 48879 United States\, St. Peter Lutheran School 8990 Church Rd.\, American Samoa
CATEGORIES:Church
END:VEVENT
BEGIN:VEVENT
DTSTART;TZID=America/Detroit:20241020T110000
DTEND;TZID=America/Detroit:20241020T120000
DTSTAMP:20260422T193028
CREATED:20231005T174949Z
LAST-MODIFIED:20231005T174949Z
UID:10001755-1729422000-1729425600@stpeterriley.org
SUMMARY:Bible Study
DESCRIPTION:
URL:https://stpeterriley.org/event/bible-study-2/2024-10-20/
LOCATION:School\, St. Johns\, MI 48879 United States\, St. Peter Lutheran School 8990 Church Rd.\, American Samoa
CATEGORIES:Church
END:VEVENT
BEGIN:VEVENT
DTSTART;TZID=America/Detroit:20241017T090000
DTEND;TZID=America/Detroit:20241017T120000
DTSTAMP:20260422T193028
CREATED:20230808T135515Z
LAST-MODIFIED:20231005T172928Z
UID:10000261-1729155600-1729166400@stpeterriley.org
SUMMARY:Quilting Meeting
DESCRIPTION:
URL:https://stpeterriley.org/event/quilting-meeting/2024-10-17/
LOCATION:School\, St. Johns\, MI 48879 United States\, St. Peter Lutheran School 8990 Church Rd.\, American Samoa
CATEGORIES:Church
END:VEVENT
BEGIN:VEVENT
DTSTART;TZID=America/Detroit:20241016T180000
DTEND;TZID=America/Detroit:20241016T190000
DTSTAMP:20260422T193028
CREATED:20241014T153415Z
LAST-MODIFIED:20241014T153520Z
UID:10003183-1729101600-1729105200@stpeterriley.org
SUMMARY:Bible Study
DESCRIPTION:
URL:https://stpeterriley.org/event/bible-study-4-2/2024-10-16/
LOCATION:School\, St. Johns\, MI 48879 United States\, St. Peter Lutheran School 8990 Church Rd.\, American Samoa
CATEGORIES:Church
END:VEVENT
BEGIN:VEVENT
DTSTART;TZID=America/Detroit:20241013T110000
DTEND;TZID=America/Detroit:20241013T120000
DTSTAMP:20260422T193028
CREATED:20231005T174949Z
LAST-MODIFIED:20231005T174949Z
UID:10001754-1728817200-1728820800@stpeterriley.org
SUMMARY:Bible Study
DESCRIPTION:
URL:https://stpeterriley.org/event/bible-study-2/2024-10-13/
LOCATION:School\, St. Johns\, MI 48879 United States\, St. Peter Lutheran School 8990 Church Rd.\, American Samoa
CATEGORIES:Church
END:VEVENT
BEGIN:VEVENT
DTSTART;TZID=America/Detroit:20241010T090000
DTEND;TZID=America/Detroit:20241010T120000
DTSTAMP:20260422T193028
CREATED:20230808T135515Z
LAST-MODIFIED:20231005T172928Z
UID:10000260-1728550800-1728561600@stpeterriley.org
SUMMARY:Quilting Meeting
DESCRIPTION:
URL:https://stpeterriley.org/event/quilting-meeting/2024-10-10/
LOCATION:School\, St. Johns\, MI 48879 United States\, St. Peter Lutheran School 8990 Church Rd.\, American Samoa
CATEGORIES:Church
END:VEVENT
BEGIN:VEVENT
DTSTART;TZID=America/Detroit:20241009T180000
DTEND;TZID=America/Detroit:20241009T190000
DTSTAMP:20260422T193028
CREATED:20241014T153415Z
LAST-MODIFIED:20241014T153520Z
UID:10003182-1728496800-1728500400@stpeterriley.org
SUMMARY:Bible Study
DESCRIPTION:
URL:https://stpeterriley.org/event/bible-study-4-2/2024-10-09/
LOCATION:School\, St. Johns\, MI 48879 United States\, St. Peter Lutheran School 8990 Church Rd.\, American Samoa
CATEGORIES:Church
END:VEVENT
BEGIN:VEVENT
DTSTART;TZID=America/Detroit:20241008T183000
DTEND;TZID=America/Detroit:20241008T200000
DTSTAMP:20260422T193028
CREATED:20230807T151821Z
LAST-MODIFIED:20231005T172658Z
UID:10000151-1728412200-1728417600@stpeterriley.org
SUMMARY:Council Meeting
DESCRIPTION:
URL:https://stpeterriley.org/event/council-meeting/2024-10-08/
LOCATION:School\, St. Johns\, MI 48879 United States\, St. Peter Lutheran School 8990 Church Rd.\, American Samoa
CATEGORIES:Church,School
END:VEVENT
BEGIN:VEVENT
DTSTART;TZID=UTC:20241007T183000
DTEND;TZID=UTC:20241007T200000
DTSTAMP:20260422T193028
CREATED:20221001T153511Z
LAST-MODIFIED:20260201T212944Z
UID:10000089-1728325800-1728331200@stpeterriley.org
SUMMARY:School Board Meeting
DESCRIPTION:
URL:https://stpeterriley.org/event/school-board-meeting/2024-10-07/
LOCATION:School\, St. Johns\, MI 48879 United States\, St. Peter Lutheran School 8990 Church Rd.\, American Samoa
CATEGORIES:Church,School
END:VEVENT
BEGIN:VEVENT
DTSTART;TZID=America/Detroit:20241006T110000
DTEND;TZID=America/Detroit:20241006T120000
DTSTAMP:20260422T193028
CREATED:20231005T174949Z
LAST-MODIFIED:20231005T174949Z
UID:10001753-1728212400-1728216000@stpeterriley.org
SUMMARY:Bible Study
DESCRIPTION:
URL:https://stpeterriley.org/event/bible-study-2/2024-10-06/
LOCATION:School\, St. Johns\, MI 48879 United States\, St. Peter Lutheran School 8990 Church Rd.\, American Samoa
CATEGORIES:Church
END:VEVENT
BEGIN:VEVENT
DTSTART;TZID=America/Detroit:20241003T120000
DTEND;TZID=America/Detroit:20241003T140000
DTSTAMP:20260422T193028
CREATED:20231005T173339Z
LAST-MODIFIED:20231005T173339Z
UID:10000481-1727956800-1727964000@stpeterriley.org
SUMMARY:Ladies Aid
DESCRIPTION:
URL:https://stpeterriley.org/event/ladies-aid/2024-10-03/
LOCATION:School\, St. Johns\, MI 48879 United States\, St. Peter Lutheran School 8990 Church Rd.\, American Samoa
CATEGORIES:Church
END:VEVENT
BEGIN:VEVENT
DTSTART;TZID=America/Detroit:20241003T090000
DTEND;TZID=America/Detroit:20241003T120000
DTSTAMP:20260422T193028
CREATED:20230808T135515Z
LAST-MODIFIED:20231005T172928Z
UID:10000259-1727946000-1727956800@stpeterriley.org
SUMMARY:Quilting Meeting
DESCRIPTION:
URL:https://stpeterriley.org/event/quilting-meeting/2024-10-03/
LOCATION:School\, St. Johns\, MI 48879 United States\, St. Peter Lutheran School 8990 Church Rd.\, American Samoa
CATEGORIES:Church
END:VEVENT
BEGIN:VEVENT
DTSTART;TZID=America/Detroit:20241002T180000
DTEND;TZID=America/Detroit:20241002T190000
DTSTAMP:20260422T193028
CREATED:20241014T153415Z
LAST-MODIFIED:20241014T153520Z
UID:10002545-1727892000-1727895600@stpeterriley.org
SUMMARY:Bible Study
DESCRIPTION:
URL:https://stpeterriley.org/event/bible-study-4-2/2024-10-02/
LOCATION:School\, St. Johns\, MI 48879 United States\, St. Peter Lutheran School 8990 Church Rd.\, American Samoa
CATEGORIES:Church
END:VEVENT
BEGIN:VEVENT
DTSTART;TZID=America/Detroit:20241001T180000
DTEND;TZID=America/Detroit:20241001T200000
DTSTAMP:20260422T193028
CREATED:20230807T151538Z
LAST-MODIFIED:20231005T171530Z
UID:10000027-1727805600-1727812800@stpeterriley.org
SUMMARY:Elders Meeting
DESCRIPTION:
URL:https://stpeterriley.org/event/elders-meeting-2/2024-10-01/
LOCATION:School\, St. Johns\, MI 48879 United States\, St. Peter Lutheran School 8990 Church Rd.\, American Samoa
CATEGORIES:Church
END:VEVENT
BEGIN:VEVENT
DTSTART;TZID=America/Detroit:20240929T110000
DTEND;TZID=America/Detroit:20240929T120000
DTSTAMP:20260422T193028
CREATED:20231005T174949Z
LAST-MODIFIED:20231005T174949Z
UID:10001752-1727607600-1727611200@stpeterriley.org
SUMMARY:Bible Study
DESCRIPTION:
URL:https://stpeterriley.org/event/bible-study-2/2024-09-29/
LOCATION:School\, St. Johns\, MI 48879 United States\, St. Peter Lutheran School 8990 Church Rd.\, American Samoa
CATEGORIES:Church
END:VEVENT
BEGIN:VEVENT
DTSTART;TZID=America/Detroit:20240926T090000
DTEND;TZID=America/Detroit:20240926T120000
DTSTAMP:20260422T193028
CREATED:20230808T135515Z
LAST-MODIFIED:20231005T172928Z
UID:10000258-1727341200-1727352000@stpeterriley.org
SUMMARY:Quilting Meeting
DESCRIPTION:
URL:https://stpeterriley.org/event/quilting-meeting/2024-09-26/
LOCATION:School\, St. Johns\, MI 48879 United States\, St. Peter Lutheran School 8990 Church Rd.\, American Samoa
CATEGORIES:Church
END:VEVENT
BEGIN:VEVENT
DTSTART;TZID=America/Detroit:20240922T110000
DTEND;TZID=America/Detroit:20240922T120000
DTSTAMP:20260422T193028
CREATED:20231005T174949Z
LAST-MODIFIED:20231005T174949Z
UID:10001751-1727002800-1727006400@stpeterriley.org
SUMMARY:Bible Study
DESCRIPTION:
URL:https://stpeterriley.org/event/bible-study-2/2024-09-22/
LOCATION:School\, St. Johns\, MI 48879 United States\, St. Peter Lutheran School 8990 Church Rd.\, American Samoa
CATEGORIES:Church
END:VEVENT
BEGIN:VEVENT
DTSTART;TZID=America/Detroit:20240919T090000
DTEND;TZID=America/Detroit:20240919T120000
DTSTAMP:20260422T193028
CREATED:20230808T135515Z
LAST-MODIFIED:20231005T172928Z
UID:10000257-1726736400-1726747200@stpeterriley.org
SUMMARY:Quilting Meeting
DESCRIPTION:
URL:https://stpeterriley.org/event/quilting-meeting/2024-09-19/
LOCATION:School\, St. Johns\, MI 48879 United States\, St. Peter Lutheran School 8990 Church Rd.\, American Samoa
CATEGORIES:Church
END:VEVENT
BEGIN:VEVENT
DTSTART;TZID=America/Detroit:20240915T110000
DTEND;TZID=America/Detroit:20240915T120000
DTSTAMP:20260422T193028
CREATED:20231005T174949Z
LAST-MODIFIED:20231005T174949Z
UID:10001750-1726398000-1726401600@stpeterriley.org
SUMMARY:Bible Study
DESCRIPTION:
URL:https://stpeterriley.org/event/bible-study-2/2024-09-15/
LOCATION:School\, St. Johns\, MI 48879 United States\, St. Peter Lutheran School 8990 Church Rd.\, American Samoa
CATEGORIES:Church
END:VEVENT
END:VCALENDAR