BEGIN:VCALENDAR
VERSION:2.0
PRODID:-//St. Peter Lutheran Church and School - ECPv6.15.20//NONSGML v1.0//EN
CALSCALE:GREGORIAN
METHOD:PUBLISH
X-WR-CALNAME:St. Peter Lutheran Church and School
X-ORIGINAL-URL:https://stpeterriley.org
X-WR-CALDESC:Events for St. Peter Lutheran Church and School
REFRESH-INTERVAL;VALUE=DURATION:PT1H
X-Robots-Tag:noindex
X-PUBLISHED-TTL:PT1H
BEGIN:VTIMEZONE
TZID:America/Detroit
BEGIN:DAYLIGHT
TZOFFSETFROM:-0500
TZOFFSETTO:-0400
TZNAME:EDT
DTSTART:20230312T070000
END:DAYLIGHT
BEGIN:STANDARD
TZOFFSETFROM:-0400
TZOFFSETTO:-0500
TZNAME:EST
DTSTART:20231105T060000
END:STANDARD
BEGIN:DAYLIGHT
TZOFFSETFROM:-0500
TZOFFSETTO:-0400
TZNAME:EDT
DTSTART:20240310T070000
END:DAYLIGHT
BEGIN:STANDARD
TZOFFSETFROM:-0400
TZOFFSETTO:-0500
TZNAME:EST
DTSTART:20241103T060000
END:STANDARD
BEGIN:DAYLIGHT
TZOFFSETFROM:-0500
TZOFFSETTO:-0400
TZNAME:EDT
DTSTART:20250309T070000
END:DAYLIGHT
BEGIN:STANDARD
TZOFFSETFROM:-0400
TZOFFSETTO:-0500
TZNAME:EST
DTSTART:20251102T060000
END:STANDARD
BEGIN:DAYLIGHT
TZOFFSETFROM:-0500
TZOFFSETTO:-0400
TZNAME:EDT
DTSTART:20260308T070000
END:DAYLIGHT
BEGIN:STANDARD
TZOFFSETFROM:-0400
TZOFFSETTO:-0500
TZNAME:EST
DTSTART:20261101T060000
END:STANDARD
END:VTIMEZONE
BEGIN:VTIMEZONE
TZID:UTC
BEGIN:STANDARD
TZOFFSETFROM:+0000
TZOFFSETTO:+0000
TZNAME:UTC
DTSTART:20230101T000000
END:STANDARD
END:VTIMEZONE
BEGIN:VEVENT
DTSTART;TZID=America/Detroit:20250105T110000
DTEND;TZID=America/Detroit:20250105T120000
DTSTAMP:20260422T160136
CREATED:20231005T174949Z
LAST-MODIFIED:20231005T174949Z
UID:10001766-1736074800-1736078400@stpeterriley.org
SUMMARY:Bible Study
DESCRIPTION:
URL:https://stpeterriley.org/event/bible-study-2/2025-01-05/
LOCATION:School\, St. Johns\, MI 48879 United States\, St. Peter Lutheran School 8990 Church Rd.\, American Samoa
CATEGORIES:Church
END:VEVENT
BEGIN:VEVENT
DTSTART;TZID=America/Detroit:20250102T120000
DTEND;TZID=America/Detroit:20250102T140000
DTSTAMP:20260422T160136
CREATED:20231005T173339Z
LAST-MODIFIED:20231005T173339Z
UID:10000484-1735819200-1735826400@stpeterriley.org
SUMMARY:Ladies Aid
DESCRIPTION:
URL:https://stpeterriley.org/event/ladies-aid/2025-01-02/
LOCATION:School\, St. Johns\, MI 48879 United States\, St. Peter Lutheran School 8990 Church Rd.\, American Samoa
CATEGORIES:Church
END:VEVENT
BEGIN:VEVENT
DTSTART;TZID=America/Detroit:20250102T090000
DTEND;TZID=America/Detroit:20250102T120000
DTSTAMP:20260422T160136
CREATED:20230808T135515Z
LAST-MODIFIED:20231005T172928Z
UID:10000272-1735808400-1735819200@stpeterriley.org
SUMMARY:Quilting Meeting
DESCRIPTION:
URL:https://stpeterriley.org/event/quilting-meeting/2025-01-02/
LOCATION:School\, St. Johns\, MI 48879 United States\, St. Peter Lutheran School 8990 Church Rd.\, American Samoa
CATEGORIES:Church
END:VEVENT
BEGIN:VEVENT
DTSTART;TZID=America/Detroit:20241229T110000
DTEND;TZID=America/Detroit:20241229T120000
DTSTAMP:20260422T160136
CREATED:20231005T174949Z
LAST-MODIFIED:20231005T174949Z
UID:10001765-1735470000-1735473600@stpeterriley.org
SUMMARY:Bible Study
DESCRIPTION:
URL:https://stpeterriley.org/event/bible-study-2/2024-12-29/
LOCATION:School\, St. Johns\, MI 48879 United States\, St. Peter Lutheran School 8990 Church Rd.\, American Samoa
CATEGORIES:Church
END:VEVENT
BEGIN:VEVENT
DTSTART;TZID=America/Detroit:20241226T090000
DTEND;TZID=America/Detroit:20241226T120000
DTSTAMP:20260422T160136
CREATED:20230808T135515Z
LAST-MODIFIED:20231005T172928Z
UID:10000271-1735203600-1735214400@stpeterriley.org
SUMMARY:Quilting Meeting
DESCRIPTION:
URL:https://stpeterriley.org/event/quilting-meeting/2024-12-26/
LOCATION:School\, St. Johns\, MI 48879 United States\, St. Peter Lutheran School 8990 Church Rd.\, American Samoa
CATEGORIES:Church
END:VEVENT
BEGIN:VEVENT
DTSTART;TZID=America/Detroit:20241222T110000
DTEND;TZID=America/Detroit:20241222T120000
DTSTAMP:20260422T160136
CREATED:20231005T174949Z
LAST-MODIFIED:20231005T174949Z
UID:10001764-1734865200-1734868800@stpeterriley.org
SUMMARY:Bible Study
DESCRIPTION:
URL:https://stpeterriley.org/event/bible-study-2/2024-12-22/
LOCATION:School\, St. Johns\, MI 48879 United States\, St. Peter Lutheran School 8990 Church Rd.\, American Samoa
CATEGORIES:Church
END:VEVENT
BEGIN:VEVENT
DTSTART;TZID=America/Detroit:20241219T090000
DTEND;TZID=America/Detroit:20241219T120000
DTSTAMP:20260422T160136
CREATED:20230808T135515Z
LAST-MODIFIED:20231005T172928Z
UID:10000270-1734598800-1734609600@stpeterriley.org
SUMMARY:Quilting Meeting
DESCRIPTION:
URL:https://stpeterriley.org/event/quilting-meeting/2024-12-19/
LOCATION:School\, St. Johns\, MI 48879 United States\, St. Peter Lutheran School 8990 Church Rd.\, American Samoa
CATEGORIES:Church
END:VEVENT
BEGIN:VEVENT
DTSTART;TZID=America/Detroit:20241215T110000
DTEND;TZID=America/Detroit:20241215T120000
DTSTAMP:20260422T160136
CREATED:20231005T174949Z
LAST-MODIFIED:20231005T174949Z
UID:10001763-1734260400-1734264000@stpeterriley.org
SUMMARY:Bible Study
DESCRIPTION:
URL:https://stpeterriley.org/event/bible-study-2/2024-12-15/
LOCATION:School\, St. Johns\, MI 48879 United States\, St. Peter Lutheran School 8990 Church Rd.\, American Samoa
CATEGORIES:Church
END:VEVENT
BEGIN:VEVENT
DTSTART;TZID=America/Detroit:20241212T090000
DTEND;TZID=America/Detroit:20241212T120000
DTSTAMP:20260422T160136
CREATED:20230808T135515Z
LAST-MODIFIED:20231005T172928Z
UID:10000269-1733994000-1734004800@stpeterriley.org
SUMMARY:Quilting Meeting
DESCRIPTION:
URL:https://stpeterriley.org/event/quilting-meeting/2024-12-12/
LOCATION:School\, St. Johns\, MI 48879 United States\, St. Peter Lutheran School 8990 Church Rd.\, American Samoa
CATEGORIES:Church
END:VEVENT
BEGIN:VEVENT
DTSTART;TZID=America/Detroit:20241210T183000
DTEND;TZID=America/Detroit:20241210T200000
DTSTAMP:20260422T160136
CREATED:20230807T151821Z
LAST-MODIFIED:20231005T172658Z
UID:10000153-1733855400-1733860800@stpeterriley.org
SUMMARY:Council Meeting
DESCRIPTION:
URL:https://stpeterriley.org/event/council-meeting/2024-12-10/
LOCATION:School\, St. Johns\, MI 48879 United States\, St. Peter Lutheran School 8990 Church Rd.\, American Samoa
CATEGORIES:Church,School
END:VEVENT
BEGIN:VEVENT
DTSTART;TZID=America/Detroit:20241208T110000
DTEND;TZID=America/Detroit:20241208T120000
DTSTAMP:20260422T160136
CREATED:20231005T174949Z
LAST-MODIFIED:20231005T174949Z
UID:10001762-1733655600-1733659200@stpeterriley.org
SUMMARY:Bible Study
DESCRIPTION:
URL:https://stpeterriley.org/event/bible-study-2/2024-12-08/
LOCATION:School\, St. Johns\, MI 48879 United States\, St. Peter Lutheran School 8990 Church Rd.\, American Samoa
CATEGORIES:Church
END:VEVENT
BEGIN:VEVENT
DTSTART;TZID=America/Detroit:20241205T120000
DTEND;TZID=America/Detroit:20241205T140000
DTSTAMP:20260422T160136
CREATED:20231005T173339Z
LAST-MODIFIED:20231005T173339Z
UID:10000483-1733400000-1733407200@stpeterriley.org
SUMMARY:Ladies Aid
DESCRIPTION:
URL:https://stpeterriley.org/event/ladies-aid/2024-12-05/
LOCATION:School\, St. Johns\, MI 48879 United States\, St. Peter Lutheran School 8990 Church Rd.\, American Samoa
CATEGORIES:Church
END:VEVENT
BEGIN:VEVENT
DTSTART;TZID=America/Detroit:20241205T090000
DTEND;TZID=America/Detroit:20241205T120000
DTSTAMP:20260422T160136
CREATED:20230808T135515Z
LAST-MODIFIED:20231005T172928Z
UID:10000268-1733389200-1733400000@stpeterriley.org
SUMMARY:Quilting Meeting
DESCRIPTION:
URL:https://stpeterriley.org/event/quilting-meeting/2024-12-05/
LOCATION:School\, St. Johns\, MI 48879 United States\, St. Peter Lutheran School 8990 Church Rd.\, American Samoa
CATEGORIES:Church
END:VEVENT
BEGIN:VEVENT
DTSTART;TZID=America/Detroit:20241203T180000
DTEND;TZID=America/Detroit:20241203T200000
DTSTAMP:20260422T160136
CREATED:20230807T151538Z
LAST-MODIFIED:20231005T171530Z
UID:10000029-1733248800-1733256000@stpeterriley.org
SUMMARY:Elders Meeting
DESCRIPTION:
URL:https://stpeterriley.org/event/elders-meeting-2/2024-12-03/
LOCATION:School\, St. Johns\, MI 48879 United States\, St. Peter Lutheran School 8990 Church Rd.\, American Samoa
CATEGORIES:Church
END:VEVENT
BEGIN:VEVENT
DTSTART;TZID=UTC:20241202T183000
DTEND;TZID=UTC:20241202T200000
DTSTAMP:20260422T160136
CREATED:20221001T153511Z
LAST-MODIFIED:20260201T212944Z
UID:10000091-1733164200-1733169600@stpeterriley.org
SUMMARY:School Board Meeting
DESCRIPTION:
URL:https://stpeterriley.org/event/school-board-meeting/2024-12-02/
LOCATION:School\, St. Johns\, MI 48879 United States\, St. Peter Lutheran School 8990 Church Rd.\, American Samoa
CATEGORIES:Church,School
END:VEVENT
BEGIN:VEVENT
DTSTART;TZID=America/Detroit:20241201T110000
DTEND;TZID=America/Detroit:20241201T120000
DTSTAMP:20260422T160136
CREATED:20231005T174949Z
LAST-MODIFIED:20231005T174949Z
UID:10001761-1733050800-1733054400@stpeterriley.org
SUMMARY:Bible Study
DESCRIPTION:
URL:https://stpeterriley.org/event/bible-study-2/2024-12-01/
LOCATION:School\, St. Johns\, MI 48879 United States\, St. Peter Lutheran School 8990 Church Rd.\, American Samoa
CATEGORIES:Church
END:VEVENT
BEGIN:VEVENT
DTSTART;TZID=America/Detroit:20241128T090000
DTEND;TZID=America/Detroit:20241128T120000
DTSTAMP:20260422T160136
CREATED:20230808T135515Z
LAST-MODIFIED:20231005T172928Z
UID:10000267-1732784400-1732795200@stpeterriley.org
SUMMARY:Quilting Meeting
DESCRIPTION:
URL:https://stpeterriley.org/event/quilting-meeting/2024-11-28/
LOCATION:School\, St. Johns\, MI 48879 United States\, St. Peter Lutheran School 8990 Church Rd.\, American Samoa
CATEGORIES:Church
END:VEVENT
BEGIN:VEVENT
DTSTART;TZID=America/Detroit:20241124T110000
DTEND;TZID=America/Detroit:20241124T120000
DTSTAMP:20260422T160136
CREATED:20231005T174949Z
LAST-MODIFIED:20231005T174949Z
UID:10001760-1732446000-1732449600@stpeterriley.org
SUMMARY:Bible Study
DESCRIPTION:
URL:https://stpeterriley.org/event/bible-study-2/2024-11-24/
LOCATION:School\, St. Johns\, MI 48879 United States\, St. Peter Lutheran School 8990 Church Rd.\, American Samoa
CATEGORIES:Church
END:VEVENT
BEGIN:VEVENT
DTSTART;TZID=America/Detroit:20241121T090000
DTEND;TZID=America/Detroit:20241121T120000
DTSTAMP:20260422T160136
CREATED:20230808T135515Z
LAST-MODIFIED:20231005T172928Z
UID:10000266-1732179600-1732190400@stpeterriley.org
SUMMARY:Quilting Meeting
DESCRIPTION:
URL:https://stpeterriley.org/event/quilting-meeting/2024-11-21/
LOCATION:School\, St. Johns\, MI 48879 United States\, St. Peter Lutheran School 8990 Church Rd.\, American Samoa
CATEGORIES:Church
END:VEVENT
BEGIN:VEVENT
DTSTART;TZID=America/Detroit:20241120T180000
DTEND;TZID=America/Detroit:20241120T190000
DTSTAMP:20260422T160136
CREATED:20241014T153415Z
LAST-MODIFIED:20241014T153520Z
UID:10003188-1732125600-1732129200@stpeterriley.org
SUMMARY:Bible Study
DESCRIPTION:
URL:https://stpeterriley.org/event/bible-study-4-2/2024-11-20/
LOCATION:School\, St. Johns\, MI 48879 United States\, St. Peter Lutheran School 8990 Church Rd.\, American Samoa
CATEGORIES:Church
END:VEVENT
BEGIN:VEVENT
DTSTART;TZID=America/Detroit:20241117T110000
DTEND;TZID=America/Detroit:20241117T120000
DTSTAMP:20260422T160136
CREATED:20231005T174949Z
LAST-MODIFIED:20231005T174949Z
UID:10001759-1731841200-1731844800@stpeterriley.org
SUMMARY:Bible Study
DESCRIPTION:
URL:https://stpeterriley.org/event/bible-study-2/2024-11-17/
LOCATION:School\, St. Johns\, MI 48879 United States\, St. Peter Lutheran School 8990 Church Rd.\, American Samoa
CATEGORIES:Church
END:VEVENT
BEGIN:VEVENT
DTSTART;TZID=America/Detroit:20241114T090000
DTEND;TZID=America/Detroit:20241114T120000
DTSTAMP:20260422T160136
CREATED:20230808T135515Z
LAST-MODIFIED:20231005T172928Z
UID:10000265-1731574800-1731585600@stpeterriley.org
SUMMARY:Quilting Meeting
DESCRIPTION:
URL:https://stpeterriley.org/event/quilting-meeting/2024-11-14/
LOCATION:School\, St. Johns\, MI 48879 United States\, St. Peter Lutheran School 8990 Church Rd.\, American Samoa
CATEGORIES:Church
END:VEVENT
BEGIN:VEVENT
DTSTART;TZID=America/Detroit:20241113T180000
DTEND;TZID=America/Detroit:20241113T190000
DTSTAMP:20260422T160136
CREATED:20241014T153415Z
LAST-MODIFIED:20241014T153520Z
UID:10003187-1731520800-1731524400@stpeterriley.org
SUMMARY:Bible Study
DESCRIPTION:
URL:https://stpeterriley.org/event/bible-study-4-2/2024-11-13/
LOCATION:School\, St. Johns\, MI 48879 United States\, St. Peter Lutheran School 8990 Church Rd.\, American Samoa
CATEGORIES:Church
END:VEVENT
BEGIN:VEVENT
DTSTART;TZID=America/Detroit:20241112T183000
DTEND;TZID=America/Detroit:20241112T200000
DTSTAMP:20260422T160136
CREATED:20230807T151821Z
LAST-MODIFIED:20231005T172658Z
UID:10000152-1731436200-1731441600@stpeterriley.org
SUMMARY:Council Meeting
DESCRIPTION:
URL:https://stpeterriley.org/event/council-meeting/2024-11-12/
LOCATION:School\, St. Johns\, MI 48879 United States\, St. Peter Lutheran School 8990 Church Rd.\, American Samoa
CATEGORIES:Church,School
END:VEVENT
BEGIN:VEVENT
DTSTART;TZID=America/Detroit:20241110T110000
DTEND;TZID=America/Detroit:20241110T120000
DTSTAMP:20260422T160136
CREATED:20231005T174949Z
LAST-MODIFIED:20231005T174949Z
UID:10001758-1731236400-1731240000@stpeterriley.org
SUMMARY:Bible Study
DESCRIPTION:
URL:https://stpeterriley.org/event/bible-study-2/2024-11-10/
LOCATION:School\, St. Johns\, MI 48879 United States\, St. Peter Lutheran School 8990 Church Rd.\, American Samoa
CATEGORIES:Church
END:VEVENT
BEGIN:VEVENT
DTSTART;TZID=America/Detroit:20241107T120000
DTEND;TZID=America/Detroit:20241107T140000
DTSTAMP:20260422T160136
CREATED:20231005T173339Z
LAST-MODIFIED:20231005T173339Z
UID:10000482-1730980800-1730988000@stpeterriley.org
SUMMARY:Ladies Aid
DESCRIPTION:
URL:https://stpeterriley.org/event/ladies-aid/2024-11-07/
LOCATION:School\, St. Johns\, MI 48879 United States\, St. Peter Lutheran School 8990 Church Rd.\, American Samoa
CATEGORIES:Church
END:VEVENT
BEGIN:VEVENT
DTSTART;TZID=America/Detroit:20241107T090000
DTEND;TZID=America/Detroit:20241107T120000
DTSTAMP:20260422T160136
CREATED:20230808T135515Z
LAST-MODIFIED:20231005T172928Z
UID:10000264-1730970000-1730980800@stpeterriley.org
SUMMARY:Quilting Meeting
DESCRIPTION:
URL:https://stpeterriley.org/event/quilting-meeting/2024-11-07/
LOCATION:School\, St. Johns\, MI 48879 United States\, St. Peter Lutheran School 8990 Church Rd.\, American Samoa
CATEGORIES:Church
END:VEVENT
BEGIN:VEVENT
DTSTART;TZID=America/Detroit:20241106T180000
DTEND;TZID=America/Detroit:20241106T190000
DTSTAMP:20260422T160136
CREATED:20241014T153415Z
LAST-MODIFIED:20241014T153520Z
UID:10003186-1730916000-1730919600@stpeterriley.org
SUMMARY:Bible Study
DESCRIPTION:
URL:https://stpeterriley.org/event/bible-study-4-2/2024-11-06/
LOCATION:School\, St. Johns\, MI 48879 United States\, St. Peter Lutheran School 8990 Church Rd.\, American Samoa
CATEGORIES:Church
END:VEVENT
BEGIN:VEVENT
DTSTART;TZID=America/Detroit:20241105T180000
DTEND;TZID=America/Detroit:20241105T200000
DTSTAMP:20260422T160136
CREATED:20230807T151538Z
LAST-MODIFIED:20231005T171530Z
UID:10000028-1730829600-1730836800@stpeterriley.org
SUMMARY:Elders Meeting
DESCRIPTION:
URL:https://stpeterriley.org/event/elders-meeting-2/2024-11-05/
LOCATION:School\, St. Johns\, MI 48879 United States\, St. Peter Lutheran School 8990 Church Rd.\, American Samoa
CATEGORIES:Church
END:VEVENT
BEGIN:VEVENT
DTSTART;TZID=UTC:20241104T183000
DTEND;TZID=UTC:20241104T200000
DTSTAMP:20260422T160136
CREATED:20221001T153511Z
LAST-MODIFIED:20260201T212944Z
UID:10000090-1730745000-1730750400@stpeterriley.org
SUMMARY:School Board Meeting
DESCRIPTION:
URL:https://stpeterriley.org/event/school-board-meeting/2024-11-04/
LOCATION:School\, St. Johns\, MI 48879 United States\, St. Peter Lutheran School 8990 Church Rd.\, American Samoa
CATEGORIES:Church,School
END:VEVENT
END:VCALENDAR