BEGIN:VCALENDAR
VERSION:2.0
PRODID:-//St. Peter Lutheran Church and School - ECPv6.15.20//NONSGML v1.0//EN
CALSCALE:GREGORIAN
METHOD:PUBLISH
X-WR-CALNAME:St. Peter Lutheran Church and School
X-ORIGINAL-URL:https://stpeterriley.org
X-WR-CALDESC:Events for St. Peter Lutheran Church and School
REFRESH-INTERVAL;VALUE=DURATION:PT1H
X-Robots-Tag:noindex
X-PUBLISHED-TTL:PT1H
BEGIN:VTIMEZONE
TZID:UTC
BEGIN:STANDARD
TZOFFSETFROM:+0000
TZOFFSETTO:+0000
TZNAME:UTC
DTSTART:20240101T000000
END:STANDARD
END:VTIMEZONE
BEGIN:VTIMEZONE
TZID:America/Detroit
BEGIN:DAYLIGHT
TZOFFSETFROM:-0500
TZOFFSETTO:-0400
TZNAME:EDT
DTSTART:20230312T070000
END:DAYLIGHT
BEGIN:STANDARD
TZOFFSETFROM:-0400
TZOFFSETTO:-0500
TZNAME:EST
DTSTART:20231105T060000
END:STANDARD
BEGIN:DAYLIGHT
TZOFFSETFROM:-0500
TZOFFSETTO:-0400
TZNAME:EDT
DTSTART:20240310T070000
END:DAYLIGHT
BEGIN:STANDARD
TZOFFSETFROM:-0400
TZOFFSETTO:-0500
TZNAME:EST
DTSTART:20241103T060000
END:STANDARD
BEGIN:DAYLIGHT
TZOFFSETFROM:-0500
TZOFFSETTO:-0400
TZNAME:EDT
DTSTART:20250309T070000
END:DAYLIGHT
BEGIN:STANDARD
TZOFFSETFROM:-0400
TZOFFSETTO:-0500
TZNAME:EST
DTSTART:20251102T060000
END:STANDARD
BEGIN:DAYLIGHT
TZOFFSETFROM:-0500
TZOFFSETTO:-0400
TZNAME:EDT
DTSTART:20260308T070000
END:DAYLIGHT
BEGIN:STANDARD
TZOFFSETFROM:-0400
TZOFFSETTO:-0500
TZNAME:EST
DTSTART:20261101T060000
END:STANDARD
END:VTIMEZONE
BEGIN:VEVENT
DTSTART;TZID=UTC:20250303T183000
DTEND;TZID=UTC:20250303T200000
DTSTAMP:20260422T123853
CREATED:20221001T153511Z
LAST-MODIFIED:20260201T212944Z
UID:10000094-1741026600-1741032000@stpeterriley.org
SUMMARY:School Board Meeting
DESCRIPTION:
URL:https://stpeterriley.org/event/school-board-meeting/2025-03-03/
LOCATION:School\, St. Johns\, MI 48879 United States\, St. Peter Lutheran School 8990 Church Rd.\, American Samoa
CATEGORIES:Church,School
END:VEVENT
BEGIN:VEVENT
DTSTART;TZID=America/Detroit:20250302T110000
DTEND;TZID=America/Detroit:20250302T120000
DTSTAMP:20260422T123853
CREATED:20231005T174949Z
LAST-MODIFIED:20231005T174949Z
UID:10001774-1740913200-1740916800@stpeterriley.org
SUMMARY:Bible Study
DESCRIPTION:
URL:https://stpeterriley.org/event/bible-study-2/2025-03-02/
LOCATION:School\, St. Johns\, MI 48879 United States\, St. Peter Lutheran School 8990 Church Rd.\, American Samoa
CATEGORIES:Church
END:VEVENT
BEGIN:VEVENT
DTSTART;TZID=America/Detroit:20250227T090000
DTEND;TZID=America/Detroit:20250227T120000
DTSTAMP:20260422T123853
CREATED:20230808T135515Z
LAST-MODIFIED:20231005T172928Z
UID:10000280-1740646800-1740657600@stpeterriley.org
SUMMARY:Quilting Meeting
DESCRIPTION:
URL:https://stpeterriley.org/event/quilting-meeting/2025-02-27/
LOCATION:School\, St. Johns\, MI 48879 United States\, St. Peter Lutheran School 8990 Church Rd.\, American Samoa
CATEGORIES:Church
END:VEVENT
BEGIN:VEVENT
DTSTART;TZID=America/Detroit:20250223T110000
DTEND;TZID=America/Detroit:20250223T120000
DTSTAMP:20260422T123853
CREATED:20231005T174949Z
LAST-MODIFIED:20231005T174949Z
UID:10001773-1740308400-1740312000@stpeterriley.org
SUMMARY:Bible Study
DESCRIPTION:
URL:https://stpeterriley.org/event/bible-study-2/2025-02-23/
LOCATION:School\, St. Johns\, MI 48879 United States\, St. Peter Lutheran School 8990 Church Rd.\, American Samoa
CATEGORIES:Church
END:VEVENT
BEGIN:VEVENT
DTSTART;TZID=America/Detroit:20250220T090000
DTEND;TZID=America/Detroit:20250220T120000
DTSTAMP:20260422T123853
CREATED:20230808T135515Z
LAST-MODIFIED:20231005T172928Z
UID:10000279-1740042000-1740052800@stpeterriley.org
SUMMARY:Quilting Meeting
DESCRIPTION:
URL:https://stpeterriley.org/event/quilting-meeting/2025-02-20/
LOCATION:School\, St. Johns\, MI 48879 United States\, St. Peter Lutheran School 8990 Church Rd.\, American Samoa
CATEGORIES:Church
END:VEVENT
BEGIN:VEVENT
DTSTART;TZID=America/Detroit:20250216T110000
DTEND;TZID=America/Detroit:20250216T120000
DTSTAMP:20260422T123853
CREATED:20231005T174949Z
LAST-MODIFIED:20231005T174949Z
UID:10001772-1739703600-1739707200@stpeterriley.org
SUMMARY:Bible Study
DESCRIPTION:
URL:https://stpeterriley.org/event/bible-study-2/2025-02-16/
LOCATION:School\, St. Johns\, MI 48879 United States\, St. Peter Lutheran School 8990 Church Rd.\, American Samoa
CATEGORIES:Church
END:VEVENT
BEGIN:VEVENT
DTSTART;TZID=America/Detroit:20250213T090000
DTEND;TZID=America/Detroit:20250213T120000
DTSTAMP:20260422T123853
CREATED:20230808T135515Z
LAST-MODIFIED:20231005T172928Z
UID:10000278-1739437200-1739448000@stpeterriley.org
SUMMARY:Quilting Meeting
DESCRIPTION:
URL:https://stpeterriley.org/event/quilting-meeting/2025-02-13/
LOCATION:School\, St. Johns\, MI 48879 United States\, St. Peter Lutheran School 8990 Church Rd.\, American Samoa
CATEGORIES:Church
END:VEVENT
BEGIN:VEVENT
DTSTART;TZID=America/Detroit:20250211T183000
DTEND;TZID=America/Detroit:20250211T200000
DTSTAMP:20260422T123853
CREATED:20230807T151821Z
LAST-MODIFIED:20231005T172658Z
UID:10000155-1739298600-1739304000@stpeterriley.org
SUMMARY:Council Meeting
DESCRIPTION:
URL:https://stpeterriley.org/event/council-meeting/2025-02-11/
LOCATION:School\, St. Johns\, MI 48879 United States\, St. Peter Lutheran School 8990 Church Rd.\, American Samoa
CATEGORIES:Church,School
END:VEVENT
BEGIN:VEVENT
DTSTART;TZID=America/Detroit:20250209T110000
DTEND;TZID=America/Detroit:20250209T120000
DTSTAMP:20260422T123853
CREATED:20231005T174949Z
LAST-MODIFIED:20231005T174949Z
UID:10001771-1739098800-1739102400@stpeterriley.org
SUMMARY:Bible Study
DESCRIPTION:
URL:https://stpeterriley.org/event/bible-study-2/2025-02-09/
LOCATION:School\, St. Johns\, MI 48879 United States\, St. Peter Lutheran School 8990 Church Rd.\, American Samoa
CATEGORIES:Church
END:VEVENT
BEGIN:VEVENT
DTSTART;TZID=America/Detroit:20250206T120000
DTEND;TZID=America/Detroit:20250206T140000
DTSTAMP:20260422T123853
CREATED:20231005T173339Z
LAST-MODIFIED:20231005T173339Z
UID:10000485-1738843200-1738850400@stpeterriley.org
SUMMARY:Ladies Aid
DESCRIPTION:
URL:https://stpeterriley.org/event/ladies-aid/2025-02-06/
LOCATION:School\, St. Johns\, MI 48879 United States\, St. Peter Lutheran School 8990 Church Rd.\, American Samoa
CATEGORIES:Church
END:VEVENT
BEGIN:VEVENT
DTSTART;TZID=America/Detroit:20250206T090000
DTEND;TZID=America/Detroit:20250206T120000
DTSTAMP:20260422T123853
CREATED:20230808T135515Z
LAST-MODIFIED:20231005T172928Z
UID:10000277-1738832400-1738843200@stpeterriley.org
SUMMARY:Quilting Meeting
DESCRIPTION:
URL:https://stpeterriley.org/event/quilting-meeting/2025-02-06/
LOCATION:School\, St. Johns\, MI 48879 United States\, St. Peter Lutheran School 8990 Church Rd.\, American Samoa
CATEGORIES:Church
END:VEVENT
BEGIN:VEVENT
DTSTART;TZID=America/Detroit:20250204T180000
DTEND;TZID=America/Detroit:20250204T200000
DTSTAMP:20260422T123853
CREATED:20230807T151538Z
LAST-MODIFIED:20231005T171530Z
UID:10000031-1738692000-1738699200@stpeterriley.org
SUMMARY:Elders Meeting
DESCRIPTION:
URL:https://stpeterriley.org/event/elders-meeting-2/2025-02-04/
LOCATION:School\, St. Johns\, MI 48879 United States\, St. Peter Lutheran School 8990 Church Rd.\, American Samoa
CATEGORIES:Church
END:VEVENT
BEGIN:VEVENT
DTSTART;TZID=UTC:20250203T183000
DTEND;TZID=UTC:20250203T200000
DTSTAMP:20260422T123853
CREATED:20221001T153511Z
LAST-MODIFIED:20260201T212944Z
UID:10000093-1738607400-1738612800@stpeterriley.org
SUMMARY:School Board Meeting
DESCRIPTION:
URL:https://stpeterriley.org/event/school-board-meeting/2025-02-03/
LOCATION:School\, St. Johns\, MI 48879 United States\, St. Peter Lutheran School 8990 Church Rd.\, American Samoa
CATEGORIES:Church,School
END:VEVENT
BEGIN:VEVENT
DTSTART;TZID=America/Detroit:20250202T110000
DTEND;TZID=America/Detroit:20250202T120000
DTSTAMP:20260422T123853
CREATED:20231005T174949Z
LAST-MODIFIED:20231005T174949Z
UID:10001770-1738494000-1738497600@stpeterriley.org
SUMMARY:Bible Study
DESCRIPTION:
URL:https://stpeterriley.org/event/bible-study-2/2025-02-02/
LOCATION:School\, St. Johns\, MI 48879 United States\, St. Peter Lutheran School 8990 Church Rd.\, American Samoa
CATEGORIES:Church
END:VEVENT
BEGIN:VEVENT
DTSTART;TZID=America/Detroit:20250130T090000
DTEND;TZID=America/Detroit:20250130T120000
DTSTAMP:20260422T123853
CREATED:20230808T135515Z
LAST-MODIFIED:20231005T172928Z
UID:10000276-1738227600-1738238400@stpeterriley.org
SUMMARY:Quilting Meeting
DESCRIPTION:
URL:https://stpeterriley.org/event/quilting-meeting/2025-01-30/
LOCATION:School\, St. Johns\, MI 48879 United States\, St. Peter Lutheran School 8990 Church Rd.\, American Samoa
CATEGORIES:Church
END:VEVENT
BEGIN:VEVENT
DTSTART;TZID=America/Detroit:20250126T110000
DTEND;TZID=America/Detroit:20250126T120000
DTSTAMP:20260422T123853
CREATED:20231005T174949Z
LAST-MODIFIED:20231005T174949Z
UID:10001769-1737889200-1737892800@stpeterriley.org
SUMMARY:Bible Study
DESCRIPTION:
URL:https://stpeterriley.org/event/bible-study-2/2025-01-26/
LOCATION:School\, St. Johns\, MI 48879 United States\, St. Peter Lutheran School 8990 Church Rd.\, American Samoa
CATEGORIES:Church
END:VEVENT
BEGIN:VEVENT
DTSTART;TZID=America/Detroit:20250123T090000
DTEND;TZID=America/Detroit:20250123T120000
DTSTAMP:20260422T123853
CREATED:20230808T135515Z
LAST-MODIFIED:20231005T172928Z
UID:10000275-1737622800-1737633600@stpeterriley.org
SUMMARY:Quilting Meeting
DESCRIPTION:
URL:https://stpeterriley.org/event/quilting-meeting/2025-01-23/
LOCATION:School\, St. Johns\, MI 48879 United States\, St. Peter Lutheran School 8990 Church Rd.\, American Samoa
CATEGORIES:Church
END:VEVENT
BEGIN:VEVENT
DTSTART;TZID=America/Detroit:20250119T110000
DTEND;TZID=America/Detroit:20250119T120000
DTSTAMP:20260422T123853
CREATED:20231005T174949Z
LAST-MODIFIED:20231005T174949Z
UID:10001768-1737284400-1737288000@stpeterriley.org
SUMMARY:Bible Study
DESCRIPTION:
URL:https://stpeterriley.org/event/bible-study-2/2025-01-19/
LOCATION:School\, St. Johns\, MI 48879 United States\, St. Peter Lutheran School 8990 Church Rd.\, American Samoa
CATEGORIES:Church
END:VEVENT
BEGIN:VEVENT
DTSTART;TZID=America/Detroit:20250116T090000
DTEND;TZID=America/Detroit:20250116T120000
DTSTAMP:20260422T123853
CREATED:20230808T135515Z
LAST-MODIFIED:20231005T172928Z
UID:10000274-1737018000-1737028800@stpeterriley.org
SUMMARY:Quilting Meeting
DESCRIPTION:
URL:https://stpeterriley.org/event/quilting-meeting/2025-01-16/
LOCATION:School\, St. Johns\, MI 48879 United States\, St. Peter Lutheran School 8990 Church Rd.\, American Samoa
CATEGORIES:Church
END:VEVENT
BEGIN:VEVENT
DTSTART;TZID=America/Detroit:20250114T183000
DTEND;TZID=America/Detroit:20250114T200000
DTSTAMP:20260422T123853
CREATED:20230807T151821Z
LAST-MODIFIED:20231005T172658Z
UID:10000154-1736879400-1736884800@stpeterriley.org
SUMMARY:Council Meeting
DESCRIPTION:
URL:https://stpeterriley.org/event/council-meeting/2025-01-14/
LOCATION:School\, St. Johns\, MI 48879 United States\, St. Peter Lutheran School 8990 Church Rd.\, American Samoa
CATEGORIES:Church,School
END:VEVENT
BEGIN:VEVENT
DTSTART;TZID=America/Detroit:20250112T110000
DTEND;TZID=America/Detroit:20250112T120000
DTSTAMP:20260422T123853
CREATED:20231005T174949Z
LAST-MODIFIED:20231005T174949Z
UID:10001767-1736679600-1736683200@stpeterriley.org
SUMMARY:Bible Study
DESCRIPTION:
URL:https://stpeterriley.org/event/bible-study-2/2025-01-12/
LOCATION:School\, St. Johns\, MI 48879 United States\, St. Peter Lutheran School 8990 Church Rd.\, American Samoa
CATEGORIES:Church
END:VEVENT
BEGIN:VEVENT
DTSTART;TZID=America/Detroit:20250109T090000
DTEND;TZID=America/Detroit:20250109T120000
DTSTAMP:20260422T123853
CREATED:20230808T135515Z
LAST-MODIFIED:20231005T172928Z
UID:10000273-1736413200-1736424000@stpeterriley.org
SUMMARY:Quilting Meeting
DESCRIPTION:
URL:https://stpeterriley.org/event/quilting-meeting/2025-01-09/
LOCATION:School\, St. Johns\, MI 48879 United States\, St. Peter Lutheran School 8990 Church Rd.\, American Samoa
CATEGORIES:Church
END:VEVENT
BEGIN:VEVENT
DTSTART;TZID=America/Detroit:20250107T180000
DTEND;TZID=America/Detroit:20250107T200000
DTSTAMP:20260422T123853
CREATED:20230807T151538Z
LAST-MODIFIED:20231005T171530Z
UID:10000030-1736272800-1736280000@stpeterriley.org
SUMMARY:Elders Meeting
DESCRIPTION:
URL:https://stpeterriley.org/event/elders-meeting-2/2025-01-07/
LOCATION:School\, St. Johns\, MI 48879 United States\, St. Peter Lutheran School 8990 Church Rd.\, American Samoa
CATEGORIES:Church
END:VEVENT
BEGIN:VEVENT
DTSTART;TZID=UTC:20250106T183000
DTEND;TZID=UTC:20250106T200000
DTSTAMP:20260422T123853
CREATED:20221001T153511Z
LAST-MODIFIED:20260201T212944Z
UID:10000092-1736188200-1736193600@stpeterriley.org
SUMMARY:School Board Meeting
DESCRIPTION:
URL:https://stpeterriley.org/event/school-board-meeting/2025-01-06/
LOCATION:School\, St. Johns\, MI 48879 United States\, St. Peter Lutheran School 8990 Church Rd.\, American Samoa
CATEGORIES:Church,School
END:VEVENT
BEGIN:VEVENT
DTSTART;TZID=America/Detroit:20250105T110000
DTEND;TZID=America/Detroit:20250105T120000
DTSTAMP:20260422T123853
CREATED:20231005T174949Z
LAST-MODIFIED:20231005T174949Z
UID:10001766-1736074800-1736078400@stpeterriley.org
SUMMARY:Bible Study
DESCRIPTION:
URL:https://stpeterriley.org/event/bible-study-2/2025-01-05/
LOCATION:School\, St. Johns\, MI 48879 United States\, St. Peter Lutheran School 8990 Church Rd.\, American Samoa
CATEGORIES:Church
END:VEVENT
BEGIN:VEVENT
DTSTART;TZID=America/Detroit:20250102T120000
DTEND;TZID=America/Detroit:20250102T140000
DTSTAMP:20260422T123853
CREATED:20231005T173339Z
LAST-MODIFIED:20231005T173339Z
UID:10000484-1735819200-1735826400@stpeterriley.org
SUMMARY:Ladies Aid
DESCRIPTION:
URL:https://stpeterriley.org/event/ladies-aid/2025-01-02/
LOCATION:School\, St. Johns\, MI 48879 United States\, St. Peter Lutheran School 8990 Church Rd.\, American Samoa
CATEGORIES:Church
END:VEVENT
BEGIN:VEVENT
DTSTART;TZID=America/Detroit:20250102T090000
DTEND;TZID=America/Detroit:20250102T120000
DTSTAMP:20260422T123853
CREATED:20230808T135515Z
LAST-MODIFIED:20231005T172928Z
UID:10000272-1735808400-1735819200@stpeterriley.org
SUMMARY:Quilting Meeting
DESCRIPTION:
URL:https://stpeterriley.org/event/quilting-meeting/2025-01-02/
LOCATION:School\, St. Johns\, MI 48879 United States\, St. Peter Lutheran School 8990 Church Rd.\, American Samoa
CATEGORIES:Church
END:VEVENT
BEGIN:VEVENT
DTSTART;TZID=America/Detroit:20241229T110000
DTEND;TZID=America/Detroit:20241229T120000
DTSTAMP:20260422T123853
CREATED:20231005T174949Z
LAST-MODIFIED:20231005T174949Z
UID:10001765-1735470000-1735473600@stpeterriley.org
SUMMARY:Bible Study
DESCRIPTION:
URL:https://stpeterriley.org/event/bible-study-2/2024-12-29/
LOCATION:School\, St. Johns\, MI 48879 United States\, St. Peter Lutheran School 8990 Church Rd.\, American Samoa
CATEGORIES:Church
END:VEVENT
BEGIN:VEVENT
DTSTART;TZID=America/Detroit:20241226T090000
DTEND;TZID=America/Detroit:20241226T120000
DTSTAMP:20260422T123853
CREATED:20230808T135515Z
LAST-MODIFIED:20231005T172928Z
UID:10000271-1735203600-1735214400@stpeterriley.org
SUMMARY:Quilting Meeting
DESCRIPTION:
URL:https://stpeterriley.org/event/quilting-meeting/2024-12-26/
LOCATION:School\, St. Johns\, MI 48879 United States\, St. Peter Lutheran School 8990 Church Rd.\, American Samoa
CATEGORIES:Church
END:VEVENT
BEGIN:VEVENT
DTSTART;TZID=America/Detroit:20241222T110000
DTEND;TZID=America/Detroit:20241222T120000
DTSTAMP:20260422T123853
CREATED:20231005T174949Z
LAST-MODIFIED:20231005T174949Z
UID:10001764-1734865200-1734868800@stpeterriley.org
SUMMARY:Bible Study
DESCRIPTION:
URL:https://stpeterriley.org/event/bible-study-2/2024-12-22/
LOCATION:School\, St. Johns\, MI 48879 United States\, St. Peter Lutheran School 8990 Church Rd.\, American Samoa
CATEGORIES:Church
END:VEVENT
END:VCALENDAR