BEGIN:VCALENDAR
VERSION:2.0
PRODID:-//St. Peter Lutheran Church and School - ECPv6.15.20//NONSGML v1.0//EN
CALSCALE:GREGORIAN
METHOD:PUBLISH
X-WR-CALNAME:St. Peter Lutheran Church and School
X-ORIGINAL-URL:https://stpeterriley.org
X-WR-CALDESC:Events for St. Peter Lutheran Church and School
REFRESH-INTERVAL;VALUE=DURATION:PT1H
X-Robots-Tag:noindex
X-PUBLISHED-TTL:PT1H
BEGIN:VTIMEZONE
TZID:America/Detroit
BEGIN:DAYLIGHT
TZOFFSETFROM:-0500
TZOFFSETTO:-0400
TZNAME:EDT
DTSTART:20240310T070000
END:DAYLIGHT
BEGIN:STANDARD
TZOFFSETFROM:-0400
TZOFFSETTO:-0500
TZNAME:EST
DTSTART:20241103T060000
END:STANDARD
BEGIN:DAYLIGHT
TZOFFSETFROM:-0500
TZOFFSETTO:-0400
TZNAME:EDT
DTSTART:20250309T070000
END:DAYLIGHT
BEGIN:STANDARD
TZOFFSETFROM:-0400
TZOFFSETTO:-0500
TZNAME:EST
DTSTART:20251102T060000
END:STANDARD
BEGIN:DAYLIGHT
TZOFFSETFROM:-0500
TZOFFSETTO:-0400
TZNAME:EDT
DTSTART:20260308T070000
END:DAYLIGHT
BEGIN:STANDARD
TZOFFSETFROM:-0400
TZOFFSETTO:-0500
TZNAME:EST
DTSTART:20261101T060000
END:STANDARD
END:VTIMEZONE
BEGIN:VTIMEZONE
TZID:UTC
BEGIN:STANDARD
TZOFFSETFROM:+0000
TZOFFSETTO:+0000
TZNAME:UTC
DTSTART:20240101T000000
END:STANDARD
END:VTIMEZONE
BEGIN:VEVENT
DTSTART;TZID=America/Detroit:20250803T110000
DTEND;TZID=America/Detroit:20250803T120000
DTSTAMP:20260421T235734
CREATED:20231005T174949Z
LAST-MODIFIED:20231005T174949Z
UID:10001796-1754218800-1754222400@stpeterriley.org
SUMMARY:Bible Study
DESCRIPTION:
URL:https://stpeterriley.org/event/bible-study-2/2025-08-03/
LOCATION:School\, St. Johns\, MI 48879 United States\, St. Peter Lutheran School 8990 Church Rd.\, American Samoa
CATEGORIES:Church
END:VEVENT
BEGIN:VEVENT
DTSTART;TZID=America/Detroit:20250731T090000
DTEND;TZID=America/Detroit:20250731T120000
DTSTAMP:20260421T235734
CREATED:20230808T135515Z
LAST-MODIFIED:20231005T172928Z
UID:10000302-1753952400-1753963200@stpeterriley.org
SUMMARY:Quilting Meeting
DESCRIPTION:
URL:https://stpeterriley.org/event/quilting-meeting/2025-07-31/
LOCATION:School\, St. Johns\, MI 48879 United States\, St. Peter Lutheran School 8990 Church Rd.\, American Samoa
CATEGORIES:Church
END:VEVENT
BEGIN:VEVENT
DTSTART;TZID=America/Detroit:20250727T110000
DTEND;TZID=America/Detroit:20250727T120000
DTSTAMP:20260421T235734
CREATED:20231005T174949Z
LAST-MODIFIED:20231005T174949Z
UID:10001795-1753614000-1753617600@stpeterriley.org
SUMMARY:Bible Study
DESCRIPTION:
URL:https://stpeterriley.org/event/bible-study-2/2025-07-27/
LOCATION:School\, St. Johns\, MI 48879 United States\, St. Peter Lutheran School 8990 Church Rd.\, American Samoa
CATEGORIES:Church
END:VEVENT
BEGIN:VEVENT
DTSTART;TZID=America/Detroit:20250724T090000
DTEND;TZID=America/Detroit:20250724T120000
DTSTAMP:20260421T235734
CREATED:20230808T135515Z
LAST-MODIFIED:20231005T172928Z
UID:10000301-1753347600-1753358400@stpeterriley.org
SUMMARY:Quilting Meeting
DESCRIPTION:
URL:https://stpeterriley.org/event/quilting-meeting/2025-07-24/
LOCATION:School\, St. Johns\, MI 48879 United States\, St. Peter Lutheran School 8990 Church Rd.\, American Samoa
CATEGORIES:Church
END:VEVENT
BEGIN:VEVENT
DTSTART;TZID=America/Detroit:20250720T110000
DTEND;TZID=America/Detroit:20250720T120000
DTSTAMP:20260421T235734
CREATED:20231005T174949Z
LAST-MODIFIED:20231005T174949Z
UID:10001794-1753009200-1753012800@stpeterriley.org
SUMMARY:Bible Study
DESCRIPTION:
URL:https://stpeterriley.org/event/bible-study-2/2025-07-20/
LOCATION:School\, St. Johns\, MI 48879 United States\, St. Peter Lutheran School 8990 Church Rd.\, American Samoa
CATEGORIES:Church
END:VEVENT
BEGIN:VEVENT
DTSTART;TZID=America/Detroit:20250717T090000
DTEND;TZID=America/Detroit:20250717T120000
DTSTAMP:20260421T235734
CREATED:20230808T135515Z
LAST-MODIFIED:20231005T172928Z
UID:10000300-1752742800-1752753600@stpeterriley.org
SUMMARY:Quilting Meeting
DESCRIPTION:
URL:https://stpeterriley.org/event/quilting-meeting/2025-07-17/
LOCATION:School\, St. Johns\, MI 48879 United States\, St. Peter Lutheran School 8990 Church Rd.\, American Samoa
CATEGORIES:Church
END:VEVENT
BEGIN:VEVENT
DTSTART;TZID=America/Detroit:20250713T110000
DTEND;TZID=America/Detroit:20250713T120000
DTSTAMP:20260421T235734
CREATED:20231005T174949Z
LAST-MODIFIED:20231005T174949Z
UID:10001793-1752404400-1752408000@stpeterriley.org
SUMMARY:Bible Study
DESCRIPTION:
URL:https://stpeterriley.org/event/bible-study-2/2025-07-13/
LOCATION:School\, St. Johns\, MI 48879 United States\, St. Peter Lutheran School 8990 Church Rd.\, American Samoa
CATEGORIES:Church
END:VEVENT
BEGIN:VEVENT
DTSTART;TZID=America/Detroit:20250710T090000
DTEND;TZID=America/Detroit:20250710T120000
DTSTAMP:20260421T235734
CREATED:20230808T135515Z
LAST-MODIFIED:20231005T172928Z
UID:10000299-1752138000-1752148800@stpeterriley.org
SUMMARY:Quilting Meeting
DESCRIPTION:
URL:https://stpeterriley.org/event/quilting-meeting/2025-07-10/
LOCATION:School\, St. Johns\, MI 48879 United States\, St. Peter Lutheran School 8990 Church Rd.\, American Samoa
CATEGORIES:Church
END:VEVENT
BEGIN:VEVENT
DTSTART;TZID=America/Detroit:20250708T183000
DTEND;TZID=America/Detroit:20250708T200000
DTSTAMP:20260421T235734
CREATED:20230807T151821Z
LAST-MODIFIED:20231005T172658Z
UID:10000160-1751999400-1752004800@stpeterriley.org
SUMMARY:Council Meeting
DESCRIPTION:
URL:https://stpeterriley.org/event/council-meeting/2025-07-08/
LOCATION:School\, St. Johns\, MI 48879 United States\, St. Peter Lutheran School 8990 Church Rd.\, American Samoa
CATEGORIES:Church,School
END:VEVENT
BEGIN:VEVENT
DTSTART;TZID=UTC:20250707T183000
DTEND;TZID=UTC:20250707T200000
DTSTAMP:20260421T235734
CREATED:20221001T153511Z
LAST-MODIFIED:20260201T212944Z
UID:10000098-1751913000-1751918400@stpeterriley.org
SUMMARY:School Board Meeting
DESCRIPTION:
URL:https://stpeterriley.org/event/school-board-meeting/2025-07-07/
LOCATION:School\, St. Johns\, MI 48879 United States\, St. Peter Lutheran School 8990 Church Rd.\, American Samoa
CATEGORIES:Church,School
END:VEVENT
BEGIN:VEVENT
DTSTART;TZID=America/Detroit:20250706T110000
DTEND;TZID=America/Detroit:20250706T120000
DTSTAMP:20260421T235734
CREATED:20231005T174949Z
LAST-MODIFIED:20231005T174949Z
UID:10001792-1751799600-1751803200@stpeterriley.org
SUMMARY:Bible Study
DESCRIPTION:
URL:https://stpeterriley.org/event/bible-study-2/2025-07-06/
LOCATION:School\, St. Johns\, MI 48879 United States\, St. Peter Lutheran School 8990 Church Rd.\, American Samoa
CATEGORIES:Church
END:VEVENT
BEGIN:VEVENT
DTSTART;TZID=America/Detroit:20250703T120000
DTEND;TZID=America/Detroit:20250703T140000
DTSTAMP:20260421T235734
CREATED:20231005T173339Z
LAST-MODIFIED:20231005T173339Z
UID:10000490-1751544000-1751551200@stpeterriley.org
SUMMARY:Ladies Aid
DESCRIPTION:
URL:https://stpeterriley.org/event/ladies-aid/2025-07-03/
LOCATION:School\, St. Johns\, MI 48879 United States\, St. Peter Lutheran School 8990 Church Rd.\, American Samoa
CATEGORIES:Church
END:VEVENT
BEGIN:VEVENT
DTSTART;TZID=America/Detroit:20250703T090000
DTEND;TZID=America/Detroit:20250703T120000
DTSTAMP:20260421T235734
CREATED:20230808T135515Z
LAST-MODIFIED:20231005T172928Z
UID:10000298-1751533200-1751544000@stpeterriley.org
SUMMARY:Quilting Meeting
DESCRIPTION:
URL:https://stpeterriley.org/event/quilting-meeting/2025-07-03/
LOCATION:School\, St. Johns\, MI 48879 United States\, St. Peter Lutheran School 8990 Church Rd.\, American Samoa
CATEGORIES:Church
END:VEVENT
BEGIN:VEVENT
DTSTART;TZID=America/Detroit:20250701T180000
DTEND;TZID=America/Detroit:20250701T200000
DTSTAMP:20260421T235734
CREATED:20230807T151538Z
LAST-MODIFIED:20231005T171530Z
UID:10000036-1751392800-1751400000@stpeterriley.org
SUMMARY:Elders Meeting
DESCRIPTION:
URL:https://stpeterriley.org/event/elders-meeting-2/2025-07-01/
LOCATION:School\, St. Johns\, MI 48879 United States\, St. Peter Lutheran School 8990 Church Rd.\, American Samoa
CATEGORIES:Church
END:VEVENT
BEGIN:VEVENT
DTSTART;TZID=America/Detroit:20250629T110000
DTEND;TZID=America/Detroit:20250629T120000
DTSTAMP:20260421T235734
CREATED:20231005T174949Z
LAST-MODIFIED:20231005T174949Z
UID:10001791-1751194800-1751198400@stpeterriley.org
SUMMARY:Bible Study
DESCRIPTION:
URL:https://stpeterriley.org/event/bible-study-2/2025-06-29/
LOCATION:School\, St. Johns\, MI 48879 United States\, St. Peter Lutheran School 8990 Church Rd.\, American Samoa
CATEGORIES:Church
END:VEVENT
BEGIN:VEVENT
DTSTART;TZID=America/Detroit:20250626T090000
DTEND;TZID=America/Detroit:20250626T120000
DTSTAMP:20260421T235734
CREATED:20230808T135515Z
LAST-MODIFIED:20231005T172928Z
UID:10000297-1750928400-1750939200@stpeterriley.org
SUMMARY:Quilting Meeting
DESCRIPTION:
URL:https://stpeterriley.org/event/quilting-meeting/2025-06-26/
LOCATION:School\, St. Johns\, MI 48879 United States\, St. Peter Lutheran School 8990 Church Rd.\, American Samoa
CATEGORIES:Church
END:VEVENT
BEGIN:VEVENT
DTSTART;TZID=America/Detroit:20250622T110000
DTEND;TZID=America/Detroit:20250622T120000
DTSTAMP:20260421T235734
CREATED:20231005T174949Z
LAST-MODIFIED:20231005T174949Z
UID:10001790-1750590000-1750593600@stpeterriley.org
SUMMARY:Bible Study
DESCRIPTION:
URL:https://stpeterriley.org/event/bible-study-2/2025-06-22/
LOCATION:School\, St. Johns\, MI 48879 United States\, St. Peter Lutheran School 8990 Church Rd.\, American Samoa
CATEGORIES:Church
END:VEVENT
BEGIN:VEVENT
DTSTART;TZID=America/Detroit:20250620T173000
DTEND;TZID=America/Detroit:20250620T203000
DTSTAMP:20260421T235734
CREATED:20250501T131046Z
LAST-MODIFIED:20250501T131046Z
UID:10003255-1750440600-1750451400@stpeterriley.org
SUMMARY:Vacation Bible School
DESCRIPTION:
URL:https://stpeterriley.org/event/vacation-bible-school/2025-06-20/
LOCATION:School\, St. Johns\, MI 48879 United States\, St. Peter Lutheran School 8990 Church Rd.\, American Samoa
CATEGORIES:Church
END:VEVENT
BEGIN:VEVENT
DTSTART;TZID=America/Detroit:20250619T173000
DTEND;TZID=America/Detroit:20250619T203000
DTSTAMP:20260421T235734
CREATED:20250501T131046Z
LAST-MODIFIED:20250501T131046Z
UID:10003254-1750354200-1750365000@stpeterriley.org
SUMMARY:Vacation Bible School
DESCRIPTION:
URL:https://stpeterriley.org/event/vacation-bible-school/2025-06-19/
LOCATION:School\, St. Johns\, MI 48879 United States\, St. Peter Lutheran School 8990 Church Rd.\, American Samoa
CATEGORIES:Church
END:VEVENT
BEGIN:VEVENT
DTSTART;TZID=America/Detroit:20250619T090000
DTEND;TZID=America/Detroit:20250619T120000
DTSTAMP:20260421T235734
CREATED:20230808T135515Z
LAST-MODIFIED:20231005T172928Z
UID:10000296-1750323600-1750334400@stpeterriley.org
SUMMARY:Quilting Meeting
DESCRIPTION:
URL:https://stpeterriley.org/event/quilting-meeting/2025-06-19/
LOCATION:School\, St. Johns\, MI 48879 United States\, St. Peter Lutheran School 8990 Church Rd.\, American Samoa
CATEGORIES:Church
END:VEVENT
BEGIN:VEVENT
DTSTART;TZID=America/Detroit:20250618T173000
DTEND;TZID=America/Detroit:20250618T203000
DTSTAMP:20260421T235734
CREATED:20250501T131046Z
LAST-MODIFIED:20250501T131046Z
UID:10003253-1750267800-1750278600@stpeterriley.org
SUMMARY:Vacation Bible School
DESCRIPTION:
URL:https://stpeterriley.org/event/vacation-bible-school/2025-06-18/
LOCATION:School\, St. Johns\, MI 48879 United States\, St. Peter Lutheran School 8990 Church Rd.\, American Samoa
CATEGORIES:Church
END:VEVENT
BEGIN:VEVENT
DTSTART;TZID=America/Detroit:20250617T173000
DTEND;TZID=America/Detroit:20250617T203000
DTSTAMP:20260421T235734
CREATED:20250501T131046Z
LAST-MODIFIED:20250501T131046Z
UID:10003252-1750181400-1750192200@stpeterriley.org
SUMMARY:Vacation Bible School
DESCRIPTION:
URL:https://stpeterriley.org/event/vacation-bible-school/2025-06-17/
LOCATION:School\, St. Johns\, MI 48879 United States\, St. Peter Lutheran School 8990 Church Rd.\, American Samoa
CATEGORIES:Church
END:VEVENT
BEGIN:VEVENT
DTSTART;TZID=America/Detroit:20250616T173000
DTEND;TZID=America/Detroit:20250616T203000
DTSTAMP:20260421T235734
CREATED:20250501T131046Z
LAST-MODIFIED:20250501T131046Z
UID:10003251-1750095000-1750105800@stpeterriley.org
SUMMARY:Vacation Bible School
DESCRIPTION:
URL:https://stpeterriley.org/event/vacation-bible-school/2025-06-16/
LOCATION:School\, St. Johns\, MI 48879 United States\, St. Peter Lutheran School 8990 Church Rd.\, American Samoa
CATEGORIES:Church
END:VEVENT
BEGIN:VEVENT
DTSTART;TZID=America/Detroit:20250615T110000
DTEND;TZID=America/Detroit:20250615T120000
DTSTAMP:20260421T235734
CREATED:20231005T174949Z
LAST-MODIFIED:20231005T174949Z
UID:10001789-1749985200-1749988800@stpeterriley.org
SUMMARY:Bible Study
DESCRIPTION:
URL:https://stpeterriley.org/event/bible-study-2/2025-06-15/
LOCATION:School\, St. Johns\, MI 48879 United States\, St. Peter Lutheran School 8990 Church Rd.\, American Samoa
CATEGORIES:Church
END:VEVENT
BEGIN:VEVENT
DTSTART;TZID=America/Detroit:20250612T090000
DTEND;TZID=America/Detroit:20250612T120000
DTSTAMP:20260421T235734
CREATED:20230808T135515Z
LAST-MODIFIED:20231005T172928Z
UID:10000295-1749718800-1749729600@stpeterriley.org
SUMMARY:Quilting Meeting
DESCRIPTION:
URL:https://stpeterriley.org/event/quilting-meeting/2025-06-12/
LOCATION:School\, St. Johns\, MI 48879 United States\, St. Peter Lutheran School 8990 Church Rd.\, American Samoa
CATEGORIES:Church
END:VEVENT
BEGIN:VEVENT
DTSTART;TZID=America/Detroit:20250610T183000
DTEND;TZID=America/Detroit:20250610T200000
DTSTAMP:20260421T235734
CREATED:20230807T151821Z
LAST-MODIFIED:20231005T172658Z
UID:10000159-1749580200-1749585600@stpeterriley.org
SUMMARY:Council Meeting
DESCRIPTION:
URL:https://stpeterriley.org/event/council-meeting/2025-06-10/
LOCATION:School\, St. Johns\, MI 48879 United States\, St. Peter Lutheran School 8990 Church Rd.\, American Samoa
CATEGORIES:Church,School
END:VEVENT
BEGIN:VEVENT
DTSTART;TZID=America/Detroit:20250608T110000
DTEND;TZID=America/Detroit:20250608T120000
DTSTAMP:20260421T235734
CREATED:20231005T174949Z
LAST-MODIFIED:20231005T174949Z
UID:10001788-1749380400-1749384000@stpeterriley.org
SUMMARY:Bible Study
DESCRIPTION:
URL:https://stpeterriley.org/event/bible-study-2/2025-06-08/
LOCATION:School\, St. Johns\, MI 48879 United States\, St. Peter Lutheran School 8990 Church Rd.\, American Samoa
CATEGORIES:Church
END:VEVENT
BEGIN:VEVENT
DTSTART;TZID=America/Detroit:20250605T120000
DTEND;TZID=America/Detroit:20250605T140000
DTSTAMP:20260421T235734
CREATED:20231005T173339Z
LAST-MODIFIED:20231005T173339Z
UID:10000489-1749124800-1749132000@stpeterriley.org
SUMMARY:Ladies Aid
DESCRIPTION:
URL:https://stpeterriley.org/event/ladies-aid/2025-06-05/
LOCATION:School\, St. Johns\, MI 48879 United States\, St. Peter Lutheran School 8990 Church Rd.\, American Samoa
CATEGORIES:Church
END:VEVENT
BEGIN:VEVENT
DTSTART;TZID=America/Detroit:20250605T090000
DTEND;TZID=America/Detroit:20250605T120000
DTSTAMP:20260421T235734
CREATED:20230808T135515Z
LAST-MODIFIED:20231005T172928Z
UID:10000294-1749114000-1749124800@stpeterriley.org
SUMMARY:Quilting Meeting
DESCRIPTION:
URL:https://stpeterriley.org/event/quilting-meeting/2025-06-05/
LOCATION:School\, St. Johns\, MI 48879 United States\, St. Peter Lutheran School 8990 Church Rd.\, American Samoa
CATEGORIES:Church
END:VEVENT
BEGIN:VEVENT
DTSTART;TZID=America/Detroit:20250603T180000
DTEND;TZID=America/Detroit:20250603T200000
DTSTAMP:20260421T235734
CREATED:20230807T151538Z
LAST-MODIFIED:20231005T171530Z
UID:10000035-1748973600-1748980800@stpeterriley.org
SUMMARY:Elders Meeting
DESCRIPTION:
URL:https://stpeterriley.org/event/elders-meeting-2/2025-06-03/
LOCATION:School\, St. Johns\, MI 48879 United States\, St. Peter Lutheran School 8990 Church Rd.\, American Samoa
CATEGORIES:Church
END:VEVENT
END:VCALENDAR