BEGIN:VCALENDAR
VERSION:2.0
PRODID:-//St. Peter Lutheran Church and School - ECPv6.15.20//NONSGML v1.0//EN
CALSCALE:GREGORIAN
METHOD:PUBLISH
X-ORIGINAL-URL:https://stpeterriley.org
X-WR-CALDESC:Events for St. Peter Lutheran Church and School
REFRESH-INTERVAL;VALUE=DURATION:PT1H
X-Robots-Tag:noindex
X-PUBLISHED-TTL:PT1H
BEGIN:VTIMEZONE
TZID:America/Detroit
BEGIN:DAYLIGHT
TZOFFSETFROM:-0500
TZOFFSETTO:-0400
TZNAME:EDT
DTSTART:20260308T070000
END:DAYLIGHT
BEGIN:STANDARD
TZOFFSETFROM:-0400
TZOFFSETTO:-0500
TZNAME:EST
DTSTART:20261101T060000
END:STANDARD
BEGIN:DAYLIGHT
TZOFFSETFROM:-0500
TZOFFSETTO:-0400
TZNAME:EDT
DTSTART:20270314T070000
END:DAYLIGHT
BEGIN:STANDARD
TZOFFSETFROM:-0400
TZOFFSETTO:-0500
TZNAME:EST
DTSTART:20271107T060000
END:STANDARD
BEGIN:DAYLIGHT
TZOFFSETFROM:-0500
TZOFFSETTO:-0400
TZNAME:EDT
DTSTART:20280312T070000
END:DAYLIGHT
BEGIN:STANDARD
TZOFFSETFROM:-0400
TZOFFSETTO:-0500
TZNAME:EST
DTSTART:20281105T060000
END:STANDARD
BEGIN:DAYLIGHT
TZOFFSETFROM:-0500
TZOFFSETTO:-0400
TZNAME:EDT
DTSTART:20290311T070000
END:DAYLIGHT
BEGIN:STANDARD
TZOFFSETFROM:-0400
TZOFFSETTO:-0500
TZNAME:EST
DTSTART:20291104T060000
END:STANDARD
END:VTIMEZONE
BEGIN:VEVENT
DTSTART;TZID=America/Detroit:20271024T093000
DTEND;TZID=America/Detroit:20271024T103000
DTSTAMP:20260422T092907
CREATED:20231005T174607Z
LAST-MODIFIED:20231005T174607Z
UID:10001589-1824370200-1824373800@stpeterriley.org
SUMMARY:Divine Service
DESCRIPTION:
URL:https://stpeterriley.org/event/divine-service/2027-10-24/
LOCATION:Church\, 8990 Church Rd.\, St. Johns\, MI\, 48879\, United States
CATEGORIES:Church
END:VEVENT
BEGIN:VEVENT
DTSTART;TZID=America/Detroit:20271031T093000
DTEND;TZID=America/Detroit:20271031T103000
DTSTAMP:20260422T092907
CREATED:20230808T140514Z
LAST-MODIFIED:20231005T174808Z
UID:10001688-1824975000-1824978600@stpeterriley.org
SUMMARY:Mites Sunday
DESCRIPTION:
URL:https://stpeterriley.org/event/mites-sunday/2027-10-31/
LOCATION:Church\, 8990 Church Rd.\, St. Johns\, MI\, 48879\, United States
CATEGORIES:Church
END:VEVENT
BEGIN:VEVENT
DTSTART;TZID=America/Detroit:20271031T093000
DTEND;TZID=America/Detroit:20271031T103000
DTSTAMP:20260422T092907
CREATED:20231005T174607Z
LAST-MODIFIED:20231005T174607Z
UID:10001590-1824975000-1824978600@stpeterriley.org
SUMMARY:Divine Service
DESCRIPTION:
URL:https://stpeterriley.org/event/divine-service/2027-10-31/
LOCATION:Church\, 8990 Church Rd.\, St. Johns\, MI\, 48879\, United States
CATEGORIES:Church
END:VEVENT
BEGIN:VEVENT
DTSTART;TZID=America/Detroit:20271107T093000
DTEND;TZID=America/Detroit:20271107T103000
DTSTAMP:20260422T092907
CREATED:20231005T174607Z
LAST-MODIFIED:20231005T174607Z
UID:10001591-1825579800-1825583400@stpeterriley.org
SUMMARY:Divine Service
DESCRIPTION:
URL:https://stpeterriley.org/event/divine-service/2027-11-07/
LOCATION:Church\, 8990 Church Rd.\, St. Johns\, MI\, 48879\, United States
CATEGORIES:Church
END:VEVENT
BEGIN:VEVENT
DTSTART;TZID=America/Detroit:20271114T093000
DTEND;TZID=America/Detroit:20271114T103000
DTSTAMP:20260422T092907
CREATED:20231005T174607Z
LAST-MODIFIED:20231005T174607Z
UID:10001592-1826184600-1826188200@stpeterriley.org
SUMMARY:Divine Service
DESCRIPTION:
URL:https://stpeterriley.org/event/divine-service/2027-11-14/
LOCATION:Church\, 8990 Church Rd.\, St. Johns\, MI\, 48879\, United States
CATEGORIES:Church
END:VEVENT
BEGIN:VEVENT
DTSTART;TZID=America/Detroit:20271121T093000
DTEND;TZID=America/Detroit:20271121T103000
DTSTAMP:20260422T092907
CREATED:20231005T174607Z
LAST-MODIFIED:20231005T174607Z
UID:10001593-1826789400-1826793000@stpeterriley.org
SUMMARY:Divine Service
DESCRIPTION:
URL:https://stpeterriley.org/event/divine-service/2027-11-21/
LOCATION:Church\, 8990 Church Rd.\, St. Johns\, MI\, 48879\, United States
CATEGORIES:Church
END:VEVENT
BEGIN:VEVENT
DTSTART;TZID=America/Detroit:20271128T093000
DTEND;TZID=America/Detroit:20271128T103000
DTSTAMP:20260422T092907
CREATED:20230808T140514Z
LAST-MODIFIED:20231005T174808Z
UID:10001689-1827394200-1827397800@stpeterriley.org
SUMMARY:Mites Sunday
DESCRIPTION:
URL:https://stpeterriley.org/event/mites-sunday/2027-11-28/
LOCATION:Church\, 8990 Church Rd.\, St. Johns\, MI\, 48879\, United States
CATEGORIES:Church
END:VEVENT
BEGIN:VEVENT
DTSTART;TZID=America/Detroit:20271128T093000
DTEND;TZID=America/Detroit:20271128T103000
DTSTAMP:20260422T092907
CREATED:20231005T174607Z
LAST-MODIFIED:20231005T174607Z
UID:10001594-1827394200-1827397800@stpeterriley.org
SUMMARY:Divine Service
DESCRIPTION:
URL:https://stpeterriley.org/event/divine-service/2027-11-28/
LOCATION:Church\, 8990 Church Rd.\, St. Johns\, MI\, 48879\, United States
CATEGORIES:Church
END:VEVENT
BEGIN:VEVENT
DTSTART;TZID=America/Detroit:20271205T093000
DTEND;TZID=America/Detroit:20271205T103000
DTSTAMP:20260422T092907
CREATED:20231005T174607Z
LAST-MODIFIED:20231005T174607Z
UID:10001595-1827999000-1828002600@stpeterriley.org
SUMMARY:Divine Service
DESCRIPTION:
URL:https://stpeterriley.org/event/divine-service/2027-12-05/
LOCATION:Church\, 8990 Church Rd.\, St. Johns\, MI\, 48879\, United States
CATEGORIES:Church
END:VEVENT
BEGIN:VEVENT
DTSTART;TZID=America/Detroit:20271212T093000
DTEND;TZID=America/Detroit:20271212T103000
DTSTAMP:20260422T092907
CREATED:20231005T174607Z
LAST-MODIFIED:20231005T174607Z
UID:10001596-1828603800-1828607400@stpeterriley.org
SUMMARY:Divine Service
DESCRIPTION:
URL:https://stpeterriley.org/event/divine-service/2027-12-12/
LOCATION:Church\, 8990 Church Rd.\, St. Johns\, MI\, 48879\, United States
CATEGORIES:Church
END:VEVENT
BEGIN:VEVENT
DTSTART;TZID=America/Detroit:20271219T093000
DTEND;TZID=America/Detroit:20271219T103000
DTSTAMP:20260422T092907
CREATED:20231005T174607Z
LAST-MODIFIED:20231005T174607Z
UID:10001597-1829208600-1829212200@stpeterriley.org
SUMMARY:Divine Service
DESCRIPTION:
URL:https://stpeterriley.org/event/divine-service/2027-12-19/
LOCATION:Church\, 8990 Church Rd.\, St. Johns\, MI\, 48879\, United States
CATEGORIES:Church
END:VEVENT
BEGIN:VEVENT
DTSTART;TZID=America/Detroit:20271226T093000
DTEND;TZID=America/Detroit:20271226T103000
DTSTAMP:20260422T092907
CREATED:20230808T140514Z
LAST-MODIFIED:20231005T174808Z
UID:10001690-1829813400-1829817000@stpeterriley.org
SUMMARY:Mites Sunday
DESCRIPTION:
URL:https://stpeterriley.org/event/mites-sunday/2027-12-26/
LOCATION:Church\, 8990 Church Rd.\, St. Johns\, MI\, 48879\, United States
CATEGORIES:Church
END:VEVENT
BEGIN:VEVENT
DTSTART;TZID=America/Detroit:20271226T093000
DTEND;TZID=America/Detroit:20271226T103000
DTSTAMP:20260422T092907
CREATED:20231005T174607Z
LAST-MODIFIED:20231005T174607Z
UID:10001598-1829813400-1829817000@stpeterriley.org
SUMMARY:Divine Service
DESCRIPTION:
URL:https://stpeterriley.org/event/divine-service/2027-12-26/
LOCATION:Church\, 8990 Church Rd.\, St. Johns\, MI\, 48879\, United States
CATEGORIES:Church
END:VEVENT
BEGIN:VEVENT
DTSTART;TZID=America/Detroit:20280102T093000
DTEND;TZID=America/Detroit:20280102T103000
DTSTAMP:20260422T092907
CREATED:20231005T174607Z
LAST-MODIFIED:20231005T174607Z
UID:10001599-1830418200-1830421800@stpeterriley.org
SUMMARY:Divine Service
DESCRIPTION:
URL:https://stpeterriley.org/event/divine-service/2028-01-02/
LOCATION:Church\, 8990 Church Rd.\, St. Johns\, MI\, 48879\, United States
CATEGORIES:Church
END:VEVENT
BEGIN:VEVENT
DTSTART;TZID=America/Detroit:20280109T093000
DTEND;TZID=America/Detroit:20280109T103000
DTSTAMP:20260422T092907
CREATED:20231005T174607Z
LAST-MODIFIED:20231005T174607Z
UID:10001600-1831023000-1831026600@stpeterriley.org
SUMMARY:Divine Service
DESCRIPTION:
URL:https://stpeterriley.org/event/divine-service/2028-01-09/
LOCATION:Church\, 8990 Church Rd.\, St. Johns\, MI\, 48879\, United States
CATEGORIES:Church
END:VEVENT
BEGIN:VEVENT
DTSTART;TZID=America/Detroit:20280116T093000
DTEND;TZID=America/Detroit:20280116T103000
DTSTAMP:20260422T092907
CREATED:20231005T174607Z
LAST-MODIFIED:20231005T174607Z
UID:10001601-1831627800-1831631400@stpeterriley.org
SUMMARY:Divine Service
DESCRIPTION:
URL:https://stpeterriley.org/event/divine-service/2028-01-16/
LOCATION:Church\, 8990 Church Rd.\, St. Johns\, MI\, 48879\, United States
CATEGORIES:Church
END:VEVENT
BEGIN:VEVENT
DTSTART;TZID=America/Detroit:20280123T093000
DTEND;TZID=America/Detroit:20280123T103000
DTSTAMP:20260422T092907
CREATED:20231005T174607Z
LAST-MODIFIED:20231005T174607Z
UID:10001602-1832232600-1832236200@stpeterriley.org
SUMMARY:Divine Service
DESCRIPTION:
URL:https://stpeterriley.org/event/divine-service/2028-01-23/
LOCATION:Church\, 8990 Church Rd.\, St. Johns\, MI\, 48879\, United States
CATEGORIES:Church
END:VEVENT
BEGIN:VEVENT
DTSTART;TZID=America/Detroit:20280130T093000
DTEND;TZID=America/Detroit:20280130T103000
DTSTAMP:20260422T092907
CREATED:20230808T140514Z
LAST-MODIFIED:20231005T174808Z
UID:10001691-1832837400-1832841000@stpeterriley.org
SUMMARY:Mites Sunday
DESCRIPTION:
URL:https://stpeterriley.org/event/mites-sunday/2028-01-30/
LOCATION:Church\, 8990 Church Rd.\, St. Johns\, MI\, 48879\, United States
CATEGORIES:Church
END:VEVENT
BEGIN:VEVENT
DTSTART;TZID=America/Detroit:20280130T093000
DTEND;TZID=America/Detroit:20280130T103000
DTSTAMP:20260422T092907
CREATED:20231005T174607Z
LAST-MODIFIED:20231005T174607Z
UID:10001603-1832837400-1832841000@stpeterriley.org
SUMMARY:Divine Service
DESCRIPTION:
URL:https://stpeterriley.org/event/divine-service/2028-01-30/
LOCATION:Church\, 8990 Church Rd.\, St. Johns\, MI\, 48879\, United States
CATEGORIES:Church
END:VEVENT
BEGIN:VEVENT
DTSTART;TZID=America/Detroit:20280206T093000
DTEND;TZID=America/Detroit:20280206T103000
DTSTAMP:20260422T092907
CREATED:20231005T174607Z
LAST-MODIFIED:20231005T174607Z
UID:10001604-1833442200-1833445800@stpeterriley.org
SUMMARY:Divine Service
DESCRIPTION:
URL:https://stpeterriley.org/event/divine-service/2028-02-06/
LOCATION:Church\, 8990 Church Rd.\, St. Johns\, MI\, 48879\, United States
CATEGORIES:Church
END:VEVENT
BEGIN:VEVENT
DTSTART;TZID=America/Detroit:20280213T093000
DTEND;TZID=America/Detroit:20280213T103000
DTSTAMP:20260422T092907
CREATED:20231005T174607Z
LAST-MODIFIED:20231005T174607Z
UID:10001605-1834047000-1834050600@stpeterriley.org
SUMMARY:Divine Service
DESCRIPTION:
URL:https://stpeterriley.org/event/divine-service/2028-02-13/
LOCATION:Church\, 8990 Church Rd.\, St. Johns\, MI\, 48879\, United States
CATEGORIES:Church
END:VEVENT
BEGIN:VEVENT
DTSTART;TZID=America/Detroit:20280220T093000
DTEND;TZID=America/Detroit:20280220T103000
DTSTAMP:20260422T092907
CREATED:20231005T174607Z
LAST-MODIFIED:20231005T174607Z
UID:10001606-1834651800-1834655400@stpeterriley.org
SUMMARY:Divine Service
DESCRIPTION:
URL:https://stpeterriley.org/event/divine-service/2028-02-20/
LOCATION:Church\, 8990 Church Rd.\, St. Johns\, MI\, 48879\, United States
CATEGORIES:Church
END:VEVENT
BEGIN:VEVENT
DTSTART;TZID=America/Detroit:20280227T093000
DTEND;TZID=America/Detroit:20280227T103000
DTSTAMP:20260422T092907
CREATED:20230808T140514Z
LAST-MODIFIED:20231005T174808Z
UID:10001692-1835256600-1835260200@stpeterriley.org
SUMMARY:Mites Sunday
DESCRIPTION:
URL:https://stpeterriley.org/event/mites-sunday/2028-02-27/
LOCATION:Church\, 8990 Church Rd.\, St. Johns\, MI\, 48879\, United States
CATEGORIES:Church
END:VEVENT
BEGIN:VEVENT
DTSTART;TZID=America/Detroit:20280227T093000
DTEND;TZID=America/Detroit:20280227T103000
DTSTAMP:20260422T092907
CREATED:20231005T174607Z
LAST-MODIFIED:20231005T174607Z
UID:10001607-1835256600-1835260200@stpeterriley.org
SUMMARY:Divine Service
DESCRIPTION:
URL:https://stpeterriley.org/event/divine-service/2028-02-27/
LOCATION:Church\, 8990 Church Rd.\, St. Johns\, MI\, 48879\, United States
CATEGORIES:Church
END:VEVENT
BEGIN:VEVENT
DTSTART;TZID=America/Detroit:20280305T093000
DTEND;TZID=America/Detroit:20280305T103000
DTSTAMP:20260422T092907
CREATED:20231005T174607Z
LAST-MODIFIED:20231005T174607Z
UID:10001608-1835861400-1835865000@stpeterriley.org
SUMMARY:Divine Service
DESCRIPTION:
URL:https://stpeterriley.org/event/divine-service/2028-03-05/
LOCATION:Church\, 8990 Church Rd.\, St. Johns\, MI\, 48879\, United States
CATEGORIES:Church
END:VEVENT
BEGIN:VEVENT
DTSTART;TZID=America/Detroit:20280312T093000
DTEND;TZID=America/Detroit:20280312T103000
DTSTAMP:20260422T092907
CREATED:20231005T174607Z
LAST-MODIFIED:20231005T174607Z
UID:10001609-1836466200-1836469800@stpeterriley.org
SUMMARY:Divine Service
DESCRIPTION:
URL:https://stpeterriley.org/event/divine-service/2028-03-12/
LOCATION:Church\, 8990 Church Rd.\, St. Johns\, MI\, 48879\, United States
CATEGORIES:Church
END:VEVENT
BEGIN:VEVENT
DTSTART;TZID=America/Detroit:20280319T093000
DTEND;TZID=America/Detroit:20280319T103000
DTSTAMP:20260422T092907
CREATED:20231005T174607Z
LAST-MODIFIED:20231005T174607Z
UID:10001610-1837071000-1837074600@stpeterriley.org
SUMMARY:Divine Service
DESCRIPTION:
URL:https://stpeterriley.org/event/divine-service/2028-03-19/
LOCATION:Church\, 8990 Church Rd.\, St. Johns\, MI\, 48879\, United States
CATEGORIES:Church
END:VEVENT
BEGIN:VEVENT
DTSTART;TZID=America/Detroit:20280326T093000
DTEND;TZID=America/Detroit:20280326T103000
DTSTAMP:20260422T092907
CREATED:20230808T140514Z
LAST-MODIFIED:20231005T174808Z
UID:10001693-1837675800-1837679400@stpeterriley.org
SUMMARY:Mites Sunday
DESCRIPTION:
URL:https://stpeterriley.org/event/mites-sunday/2028-03-26/
LOCATION:Church\, 8990 Church Rd.\, St. Johns\, MI\, 48879\, United States
CATEGORIES:Church
END:VEVENT
BEGIN:VEVENT
DTSTART;TZID=America/Detroit:20280326T093000
DTEND;TZID=America/Detroit:20280326T103000
DTSTAMP:20260422T092907
CREATED:20231005T174607Z
LAST-MODIFIED:20231005T174607Z
UID:10001611-1837675800-1837679400@stpeterriley.org
SUMMARY:Divine Service
DESCRIPTION:
URL:https://stpeterriley.org/event/divine-service/2028-03-26/
LOCATION:Church\, 8990 Church Rd.\, St. Johns\, MI\, 48879\, United States
CATEGORIES:Church
END:VEVENT
BEGIN:VEVENT
DTSTART;TZID=America/Detroit:20280402T093000
DTEND;TZID=America/Detroit:20280402T103000
DTSTAMP:20260422T092907
CREATED:20231005T174607Z
LAST-MODIFIED:20231005T174607Z
UID:10001612-1838280600-1838284200@stpeterriley.org
SUMMARY:Divine Service
DESCRIPTION:
URL:https://stpeterriley.org/event/divine-service/2028-04-02/
LOCATION:Church\, 8990 Church Rd.\, St. Johns\, MI\, 48879\, United States
CATEGORIES:Church
END:VEVENT
END:VCALENDAR