BEGIN:VCALENDAR
VERSION:2.0
PRODID:-//St. Peter Lutheran Church and School - ECPv6.15.20//NONSGML v1.0//EN
CALSCALE:GREGORIAN
METHOD:PUBLISH
X-WR-CALNAME:St. Peter Lutheran Church and School
X-ORIGINAL-URL:https://stpeterriley.org
X-WR-CALDESC:Events for St. Peter Lutheran Church and School
REFRESH-INTERVAL;VALUE=DURATION:PT1H
X-Robots-Tag:noindex
X-PUBLISHED-TTL:PT1H
BEGIN:VTIMEZONE
TZID:America/Detroit
BEGIN:DAYLIGHT
TZOFFSETFROM:-0500
TZOFFSETTO:-0400
TZNAME:EDT
DTSTART:20230312T070000
END:DAYLIGHT
BEGIN:STANDARD
TZOFFSETFROM:-0400
TZOFFSETTO:-0500
TZNAME:EST
DTSTART:20231105T060000
END:STANDARD
BEGIN:DAYLIGHT
TZOFFSETFROM:-0500
TZOFFSETTO:-0400
TZNAME:EDT
DTSTART:20240310T070000
END:DAYLIGHT
BEGIN:STANDARD
TZOFFSETFROM:-0400
TZOFFSETTO:-0500
TZNAME:EST
DTSTART:20241103T060000
END:STANDARD
BEGIN:DAYLIGHT
TZOFFSETFROM:-0500
TZOFFSETTO:-0400
TZNAME:EDT
DTSTART:20250309T070000
END:DAYLIGHT
BEGIN:STANDARD
TZOFFSETFROM:-0400
TZOFFSETTO:-0500
TZNAME:EST
DTSTART:20251102T060000
END:STANDARD
BEGIN:DAYLIGHT
TZOFFSETFROM:-0500
TZOFFSETTO:-0400
TZNAME:EDT
DTSTART:20260308T070000
END:DAYLIGHT
BEGIN:STANDARD
TZOFFSETFROM:-0400
TZOFFSETTO:-0500
TZNAME:EST
DTSTART:20261101T060000
END:STANDARD
END:VTIMEZONE
BEGIN:VEVENT
DTSTART;TZID=America/Detroit:20250223T093000
DTEND;TZID=America/Detroit:20250223T103000
DTSTAMP:20260422T192330
CREATED:20231005T174607Z
LAST-MODIFIED:20231005T174607Z
UID:10001450-1740303000-1740306600@stpeterriley.org
SUMMARY:Divine Service
DESCRIPTION:
URL:https://stpeterriley.org/event/divine-service/2025-02-23/
LOCATION:Church\, 8990 Church Rd.\, St. Johns\, MI\, 48879\, United States
CATEGORIES:Church
END:VEVENT
BEGIN:VEVENT
DTSTART;TZID=America/Detroit:20250223T093000
DTEND;TZID=America/Detroit:20250223T103000
DTSTAMP:20260422T192330
CREATED:20230808T140514Z
LAST-MODIFIED:20231005T174808Z
UID:10001656-1740303000-1740306600@stpeterriley.org
SUMMARY:Mites Sunday
DESCRIPTION:
URL:https://stpeterriley.org/event/mites-sunday/2025-02-23/
LOCATION:Church\, 8990 Church Rd.\, St. Johns\, MI\, 48879\, United States
CATEGORIES:Church
END:VEVENT
BEGIN:VEVENT
DTSTART;TZID=America/Detroit:20250216T093000
DTEND;TZID=America/Detroit:20250216T103000
DTSTAMP:20260422T192330
CREATED:20231005T174607Z
LAST-MODIFIED:20231005T174607Z
UID:10001449-1739698200-1739701800@stpeterriley.org
SUMMARY:Divine Service
DESCRIPTION:
URL:https://stpeterriley.org/event/divine-service/2025-02-16/
LOCATION:Church\, 8990 Church Rd.\, St. Johns\, MI\, 48879\, United States
CATEGORIES:Church
END:VEVENT
BEGIN:VEVENT
DTSTART;TZID=America/Detroit:20250209T093000
DTEND;TZID=America/Detroit:20250209T103000
DTSTAMP:20260422T192330
CREATED:20231005T174607Z
LAST-MODIFIED:20231005T174607Z
UID:10001448-1739093400-1739097000@stpeterriley.org
SUMMARY:Divine Service
DESCRIPTION:
URL:https://stpeterriley.org/event/divine-service/2025-02-09/
LOCATION:Church\, 8990 Church Rd.\, St. Johns\, MI\, 48879\, United States
CATEGORIES:Church
END:VEVENT
BEGIN:VEVENT
DTSTART;TZID=America/Detroit:20250202T093000
DTEND;TZID=America/Detroit:20250202T103000
DTSTAMP:20260422T192330
CREATED:20231005T174607Z
LAST-MODIFIED:20231005T174607Z
UID:10001447-1738488600-1738492200@stpeterriley.org
SUMMARY:Divine Service
DESCRIPTION:
URL:https://stpeterriley.org/event/divine-service/2025-02-02/
LOCATION:Church\, 8990 Church Rd.\, St. Johns\, MI\, 48879\, United States
CATEGORIES:Church
END:VEVENT
BEGIN:VEVENT
DTSTART;TZID=America/Detroit:20250126T093000
DTEND;TZID=America/Detroit:20250126T103000
DTSTAMP:20260422T192330
CREATED:20231005T174607Z
LAST-MODIFIED:20231005T174607Z
UID:10001446-1737883800-1737887400@stpeterriley.org
SUMMARY:Divine Service
DESCRIPTION:
URL:https://stpeterriley.org/event/divine-service/2025-01-26/
LOCATION:Church\, 8990 Church Rd.\, St. Johns\, MI\, 48879\, United States
CATEGORIES:Church
END:VEVENT
BEGIN:VEVENT
DTSTART;TZID=America/Detroit:20250126T093000
DTEND;TZID=America/Detroit:20250126T103000
DTSTAMP:20260422T192330
CREATED:20230808T140514Z
LAST-MODIFIED:20231005T174808Z
UID:10001655-1737883800-1737887400@stpeterriley.org
SUMMARY:Mites Sunday
DESCRIPTION:
URL:https://stpeterriley.org/event/mites-sunday/2025-01-26/
LOCATION:Church\, 8990 Church Rd.\, St. Johns\, MI\, 48879\, United States
CATEGORIES:Church
END:VEVENT
BEGIN:VEVENT
DTSTART;TZID=America/Detroit:20250119T093000
DTEND;TZID=America/Detroit:20250119T103000
DTSTAMP:20260422T192330
CREATED:20231005T174607Z
LAST-MODIFIED:20231005T174607Z
UID:10001445-1737279000-1737282600@stpeterriley.org
SUMMARY:Divine Service
DESCRIPTION:
URL:https://stpeterriley.org/event/divine-service/2025-01-19/
LOCATION:Church\, 8990 Church Rd.\, St. Johns\, MI\, 48879\, United States
CATEGORIES:Church
END:VEVENT
BEGIN:VEVENT
DTSTART;TZID=America/Detroit:20250112T093000
DTEND;TZID=America/Detroit:20250112T103000
DTSTAMP:20260422T192330
CREATED:20231005T174607Z
LAST-MODIFIED:20231005T174607Z
UID:10001444-1736674200-1736677800@stpeterriley.org
SUMMARY:Divine Service
DESCRIPTION:
URL:https://stpeterriley.org/event/divine-service/2025-01-12/
LOCATION:Church\, 8990 Church Rd.\, St. Johns\, MI\, 48879\, United States
CATEGORIES:Church
END:VEVENT
BEGIN:VEVENT
DTSTART;TZID=America/Detroit:20250105T093000
DTEND;TZID=America/Detroit:20250105T103000
DTSTAMP:20260422T192330
CREATED:20231005T174607Z
LAST-MODIFIED:20231005T174607Z
UID:10001443-1736069400-1736073000@stpeterriley.org
SUMMARY:Divine Service
DESCRIPTION:
URL:https://stpeterriley.org/event/divine-service/2025-01-05/
LOCATION:Church\, 8990 Church Rd.\, St. Johns\, MI\, 48879\, United States
CATEGORIES:Church
END:VEVENT
BEGIN:VEVENT
DTSTART;TZID=America/Detroit:20241229T093000
DTEND;TZID=America/Detroit:20241229T103000
DTSTAMP:20260422T192330
CREATED:20231005T174607Z
LAST-MODIFIED:20231005T174607Z
UID:10001442-1735464600-1735468200@stpeterriley.org
SUMMARY:Divine Service
DESCRIPTION:
URL:https://stpeterriley.org/event/divine-service/2024-12-29/
LOCATION:Church\, 8990 Church Rd.\, St. Johns\, MI\, 48879\, United States
CATEGORIES:Church
END:VEVENT
BEGIN:VEVENT
DTSTART;TZID=America/Detroit:20241229T093000
DTEND;TZID=America/Detroit:20241229T103000
DTSTAMP:20260422T192330
CREATED:20230808T140514Z
LAST-MODIFIED:20231005T174808Z
UID:10001654-1735464600-1735468200@stpeterriley.org
SUMMARY:Mites Sunday
DESCRIPTION:
URL:https://stpeterriley.org/event/mites-sunday/2024-12-29/
LOCATION:Church\, 8990 Church Rd.\, St. Johns\, MI\, 48879\, United States
CATEGORIES:Church
END:VEVENT
BEGIN:VEVENT
DTSTART;TZID=America/Detroit:20241222T093000
DTEND;TZID=America/Detroit:20241222T103000
DTSTAMP:20260422T192330
CREATED:20231005T174607Z
LAST-MODIFIED:20231005T174607Z
UID:10001441-1734859800-1734863400@stpeterriley.org
SUMMARY:Divine Service
DESCRIPTION:
URL:https://stpeterriley.org/event/divine-service/2024-12-22/
LOCATION:Church\, 8990 Church Rd.\, St. Johns\, MI\, 48879\, United States
CATEGORIES:Church
END:VEVENT
BEGIN:VEVENT
DTSTART;TZID=America/Detroit:20241215T093000
DTEND;TZID=America/Detroit:20241215T103000
DTSTAMP:20260422T192330
CREATED:20231005T174607Z
LAST-MODIFIED:20231005T174607Z
UID:10001440-1734255000-1734258600@stpeterriley.org
SUMMARY:Divine Service
DESCRIPTION:
URL:https://stpeterriley.org/event/divine-service/2024-12-15/
LOCATION:Church\, 8990 Church Rd.\, St. Johns\, MI\, 48879\, United States
CATEGORIES:Church
END:VEVENT
BEGIN:VEVENT
DTSTART;TZID=America/Detroit:20241208T093000
DTEND;TZID=America/Detroit:20241208T103000
DTSTAMP:20260422T192330
CREATED:20231005T174607Z
LAST-MODIFIED:20231005T174607Z
UID:10001439-1733650200-1733653800@stpeterriley.org
SUMMARY:Divine Service
DESCRIPTION:
URL:https://stpeterriley.org/event/divine-service/2024-12-08/
LOCATION:Church\, 8990 Church Rd.\, St. Johns\, MI\, 48879\, United States
CATEGORIES:Church
END:VEVENT
BEGIN:VEVENT
DTSTART;TZID=America/Detroit:20241201T093000
DTEND;TZID=America/Detroit:20241201T103000
DTSTAMP:20260422T192330
CREATED:20231005T174607Z
LAST-MODIFIED:20231005T174607Z
UID:10001438-1733045400-1733049000@stpeterriley.org
SUMMARY:Divine Service
DESCRIPTION:
URL:https://stpeterriley.org/event/divine-service/2024-12-01/
LOCATION:Church\, 8990 Church Rd.\, St. Johns\, MI\, 48879\, United States
CATEGORIES:Church
END:VEVENT
BEGIN:VEVENT
DTSTART;TZID=America/Detroit:20241124T093000
DTEND;TZID=America/Detroit:20241124T103000
DTSTAMP:20260422T192330
CREATED:20231005T174607Z
LAST-MODIFIED:20231005T174607Z
UID:10001437-1732440600-1732444200@stpeterriley.org
SUMMARY:Divine Service
DESCRIPTION:
URL:https://stpeterriley.org/event/divine-service/2024-11-24/
LOCATION:Church\, 8990 Church Rd.\, St. Johns\, MI\, 48879\, United States
CATEGORIES:Church
END:VEVENT
BEGIN:VEVENT
DTSTART;TZID=America/Detroit:20241124T093000
DTEND;TZID=America/Detroit:20241124T103000
DTSTAMP:20260422T192330
CREATED:20230808T140514Z
LAST-MODIFIED:20231005T174808Z
UID:10001653-1732440600-1732444200@stpeterriley.org
SUMMARY:Mites Sunday
DESCRIPTION:
URL:https://stpeterriley.org/event/mites-sunday/2024-11-24/
LOCATION:Church\, 8990 Church Rd.\, St. Johns\, MI\, 48879\, United States
CATEGORIES:Church
END:VEVENT
BEGIN:VEVENT
DTSTART;TZID=America/Detroit:20241117T093000
DTEND;TZID=America/Detroit:20241117T103000
DTSTAMP:20260422T192330
CREATED:20231005T174607Z
LAST-MODIFIED:20231005T174607Z
UID:10001436-1731835800-1731839400@stpeterriley.org
SUMMARY:Divine Service
DESCRIPTION:
URL:https://stpeterriley.org/event/divine-service/2024-11-17/
LOCATION:Church\, 8990 Church Rd.\, St. Johns\, MI\, 48879\, United States
CATEGORIES:Church
END:VEVENT
BEGIN:VEVENT
DTSTART;TZID=America/Detroit:20241110T093000
DTEND;TZID=America/Detroit:20241110T103000
DTSTAMP:20260422T192330
CREATED:20231005T174607Z
LAST-MODIFIED:20231005T174607Z
UID:10001435-1731231000-1731234600@stpeterriley.org
SUMMARY:Divine Service
DESCRIPTION:
URL:https://stpeterriley.org/event/divine-service/2024-11-10/
LOCATION:Church\, 8990 Church Rd.\, St. Johns\, MI\, 48879\, United States
CATEGORIES:Church
END:VEVENT
BEGIN:VEVENT
DTSTART;TZID=America/Detroit:20241103T093000
DTEND;TZID=America/Detroit:20241103T103000
DTSTAMP:20260422T192330
CREATED:20231005T174607Z
LAST-MODIFIED:20231005T174607Z
UID:10001434-1730626200-1730629800@stpeterriley.org
SUMMARY:Divine Service
DESCRIPTION:
URL:https://stpeterriley.org/event/divine-service/2024-11-03/
LOCATION:Church\, 8990 Church Rd.\, St. Johns\, MI\, 48879\, United States
CATEGORIES:Church
END:VEVENT
BEGIN:VEVENT
DTSTART;TZID=America/Detroit:20241027T093000
DTEND;TZID=America/Detroit:20241027T103000
DTSTAMP:20260422T192330
CREATED:20231005T174607Z
LAST-MODIFIED:20231005T174607Z
UID:10001433-1730021400-1730025000@stpeterriley.org
SUMMARY:Divine Service
DESCRIPTION:
URL:https://stpeterriley.org/event/divine-service/2024-10-27/
LOCATION:Church\, 8990 Church Rd.\, St. Johns\, MI\, 48879\, United States
CATEGORIES:Church
END:VEVENT
BEGIN:VEVENT
DTSTART;TZID=America/Detroit:20241027T093000
DTEND;TZID=America/Detroit:20241027T103000
DTSTAMP:20260422T192330
CREATED:20230808T140514Z
LAST-MODIFIED:20231005T174808Z
UID:10001652-1730021400-1730025000@stpeterriley.org
SUMMARY:Mites Sunday
DESCRIPTION:
URL:https://stpeterriley.org/event/mites-sunday/2024-10-27/
LOCATION:Church\, 8990 Church Rd.\, St. Johns\, MI\, 48879\, United States
CATEGORIES:Church
END:VEVENT
BEGIN:VEVENT
DTSTART;TZID=America/Detroit:20241020T093000
DTEND;TZID=America/Detroit:20241020T103000
DTSTAMP:20260422T192330
CREATED:20231005T174607Z
LAST-MODIFIED:20231005T174607Z
UID:10001432-1729416600-1729420200@stpeterriley.org
SUMMARY:Divine Service
DESCRIPTION:
URL:https://stpeterriley.org/event/divine-service/2024-10-20/
LOCATION:Church\, 8990 Church Rd.\, St. Johns\, MI\, 48879\, United States
CATEGORIES:Church
END:VEVENT
BEGIN:VEVENT
DTSTART;TZID=America/Detroit:20241013T093000
DTEND;TZID=America/Detroit:20241013T103000
DTSTAMP:20260422T192330
CREATED:20231005T174607Z
LAST-MODIFIED:20231005T174607Z
UID:10001431-1728811800-1728815400@stpeterriley.org
SUMMARY:Divine Service
DESCRIPTION:
URL:https://stpeterriley.org/event/divine-service/2024-10-13/
LOCATION:Church\, 8990 Church Rd.\, St. Johns\, MI\, 48879\, United States
CATEGORIES:Church
END:VEVENT
BEGIN:VEVENT
DTSTART;TZID=America/Detroit:20241006T093000
DTEND;TZID=America/Detroit:20241006T103000
DTSTAMP:20260422T192330
CREATED:20231005T174607Z
LAST-MODIFIED:20231005T174607Z
UID:10001430-1728207000-1728210600@stpeterriley.org
SUMMARY:Divine Service
DESCRIPTION:
URL:https://stpeterriley.org/event/divine-service/2024-10-06/
LOCATION:Church\, 8990 Church Rd.\, St. Johns\, MI\, 48879\, United States
CATEGORIES:Church
END:VEVENT
BEGIN:VEVENT
DTSTART;TZID=America/Detroit:20240929T093000
DTEND;TZID=America/Detroit:20240929T103000
DTSTAMP:20260422T192330
CREATED:20231005T174607Z
LAST-MODIFIED:20231005T174607Z
UID:10001429-1727602200-1727605800@stpeterriley.org
SUMMARY:Divine Service
DESCRIPTION:
URL:https://stpeterriley.org/event/divine-service/2024-09-29/
LOCATION:Church\, 8990 Church Rd.\, St. Johns\, MI\, 48879\, United States
CATEGORIES:Church
END:VEVENT
BEGIN:VEVENT
DTSTART;TZID=America/Detroit:20240929T093000
DTEND;TZID=America/Detroit:20240929T103000
DTSTAMP:20260422T192330
CREATED:20230808T140514Z
LAST-MODIFIED:20231005T174808Z
UID:10001651-1727602200-1727605800@stpeterriley.org
SUMMARY:Mites Sunday
DESCRIPTION:
URL:https://stpeterriley.org/event/mites-sunday/2024-09-29/
LOCATION:Church\, 8990 Church Rd.\, St. Johns\, MI\, 48879\, United States
CATEGORIES:Church
END:VEVENT
BEGIN:VEVENT
DTSTART;TZID=America/Detroit:20240922T093000
DTEND;TZID=America/Detroit:20240922T103000
DTSTAMP:20260422T192330
CREATED:20231005T174607Z
LAST-MODIFIED:20231005T174607Z
UID:10001428-1726997400-1727001000@stpeterriley.org
SUMMARY:Divine Service
DESCRIPTION:
URL:https://stpeterriley.org/event/divine-service/2024-09-22/
LOCATION:Church\, 8990 Church Rd.\, St. Johns\, MI\, 48879\, United States
CATEGORIES:Church
END:VEVENT
BEGIN:VEVENT
DTSTART;TZID=America/Detroit:20240915T093000
DTEND;TZID=America/Detroit:20240915T103000
DTSTAMP:20260422T192330
CREATED:20231005T174607Z
LAST-MODIFIED:20231005T174607Z
UID:10001427-1726392600-1726396200@stpeterriley.org
SUMMARY:Divine Service
DESCRIPTION:
URL:https://stpeterriley.org/event/divine-service/2024-09-15/
LOCATION:Church\, 8990 Church Rd.\, St. Johns\, MI\, 48879\, United States
CATEGORIES:Church
END:VEVENT
END:VCALENDAR