BEGIN:VCALENDAR
VERSION:2.0
PRODID:-//St. Peter Lutheran Church and School - ECPv6.15.20//NONSGML v1.0//EN
CALSCALE:GREGORIAN
METHOD:PUBLISH
X-WR-CALNAME:St. Peter Lutheran Church and School
X-ORIGINAL-URL:https://stpeterriley.org
X-WR-CALDESC:Events for St. Peter Lutheran Church and School
REFRESH-INTERVAL;VALUE=DURATION:PT1H
X-Robots-Tag:noindex
X-PUBLISHED-TTL:PT1H
BEGIN:VTIMEZONE
TZID:America/Detroit
BEGIN:DAYLIGHT
TZOFFSETFROM:-0500
TZOFFSETTO:-0400
TZNAME:EDT
DTSTART:20260308T070000
END:DAYLIGHT
BEGIN:STANDARD
TZOFFSETFROM:-0400
TZOFFSETTO:-0500
TZNAME:EST
DTSTART:20261101T060000
END:STANDARD
BEGIN:DAYLIGHT
TZOFFSETFROM:-0500
TZOFFSETTO:-0400
TZNAME:EDT
DTSTART:20270314T070000
END:DAYLIGHT
BEGIN:STANDARD
TZOFFSETFROM:-0400
TZOFFSETTO:-0500
TZNAME:EST
DTSTART:20271107T060000
END:STANDARD
BEGIN:DAYLIGHT
TZOFFSETFROM:-0500
TZOFFSETTO:-0400
TZNAME:EDT
DTSTART:20280312T070000
END:DAYLIGHT
BEGIN:STANDARD
TZOFFSETFROM:-0400
TZOFFSETTO:-0500
TZNAME:EST
DTSTART:20281105T060000
END:STANDARD
END:VTIMEZONE
BEGIN:VEVENT
DTSTART;TZID=America/Detroit:20270606T093000
DTEND;TZID=America/Detroit:20270606T103000
DTSTAMP:20260422T061645
CREATED:20231005T174607Z
LAST-MODIFIED:20231005T174607Z
UID:10001569-1812274200-1812277800@stpeterriley.org
SUMMARY:Divine Service
DESCRIPTION:
URL:https://stpeterriley.org/event/divine-service/2027-06-06/
LOCATION:Church\, 8990 Church Rd.\, St. Johns\, MI\, 48879\, United States
CATEGORIES:Church
END:VEVENT
BEGIN:VEVENT
DTSTART;TZID=America/Detroit:20270613T093000
DTEND;TZID=America/Detroit:20270613T103000
DTSTAMP:20260422T061645
CREATED:20231005T174607Z
LAST-MODIFIED:20231005T174607Z
UID:10001570-1812879000-1812882600@stpeterriley.org
SUMMARY:Divine Service
DESCRIPTION:
URL:https://stpeterriley.org/event/divine-service/2027-06-13/
LOCATION:Church\, 8990 Church Rd.\, St. Johns\, MI\, 48879\, United States
CATEGORIES:Church
END:VEVENT
BEGIN:VEVENT
DTSTART;TZID=America/Detroit:20270620T093000
DTEND;TZID=America/Detroit:20270620T103000
DTSTAMP:20260422T061645
CREATED:20231005T174607Z
LAST-MODIFIED:20231005T174607Z
UID:10001571-1813483800-1813487400@stpeterriley.org
SUMMARY:Divine Service
DESCRIPTION:
URL:https://stpeterriley.org/event/divine-service/2027-06-20/
LOCATION:Church\, 8990 Church Rd.\, St. Johns\, MI\, 48879\, United States
CATEGORIES:Church
END:VEVENT
BEGIN:VEVENT
DTSTART;TZID=America/Detroit:20270627T093000
DTEND;TZID=America/Detroit:20270627T103000
DTSTAMP:20260422T061645
CREATED:20230808T140514Z
LAST-MODIFIED:20231005T174808Z
UID:10001684-1814088600-1814092200@stpeterriley.org
SUMMARY:Mites Sunday
DESCRIPTION:
URL:https://stpeterriley.org/event/mites-sunday/2027-06-27/
LOCATION:Church\, 8990 Church Rd.\, St. Johns\, MI\, 48879\, United States
CATEGORIES:Church
END:VEVENT
BEGIN:VEVENT
DTSTART;TZID=America/Detroit:20270627T093000
DTEND;TZID=America/Detroit:20270627T103000
DTSTAMP:20260422T061645
CREATED:20231005T174607Z
LAST-MODIFIED:20231005T174607Z
UID:10001572-1814088600-1814092200@stpeterriley.org
SUMMARY:Divine Service
DESCRIPTION:
URL:https://stpeterriley.org/event/divine-service/2027-06-27/
LOCATION:Church\, 8990 Church Rd.\, St. Johns\, MI\, 48879\, United States
CATEGORIES:Church
END:VEVENT
BEGIN:VEVENT
DTSTART;TZID=America/Detroit:20270704T093000
DTEND;TZID=America/Detroit:20270704T103000
DTSTAMP:20260422T061645
CREATED:20231005T174607Z
LAST-MODIFIED:20231005T174607Z
UID:10001573-1814693400-1814697000@stpeterriley.org
SUMMARY:Divine Service
DESCRIPTION:
URL:https://stpeterriley.org/event/divine-service/2027-07-04/
LOCATION:Church\, 8990 Church Rd.\, St. Johns\, MI\, 48879\, United States
CATEGORIES:Church
END:VEVENT
BEGIN:VEVENT
DTSTART;TZID=America/Detroit:20270711T093000
DTEND;TZID=America/Detroit:20270711T103000
DTSTAMP:20260422T061645
CREATED:20231005T174607Z
LAST-MODIFIED:20231005T174607Z
UID:10001574-1815298200-1815301800@stpeterriley.org
SUMMARY:Divine Service
DESCRIPTION:
URL:https://stpeterriley.org/event/divine-service/2027-07-11/
LOCATION:Church\, 8990 Church Rd.\, St. Johns\, MI\, 48879\, United States
CATEGORIES:Church
END:VEVENT
BEGIN:VEVENT
DTSTART;TZID=America/Detroit:20270718T093000
DTEND;TZID=America/Detroit:20270718T103000
DTSTAMP:20260422T061645
CREATED:20231005T174607Z
LAST-MODIFIED:20231005T174607Z
UID:10001575-1815903000-1815906600@stpeterriley.org
SUMMARY:Divine Service
DESCRIPTION:
URL:https://stpeterriley.org/event/divine-service/2027-07-18/
LOCATION:Church\, 8990 Church Rd.\, St. Johns\, MI\, 48879\, United States
CATEGORIES:Church
END:VEVENT
BEGIN:VEVENT
DTSTART;TZID=America/Detroit:20270725T093000
DTEND;TZID=America/Detroit:20270725T103000
DTSTAMP:20260422T061645
CREATED:20230808T140514Z
LAST-MODIFIED:20231005T174808Z
UID:10001685-1816507800-1816511400@stpeterriley.org
SUMMARY:Mites Sunday
DESCRIPTION:
URL:https://stpeterriley.org/event/mites-sunday/2027-07-25/
LOCATION:Church\, 8990 Church Rd.\, St. Johns\, MI\, 48879\, United States
CATEGORIES:Church
END:VEVENT
BEGIN:VEVENT
DTSTART;TZID=America/Detroit:20270725T093000
DTEND;TZID=America/Detroit:20270725T103000
DTSTAMP:20260422T061645
CREATED:20231005T174607Z
LAST-MODIFIED:20231005T174607Z
UID:10001576-1816507800-1816511400@stpeterriley.org
SUMMARY:Divine Service
DESCRIPTION:
URL:https://stpeterriley.org/event/divine-service/2027-07-25/
LOCATION:Church\, 8990 Church Rd.\, St. Johns\, MI\, 48879\, United States
CATEGORIES:Church
END:VEVENT
BEGIN:VEVENT
DTSTART;TZID=America/Detroit:20270801T093000
DTEND;TZID=America/Detroit:20270801T103000
DTSTAMP:20260422T061645
CREATED:20231005T174607Z
LAST-MODIFIED:20231005T174607Z
UID:10001577-1817112600-1817116200@stpeterriley.org
SUMMARY:Divine Service
DESCRIPTION:
URL:https://stpeterriley.org/event/divine-service/2027-08-01/
LOCATION:Church\, 8990 Church Rd.\, St. Johns\, MI\, 48879\, United States
CATEGORIES:Church
END:VEVENT
BEGIN:VEVENT
DTSTART;TZID=America/Detroit:20270808T093000
DTEND;TZID=America/Detroit:20270808T103000
DTSTAMP:20260422T061645
CREATED:20231005T174607Z
LAST-MODIFIED:20231005T174607Z
UID:10001578-1817717400-1817721000@stpeterriley.org
SUMMARY:Divine Service
DESCRIPTION:
URL:https://stpeterriley.org/event/divine-service/2027-08-08/
LOCATION:Church\, 8990 Church Rd.\, St. Johns\, MI\, 48879\, United States
CATEGORIES:Church
END:VEVENT
BEGIN:VEVENT
DTSTART;TZID=America/Detroit:20270815T093000
DTEND;TZID=America/Detroit:20270815T103000
DTSTAMP:20260422T061645
CREATED:20231005T174607Z
LAST-MODIFIED:20231005T174607Z
UID:10001579-1818322200-1818325800@stpeterriley.org
SUMMARY:Divine Service
DESCRIPTION:
URL:https://stpeterriley.org/event/divine-service/2027-08-15/
LOCATION:Church\, 8990 Church Rd.\, St. Johns\, MI\, 48879\, United States
CATEGORIES:Church
END:VEVENT
BEGIN:VEVENT
DTSTART;TZID=America/Detroit:20270822T093000
DTEND;TZID=America/Detroit:20270822T103000
DTSTAMP:20260422T061645
CREATED:20231005T174607Z
LAST-MODIFIED:20231005T174607Z
UID:10001580-1818927000-1818930600@stpeterriley.org
SUMMARY:Divine Service
DESCRIPTION:
URL:https://stpeterriley.org/event/divine-service/2027-08-22/
LOCATION:Church\, 8990 Church Rd.\, St. Johns\, MI\, 48879\, United States
CATEGORIES:Church
END:VEVENT
BEGIN:VEVENT
DTSTART;TZID=America/Detroit:20270829T093000
DTEND;TZID=America/Detroit:20270829T103000
DTSTAMP:20260422T061645
CREATED:20230808T140514Z
LAST-MODIFIED:20231005T174808Z
UID:10001686-1819531800-1819535400@stpeterriley.org
SUMMARY:Mites Sunday
DESCRIPTION:
URL:https://stpeterriley.org/event/mites-sunday/2027-08-29/
LOCATION:Church\, 8990 Church Rd.\, St. Johns\, MI\, 48879\, United States
CATEGORIES:Church
END:VEVENT
BEGIN:VEVENT
DTSTART;TZID=America/Detroit:20270829T093000
DTEND;TZID=America/Detroit:20270829T103000
DTSTAMP:20260422T061646
CREATED:20231005T174607Z
LAST-MODIFIED:20231005T174607Z
UID:10001581-1819531800-1819535400@stpeterriley.org
SUMMARY:Divine Service
DESCRIPTION:
URL:https://stpeterriley.org/event/divine-service/2027-08-29/
LOCATION:Church\, 8990 Church Rd.\, St. Johns\, MI\, 48879\, United States
CATEGORIES:Church
END:VEVENT
BEGIN:VEVENT
DTSTART;TZID=America/Detroit:20270905T093000
DTEND;TZID=America/Detroit:20270905T103000
DTSTAMP:20260422T061646
CREATED:20231005T174607Z
LAST-MODIFIED:20231005T174607Z
UID:10001582-1820136600-1820140200@stpeterriley.org
SUMMARY:Divine Service
DESCRIPTION:
URL:https://stpeterriley.org/event/divine-service/2027-09-05/
LOCATION:Church\, 8990 Church Rd.\, St. Johns\, MI\, 48879\, United States
CATEGORIES:Church
END:VEVENT
BEGIN:VEVENT
DTSTART;TZID=America/Detroit:20270912T093000
DTEND;TZID=America/Detroit:20270912T103000
DTSTAMP:20260422T061646
CREATED:20231005T174607Z
LAST-MODIFIED:20231005T174607Z
UID:10001583-1820741400-1820745000@stpeterriley.org
SUMMARY:Divine Service
DESCRIPTION:
URL:https://stpeterriley.org/event/divine-service/2027-09-12/
LOCATION:Church\, 8990 Church Rd.\, St. Johns\, MI\, 48879\, United States
CATEGORIES:Church
END:VEVENT
BEGIN:VEVENT
DTSTART;TZID=America/Detroit:20270919T093000
DTEND;TZID=America/Detroit:20270919T103000
DTSTAMP:20260422T061646
CREATED:20231005T174607Z
LAST-MODIFIED:20231005T174607Z
UID:10001584-1821346200-1821349800@stpeterriley.org
SUMMARY:Divine Service
DESCRIPTION:
URL:https://stpeterriley.org/event/divine-service/2027-09-19/
LOCATION:Church\, 8990 Church Rd.\, St. Johns\, MI\, 48879\, United States
CATEGORIES:Church
END:VEVENT
BEGIN:VEVENT
DTSTART;TZID=America/Detroit:20270926T093000
DTEND;TZID=America/Detroit:20270926T103000
DTSTAMP:20260422T061646
CREATED:20230808T140514Z
LAST-MODIFIED:20231005T174808Z
UID:10001687-1821951000-1821954600@stpeterriley.org
SUMMARY:Mites Sunday
DESCRIPTION:
URL:https://stpeterriley.org/event/mites-sunday/2027-09-26/
LOCATION:Church\, 8990 Church Rd.\, St. Johns\, MI\, 48879\, United States
CATEGORIES:Church
END:VEVENT
BEGIN:VEVENT
DTSTART;TZID=America/Detroit:20270926T093000
DTEND;TZID=America/Detroit:20270926T103000
DTSTAMP:20260422T061646
CREATED:20231005T174607Z
LAST-MODIFIED:20231005T174607Z
UID:10001585-1821951000-1821954600@stpeterriley.org
SUMMARY:Divine Service
DESCRIPTION:
URL:https://stpeterriley.org/event/divine-service/2027-09-26/
LOCATION:Church\, 8990 Church Rd.\, St. Johns\, MI\, 48879\, United States
CATEGORIES:Church
END:VEVENT
BEGIN:VEVENT
DTSTART;TZID=America/Detroit:20271003T093000
DTEND;TZID=America/Detroit:20271003T103000
DTSTAMP:20260422T061646
CREATED:20231005T174607Z
LAST-MODIFIED:20231005T174607Z
UID:10001586-1822555800-1822559400@stpeterriley.org
SUMMARY:Divine Service
DESCRIPTION:
URL:https://stpeterriley.org/event/divine-service/2027-10-03/
LOCATION:Church\, 8990 Church Rd.\, St. Johns\, MI\, 48879\, United States
CATEGORIES:Church
END:VEVENT
BEGIN:VEVENT
DTSTART;TZID=America/Detroit:20271010T093000
DTEND;TZID=America/Detroit:20271010T103000
DTSTAMP:20260422T061646
CREATED:20231005T174607Z
LAST-MODIFIED:20231005T174607Z
UID:10001587-1823160600-1823164200@stpeterriley.org
SUMMARY:Divine Service
DESCRIPTION:
URL:https://stpeterriley.org/event/divine-service/2027-10-10/
LOCATION:Church\, 8990 Church Rd.\, St. Johns\, MI\, 48879\, United States
CATEGORIES:Church
END:VEVENT
BEGIN:VEVENT
DTSTART;TZID=America/Detroit:20271017T093000
DTEND;TZID=America/Detroit:20271017T103000
DTSTAMP:20260422T061646
CREATED:20231005T174607Z
LAST-MODIFIED:20231005T174607Z
UID:10001588-1823765400-1823769000@stpeterriley.org
SUMMARY:Divine Service
DESCRIPTION:
URL:https://stpeterriley.org/event/divine-service/2027-10-17/
LOCATION:Church\, 8990 Church Rd.\, St. Johns\, MI\, 48879\, United States
CATEGORIES:Church
END:VEVENT
BEGIN:VEVENT
DTSTART;TZID=America/Detroit:20271024T093000
DTEND;TZID=America/Detroit:20271024T103000
DTSTAMP:20260422T061646
CREATED:20231005T174607Z
LAST-MODIFIED:20231005T174607Z
UID:10001589-1824370200-1824373800@stpeterriley.org
SUMMARY:Divine Service
DESCRIPTION:
URL:https://stpeterriley.org/event/divine-service/2027-10-24/
LOCATION:Church\, 8990 Church Rd.\, St. Johns\, MI\, 48879\, United States
CATEGORIES:Church
END:VEVENT
BEGIN:VEVENT
DTSTART;TZID=America/Detroit:20271031T093000
DTEND;TZID=America/Detroit:20271031T103000
DTSTAMP:20260422T061646
CREATED:20230808T140514Z
LAST-MODIFIED:20231005T174808Z
UID:10001688-1824975000-1824978600@stpeterriley.org
SUMMARY:Mites Sunday
DESCRIPTION:
URL:https://stpeterriley.org/event/mites-sunday/2027-10-31/
LOCATION:Church\, 8990 Church Rd.\, St. Johns\, MI\, 48879\, United States
CATEGORIES:Church
END:VEVENT
BEGIN:VEVENT
DTSTART;TZID=America/Detroit:20271031T093000
DTEND;TZID=America/Detroit:20271031T103000
DTSTAMP:20260422T061646
CREATED:20231005T174607Z
LAST-MODIFIED:20231005T174607Z
UID:10001590-1824975000-1824978600@stpeterriley.org
SUMMARY:Divine Service
DESCRIPTION:
URL:https://stpeterriley.org/event/divine-service/2027-10-31/
LOCATION:Church\, 8990 Church Rd.\, St. Johns\, MI\, 48879\, United States
CATEGORIES:Church
END:VEVENT
BEGIN:VEVENT
DTSTART;TZID=America/Detroit:20271107T093000
DTEND;TZID=America/Detroit:20271107T103000
DTSTAMP:20260422T061646
CREATED:20231005T174607Z
LAST-MODIFIED:20231005T174607Z
UID:10001591-1825579800-1825583400@stpeterriley.org
SUMMARY:Divine Service
DESCRIPTION:
URL:https://stpeterriley.org/event/divine-service/2027-11-07/
LOCATION:Church\, 8990 Church Rd.\, St. Johns\, MI\, 48879\, United States
CATEGORIES:Church
END:VEVENT
BEGIN:VEVENT
DTSTART;TZID=America/Detroit:20271114T093000
DTEND;TZID=America/Detroit:20271114T103000
DTSTAMP:20260422T061646
CREATED:20231005T174607Z
LAST-MODIFIED:20231005T174607Z
UID:10001592-1826184600-1826188200@stpeterriley.org
SUMMARY:Divine Service
DESCRIPTION:
URL:https://stpeterriley.org/event/divine-service/2027-11-14/
LOCATION:Church\, 8990 Church Rd.\, St. Johns\, MI\, 48879\, United States
CATEGORIES:Church
END:VEVENT
BEGIN:VEVENT
DTSTART;TZID=America/Detroit:20271121T093000
DTEND;TZID=America/Detroit:20271121T103000
DTSTAMP:20260422T061646
CREATED:20231005T174607Z
LAST-MODIFIED:20231005T174607Z
UID:10001593-1826789400-1826793000@stpeterriley.org
SUMMARY:Divine Service
DESCRIPTION:
URL:https://stpeterriley.org/event/divine-service/2027-11-21/
LOCATION:Church\, 8990 Church Rd.\, St. Johns\, MI\, 48879\, United States
CATEGORIES:Church
END:VEVENT
END:VCALENDAR