BEGIN:VCALENDAR
VERSION:2.0
PRODID:-//St. Peter Lutheran Church and School - ECPv6.15.20//NONSGML v1.0//EN
CALSCALE:GREGORIAN
METHOD:PUBLISH
X-WR-CALNAME:St. Peter Lutheran Church and School
X-ORIGINAL-URL:https://stpeterriley.org
X-WR-CALDESC:Events for St. Peter Lutheran Church and School
REFRESH-INTERVAL;VALUE=DURATION:PT1H
X-Robots-Tag:noindex
X-PUBLISHED-TTL:PT1H
BEGIN:VTIMEZONE
TZID:America/Detroit
BEGIN:DAYLIGHT
TZOFFSETFROM:-0500
TZOFFSETTO:-0400
TZNAME:EDT
DTSTART:20240310T070000
END:DAYLIGHT
BEGIN:STANDARD
TZOFFSETFROM:-0400
TZOFFSETTO:-0500
TZNAME:EST
DTSTART:20241103T060000
END:STANDARD
BEGIN:DAYLIGHT
TZOFFSETFROM:-0500
TZOFFSETTO:-0400
TZNAME:EDT
DTSTART:20250309T070000
END:DAYLIGHT
BEGIN:STANDARD
TZOFFSETFROM:-0400
TZOFFSETTO:-0500
TZNAME:EST
DTSTART:20251102T060000
END:STANDARD
BEGIN:DAYLIGHT
TZOFFSETFROM:-0500
TZOFFSETTO:-0400
TZNAME:EDT
DTSTART:20260308T070000
END:DAYLIGHT
BEGIN:STANDARD
TZOFFSETFROM:-0400
TZOFFSETTO:-0500
TZNAME:EST
DTSTART:20261101T060000
END:STANDARD
END:VTIMEZONE
BEGIN:VEVENT
DTSTART;TZID=America/Detroit:20250907T093000
DTEND;TZID=America/Detroit:20250907T103000
DTSTAMP:20260422T121913
CREATED:20231005T174607Z
LAST-MODIFIED:20231005T174607Z
UID:10001478-1757237400-1757241000@stpeterriley.org
SUMMARY:Divine Service
DESCRIPTION:
URL:https://stpeterriley.org/event/divine-service/2025-09-07/
LOCATION:Church\, 8990 Church Rd.\, St. Johns\, MI\, 48879\, United States
CATEGORIES:Church
END:VEVENT
BEGIN:VEVENT
DTSTART;TZID=America/Detroit:20250831T093000
DTEND;TZID=America/Detroit:20250831T103000
DTSTAMP:20260422T121913
CREATED:20231005T174607Z
LAST-MODIFIED:20231005T174607Z
UID:10001477-1756632600-1756636200@stpeterriley.org
SUMMARY:Divine Service
DESCRIPTION:
URL:https://stpeterriley.org/event/divine-service/2025-08-31/
LOCATION:Church\, 8990 Church Rd.\, St. Johns\, MI\, 48879\, United States
CATEGORIES:Church
END:VEVENT
BEGIN:VEVENT
DTSTART;TZID=America/Detroit:20250831T093000
DTEND;TZID=America/Detroit:20250831T103000
DTSTAMP:20260422T121913
CREATED:20230808T140514Z
LAST-MODIFIED:20231005T174808Z
UID:10001662-1756632600-1756636200@stpeterriley.org
SUMMARY:Mites Sunday
DESCRIPTION:
URL:https://stpeterriley.org/event/mites-sunday/2025-08-31/
LOCATION:Church\, 8990 Church Rd.\, St. Johns\, MI\, 48879\, United States
CATEGORIES:Church
END:VEVENT
BEGIN:VEVENT
DTSTART;TZID=America/Detroit:20250824T093000
DTEND;TZID=America/Detroit:20250824T103000
DTSTAMP:20260422T121913
CREATED:20231005T174607Z
LAST-MODIFIED:20231005T174607Z
UID:10001476-1756027800-1756031400@stpeterriley.org
SUMMARY:Divine Service
DESCRIPTION:
URL:https://stpeterriley.org/event/divine-service/2025-08-24/
LOCATION:Church\, 8990 Church Rd.\, St. Johns\, MI\, 48879\, United States
CATEGORIES:Church
END:VEVENT
BEGIN:VEVENT
DTSTART;TZID=America/Detroit:20250817T093000
DTEND;TZID=America/Detroit:20250817T103000
DTSTAMP:20260422T121913
CREATED:20231005T174607Z
LAST-MODIFIED:20231005T174607Z
UID:10001475-1755423000-1755426600@stpeterriley.org
SUMMARY:Divine Service
DESCRIPTION:
URL:https://stpeterriley.org/event/divine-service/2025-08-17/
LOCATION:Church\, 8990 Church Rd.\, St. Johns\, MI\, 48879\, United States
CATEGORIES:Church
END:VEVENT
BEGIN:VEVENT
DTSTART;TZID=America/Detroit:20250810T093000
DTEND;TZID=America/Detroit:20250810T103000
DTSTAMP:20260422T121913
CREATED:20231005T174607Z
LAST-MODIFIED:20231005T174607Z
UID:10001474-1754818200-1754821800@stpeterriley.org
SUMMARY:Divine Service
DESCRIPTION:
URL:https://stpeterriley.org/event/divine-service/2025-08-10/
LOCATION:Church\, 8990 Church Rd.\, St. Johns\, MI\, 48879\, United States
CATEGORIES:Church
END:VEVENT
BEGIN:VEVENT
DTSTART;TZID=America/Detroit:20250803T093000
DTEND;TZID=America/Detroit:20250803T103000
DTSTAMP:20260422T121913
CREATED:20231005T174607Z
LAST-MODIFIED:20231005T174607Z
UID:10001473-1754213400-1754217000@stpeterriley.org
SUMMARY:Divine Service
DESCRIPTION:
URL:https://stpeterriley.org/event/divine-service/2025-08-03/
LOCATION:Church\, 8990 Church Rd.\, St. Johns\, MI\, 48879\, United States
CATEGORIES:Church
END:VEVENT
BEGIN:VEVENT
DTSTART;TZID=America/Detroit:20250727T093000
DTEND;TZID=America/Detroit:20250727T103000
DTSTAMP:20260422T121913
CREATED:20231005T174607Z
LAST-MODIFIED:20231005T174607Z
UID:10001472-1753608600-1753612200@stpeterriley.org
SUMMARY:Divine Service
DESCRIPTION:
URL:https://stpeterriley.org/event/divine-service/2025-07-27/
LOCATION:Church\, 8990 Church Rd.\, St. Johns\, MI\, 48879\, United States
CATEGORIES:Church
END:VEVENT
BEGIN:VEVENT
DTSTART;TZID=America/Detroit:20250727T093000
DTEND;TZID=America/Detroit:20250727T103000
DTSTAMP:20260422T121913
CREATED:20230808T140514Z
LAST-MODIFIED:20231005T174808Z
UID:10001661-1753608600-1753612200@stpeterriley.org
SUMMARY:Mites Sunday
DESCRIPTION:
URL:https://stpeterriley.org/event/mites-sunday/2025-07-27/
LOCATION:Church\, 8990 Church Rd.\, St. Johns\, MI\, 48879\, United States
CATEGORIES:Church
END:VEVENT
BEGIN:VEVENT
DTSTART;TZID=America/Detroit:20250720T093000
DTEND;TZID=America/Detroit:20250720T103000
DTSTAMP:20260422T121913
CREATED:20231005T174607Z
LAST-MODIFIED:20231005T174607Z
UID:10001471-1753003800-1753007400@stpeterriley.org
SUMMARY:Divine Service
DESCRIPTION:
URL:https://stpeterriley.org/event/divine-service/2025-07-20/
LOCATION:Church\, 8990 Church Rd.\, St. Johns\, MI\, 48879\, United States
CATEGORIES:Church
END:VEVENT
BEGIN:VEVENT
DTSTART;TZID=America/Detroit:20250713T093000
DTEND;TZID=America/Detroit:20250713T103000
DTSTAMP:20260422T121913
CREATED:20231005T174607Z
LAST-MODIFIED:20231005T174607Z
UID:10001470-1752399000-1752402600@stpeterriley.org
SUMMARY:Divine Service
DESCRIPTION:
URL:https://stpeterriley.org/event/divine-service/2025-07-13/
LOCATION:Church\, 8990 Church Rd.\, St. Johns\, MI\, 48879\, United States
CATEGORIES:Church
END:VEVENT
BEGIN:VEVENT
DTSTART;TZID=America/Detroit:20250706T093000
DTEND;TZID=America/Detroit:20250706T103000
DTSTAMP:20260422T121913
CREATED:20231005T174607Z
LAST-MODIFIED:20231005T174607Z
UID:10001469-1751794200-1751797800@stpeterriley.org
SUMMARY:Divine Service
DESCRIPTION:
URL:https://stpeterriley.org/event/divine-service/2025-07-06/
LOCATION:Church\, 8990 Church Rd.\, St. Johns\, MI\, 48879\, United States
CATEGORIES:Church
END:VEVENT
BEGIN:VEVENT
DTSTART;TZID=America/Detroit:20250629T093000
DTEND;TZID=America/Detroit:20250629T103000
DTSTAMP:20260422T121913
CREATED:20231005T174607Z
LAST-MODIFIED:20231005T174607Z
UID:10001468-1751189400-1751193000@stpeterriley.org
SUMMARY:Divine Service
DESCRIPTION:
URL:https://stpeterriley.org/event/divine-service/2025-06-29/
LOCATION:Church\, 8990 Church Rd.\, St. Johns\, MI\, 48879\, United States
CATEGORIES:Church
END:VEVENT
BEGIN:VEVENT
DTSTART;TZID=America/Detroit:20250629T093000
DTEND;TZID=America/Detroit:20250629T103000
DTSTAMP:20260422T121913
CREATED:20230808T140514Z
LAST-MODIFIED:20231005T174808Z
UID:10001660-1751189400-1751193000@stpeterriley.org
SUMMARY:Mites Sunday
DESCRIPTION:
URL:https://stpeterriley.org/event/mites-sunday/2025-06-29/
LOCATION:Church\, 8990 Church Rd.\, St. Johns\, MI\, 48879\, United States
CATEGORIES:Church
END:VEVENT
BEGIN:VEVENT
DTSTART;TZID=America/Detroit:20250622T093000
DTEND;TZID=America/Detroit:20250622T103000
DTSTAMP:20260422T121913
CREATED:20231005T174607Z
LAST-MODIFIED:20231005T174607Z
UID:10001467-1750584600-1750588200@stpeterriley.org
SUMMARY:Divine Service
DESCRIPTION:
URL:https://stpeterriley.org/event/divine-service/2025-06-22/
LOCATION:Church\, 8990 Church Rd.\, St. Johns\, MI\, 48879\, United States
CATEGORIES:Church
END:VEVENT
BEGIN:VEVENT
DTSTART;TZID=America/Detroit:20250615T093000
DTEND;TZID=America/Detroit:20250615T103000
DTSTAMP:20260422T121913
CREATED:20231005T174607Z
LAST-MODIFIED:20231005T174607Z
UID:10001466-1749979800-1749983400@stpeterriley.org
SUMMARY:Divine Service
DESCRIPTION:
URL:https://stpeterriley.org/event/divine-service/2025-06-15/
LOCATION:Church\, 8990 Church Rd.\, St. Johns\, MI\, 48879\, United States
CATEGORIES:Church
END:VEVENT
BEGIN:VEVENT
DTSTART;TZID=America/Detroit:20250608T093000
DTEND;TZID=America/Detroit:20250608T103000
DTSTAMP:20260422T121913
CREATED:20231005T174607Z
LAST-MODIFIED:20231005T174607Z
UID:10001465-1749375000-1749378600@stpeterriley.org
SUMMARY:Divine Service
DESCRIPTION:
URL:https://stpeterriley.org/event/divine-service/2025-06-08/
LOCATION:Church\, 8990 Church Rd.\, St. Johns\, MI\, 48879\, United States
CATEGORIES:Church
END:VEVENT
BEGIN:VEVENT
DTSTART;TZID=America/Detroit:20250601T093000
DTEND;TZID=America/Detroit:20250601T103000
DTSTAMP:20260422T121913
CREATED:20231005T174607Z
LAST-MODIFIED:20231005T174607Z
UID:10001464-1748770200-1748773800@stpeterriley.org
SUMMARY:Divine Service
DESCRIPTION:
URL:https://stpeterriley.org/event/divine-service/2025-06-01/
LOCATION:Church\, 8990 Church Rd.\, St. Johns\, MI\, 48879\, United States
CATEGORIES:Church
END:VEVENT
BEGIN:VEVENT
DTSTART;TZID=America/Detroit:20250531T190000
DTEND;TZID=America/Detroit:20250531T200000
DTSTAMP:20260422T121913
CREATED:20240429T202401Z
LAST-MODIFIED:20250426T211341Z
UID:10002547-1748718000-1748721600@stpeterriley.org
SUMMARY:The Visitation Divine Service
DESCRIPTION:
URL:https://stpeterriley.org/event/the-visitation-divine-service/
LOCATION:Church\, 8990 Church Rd.\, St. Johns\, MI\, 48879\, United States
CATEGORIES:Church
END:VEVENT
BEGIN:VEVENT
DTSTART;TZID=America/Detroit:20250525T093000
DTEND;TZID=America/Detroit:20250525T103000
DTSTAMP:20260422T121913
CREATED:20231005T174607Z
LAST-MODIFIED:20231005T174607Z
UID:10001463-1748165400-1748169000@stpeterriley.org
SUMMARY:Divine Service
DESCRIPTION:
URL:https://stpeterriley.org/event/divine-service/2025-05-25/
LOCATION:Church\, 8990 Church Rd.\, St. Johns\, MI\, 48879\, United States
CATEGORIES:Church
END:VEVENT
BEGIN:VEVENT
DTSTART;TZID=America/Detroit:20250525T093000
DTEND;TZID=America/Detroit:20250525T103000
DTSTAMP:20260422T121913
CREATED:20230808T140514Z
LAST-MODIFIED:20231005T174808Z
UID:10001659-1748165400-1748169000@stpeterriley.org
SUMMARY:Mites Sunday
DESCRIPTION:
URL:https://stpeterriley.org/event/mites-sunday/2025-05-25/
LOCATION:Church\, 8990 Church Rd.\, St. Johns\, MI\, 48879\, United States
CATEGORIES:Church
END:VEVENT
BEGIN:VEVENT
DTSTART;TZID=America/Detroit:20250518T093000
DTEND;TZID=America/Detroit:20250518T103000
DTSTAMP:20260422T121913
CREATED:20231005T174607Z
LAST-MODIFIED:20231005T174607Z
UID:10001462-1747560600-1747564200@stpeterriley.org
SUMMARY:Divine Service
DESCRIPTION:
URL:https://stpeterriley.org/event/divine-service/2025-05-18/
LOCATION:Church\, 8990 Church Rd.\, St. Johns\, MI\, 48879\, United States
CATEGORIES:Church
END:VEVENT
BEGIN:VEVENT
DTSTART;TZID=America/Detroit:20250511T093000
DTEND;TZID=America/Detroit:20250511T103000
DTSTAMP:20260422T121914
CREATED:20231005T174607Z
LAST-MODIFIED:20231005T174607Z
UID:10001461-1746955800-1746959400@stpeterriley.org
SUMMARY:Divine Service
DESCRIPTION:
URL:https://stpeterriley.org/event/divine-service/2025-05-11/
LOCATION:Church\, 8990 Church Rd.\, St. Johns\, MI\, 48879\, United States
CATEGORIES:Church
END:VEVENT
BEGIN:VEVENT
DTSTART;TZID=America/Detroit:20250504T093000
DTEND;TZID=America/Detroit:20250504T103000
DTSTAMP:20260422T121914
CREATED:20231005T174607Z
LAST-MODIFIED:20231005T174607Z
UID:10001460-1746351000-1746354600@stpeterriley.org
SUMMARY:Divine Service
DESCRIPTION:
URL:https://stpeterriley.org/event/divine-service/2025-05-04/
LOCATION:Church\, 8990 Church Rd.\, St. Johns\, MI\, 48879\, United States
CATEGORIES:Church
END:VEVENT
BEGIN:VEVENT
DTSTART;TZID=America/Detroit:20250427T093000
DTEND;TZID=America/Detroit:20250427T103000
DTSTAMP:20260422T121914
CREATED:20231005T174607Z
LAST-MODIFIED:20231005T174607Z
UID:10001459-1745746200-1745749800@stpeterriley.org
SUMMARY:Divine Service
DESCRIPTION:
URL:https://stpeterriley.org/event/divine-service/2025-04-27/
LOCATION:Church\, 8990 Church Rd.\, St. Johns\, MI\, 48879\, United States
CATEGORIES:Church
END:VEVENT
BEGIN:VEVENT
DTSTART;TZID=America/Detroit:20250427T093000
DTEND;TZID=America/Detroit:20250427T103000
DTSTAMP:20260422T121914
CREATED:20230808T140514Z
LAST-MODIFIED:20231005T174808Z
UID:10001658-1745746200-1745749800@stpeterriley.org
SUMMARY:Mites Sunday
DESCRIPTION:
URL:https://stpeterriley.org/event/mites-sunday/2025-04-27/
LOCATION:Church\, 8990 Church Rd.\, St. Johns\, MI\, 48879\, United States
CATEGORIES:Church
END:VEVENT
BEGIN:VEVENT
DTSTART;TZID=America/Detroit:20250420T093000
DTEND;TZID=America/Detroit:20250420T103000
DTSTAMP:20260422T121914
CREATED:20231005T174607Z
LAST-MODIFIED:20231005T174607Z
UID:10001458-1745141400-1745145000@stpeterriley.org
SUMMARY:Divine Service
DESCRIPTION:
URL:https://stpeterriley.org/event/divine-service/2025-04-20/
LOCATION:Church\, 8990 Church Rd.\, St. Johns\, MI\, 48879\, United States
CATEGORIES:Church
END:VEVENT
BEGIN:VEVENT
DTSTART;TZID=America/Detroit:20250413T120000
DTEND;TZID=America/Detroit:20250413T130000
DTSTAMP:20260422T121914
CREATED:20250404T151800Z
LAST-MODIFIED:20250404T151800Z
UID:10003247-1744545600-1744549200@stpeterriley.org
SUMMARY:Special Voters' Meeting
DESCRIPTION:
URL:https://stpeterriley.org/event/special-voters-meeting/
LOCATION:Church\, 8990 Church Rd.\, St. Johns\, MI\, 48879\, United States
CATEGORIES:Church
END:VEVENT
BEGIN:VEVENT
DTSTART;TZID=America/Detroit:20250413T093000
DTEND;TZID=America/Detroit:20250413T103000
DTSTAMP:20260422T121914
CREATED:20231005T174607Z
LAST-MODIFIED:20231005T174607Z
UID:10001457-1744536600-1744540200@stpeterriley.org
SUMMARY:Divine Service
DESCRIPTION:
URL:https://stpeterriley.org/event/divine-service/2025-04-13/
LOCATION:Church\, 8990 Church Rd.\, St. Johns\, MI\, 48879\, United States
CATEGORIES:Church
END:VEVENT
BEGIN:VEVENT
DTSTART;TZID=America/Detroit:20250406T093000
DTEND;TZID=America/Detroit:20250406T103000
DTSTAMP:20260422T121914
CREATED:20231005T174607Z
LAST-MODIFIED:20231005T174607Z
UID:10001456-1743931800-1743935400@stpeterriley.org
SUMMARY:Divine Service
DESCRIPTION:
URL:https://stpeterriley.org/event/divine-service/2025-04-06/
LOCATION:Church\, 8990 Church Rd.\, St. Johns\, MI\, 48879\, United States
CATEGORIES:Church
END:VEVENT
END:VCALENDAR