BEGIN:VCALENDAR
VERSION:2.0
PRODID:-//St. Peter Lutheran Church and School - ECPv6.15.20//NONSGML v1.0//EN
CALSCALE:GREGORIAN
METHOD:PUBLISH
X-ORIGINAL-URL:https://stpeterriley.org
X-WR-CALDESC:Events for St. Peter Lutheran Church and School
REFRESH-INTERVAL;VALUE=DURATION:PT1H
X-Robots-Tag:noindex
X-PUBLISHED-TTL:PT1H
BEGIN:VTIMEZONE
TZID:America/Detroit
BEGIN:DAYLIGHT
TZOFFSETFROM:-0500
TZOFFSETTO:-0400
TZNAME:EDT
DTSTART:20240310T070000
END:DAYLIGHT
BEGIN:STANDARD
TZOFFSETFROM:-0400
TZOFFSETTO:-0500
TZNAME:EST
DTSTART:20241103T060000
END:STANDARD
BEGIN:DAYLIGHT
TZOFFSETFROM:-0500
TZOFFSETTO:-0400
TZNAME:EDT
DTSTART:20250309T070000
END:DAYLIGHT
BEGIN:STANDARD
TZOFFSETFROM:-0400
TZOFFSETTO:-0500
TZNAME:EST
DTSTART:20251102T060000
END:STANDARD
BEGIN:DAYLIGHT
TZOFFSETFROM:-0500
TZOFFSETTO:-0400
TZNAME:EDT
DTSTART:20260308T070000
END:DAYLIGHT
BEGIN:STANDARD
TZOFFSETFROM:-0400
TZOFFSETTO:-0500
TZNAME:EST
DTSTART:20261101T060000
END:STANDARD
BEGIN:DAYLIGHT
TZOFFSETFROM:-0500
TZOFFSETTO:-0400
TZNAME:EDT
DTSTART:20270314T070000
END:DAYLIGHT
BEGIN:STANDARD
TZOFFSETFROM:-0400
TZOFFSETTO:-0500
TZNAME:EST
DTSTART:20271107T060000
END:STANDARD
END:VTIMEZONE
BEGIN:VEVENT
DTSTART;TZID=America/Detroit:20260208T093000
DTEND;TZID=America/Detroit:20260208T103000
DTSTAMP:20260422T062835
CREATED:20231005T174607Z
LAST-MODIFIED:20231005T174607Z
UID:10001500-1770543000-1770546600@stpeterriley.org
SUMMARY:Divine Service
DESCRIPTION:
URL:https://stpeterriley.org/event/divine-service/2026-02-08/
LOCATION:Church\, 8990 Church Rd.\, St. Johns\, MI\, 48879\, United States
CATEGORIES:Church
END:VEVENT
BEGIN:VEVENT
DTSTART;TZID=America/Detroit:20260202T190000
DTEND;TZID=America/Detroit:20260202T200000
DTSTAMP:20260422T062835
CREATED:20240203T155738Z
LAST-MODIFIED:20260126T194410Z
UID:10002517-1770058800-1770062400@stpeterriley.org
SUMMARY:Purification of Mary and Presentation of Our Lord Divine Service
DESCRIPTION:
URL:https://stpeterriley.org/event/purification-of-mary-and-presentation-of-our-lord-divine-service/
LOCATION:Church\, 8990 Church Rd.\, St. Johns\, MI\, 48879\, United States
CATEGORIES:Church
END:VEVENT
BEGIN:VEVENT
DTSTART;TZID=America/Detroit:20260201T093000
DTEND;TZID=America/Detroit:20260201T103000
DTSTAMP:20260422T062835
CREATED:20231005T174607Z
LAST-MODIFIED:20231005T174607Z
UID:10001499-1769938200-1769941800@stpeterriley.org
SUMMARY:Divine Service
DESCRIPTION:
URL:https://stpeterriley.org/event/divine-service/2026-02-01/
LOCATION:Church\, 8990 Church Rd.\, St. Johns\, MI\, 48879\, United States
CATEGORIES:Church
END:VEVENT
BEGIN:VEVENT
DTSTART;TZID=America/Detroit:20260125T093000
DTEND;TZID=America/Detroit:20260125T103000
DTSTAMP:20260422T062835
CREATED:20231005T174607Z
LAST-MODIFIED:20231005T174607Z
UID:10001498-1769333400-1769337000@stpeterriley.org
SUMMARY:Divine Service
DESCRIPTION:
URL:https://stpeterriley.org/event/divine-service/2026-01-25/
LOCATION:Church\, 8990 Church Rd.\, St. Johns\, MI\, 48879\, United States
CATEGORIES:Church
END:VEVENT
BEGIN:VEVENT
DTSTART;TZID=America/Detroit:20260125T093000
DTEND;TZID=America/Detroit:20260125T103000
DTSTAMP:20260422T062835
CREATED:20230808T140514Z
LAST-MODIFIED:20231005T174808Z
UID:10001667-1769333400-1769337000@stpeterriley.org
SUMMARY:Mites Sunday
DESCRIPTION:
URL:https://stpeterriley.org/event/mites-sunday/2026-01-25/
LOCATION:Church\, 8990 Church Rd.\, St. Johns\, MI\, 48879\, United States
CATEGORIES:Church
END:VEVENT
BEGIN:VEVENT
DTSTART;TZID=America/Detroit:20260118T093000
DTEND;TZID=America/Detroit:20260118T103000
DTSTAMP:20260422T062835
CREATED:20231005T174607Z
LAST-MODIFIED:20231005T174607Z
UID:10001497-1768728600-1768732200@stpeterriley.org
SUMMARY:Divine Service
DESCRIPTION:
URL:https://stpeterriley.org/event/divine-service/2026-01-18/
LOCATION:Church\, 8990 Church Rd.\, St. Johns\, MI\, 48879\, United States
CATEGORIES:Church
END:VEVENT
BEGIN:VEVENT
DTSTART;TZID=America/Detroit:20260111T093000
DTEND;TZID=America/Detroit:20260111T103000
DTSTAMP:20260422T062835
CREATED:20231005T174607Z
LAST-MODIFIED:20231005T174607Z
UID:10001496-1768123800-1768127400@stpeterriley.org
SUMMARY:Divine Service
DESCRIPTION:
URL:https://stpeterriley.org/event/divine-service/2026-01-11/
LOCATION:Church\, 8990 Church Rd.\, St. Johns\, MI\, 48879\, United States
CATEGORIES:Church
END:VEVENT
BEGIN:VEVENT
DTSTART;TZID=America/Detroit:20260104T093000
DTEND;TZID=America/Detroit:20260104T103000
DTSTAMP:20260422T062835
CREATED:20231005T174607Z
LAST-MODIFIED:20231005T174607Z
UID:10001495-1767519000-1767522600@stpeterriley.org
SUMMARY:Divine Service
DESCRIPTION:
URL:https://stpeterriley.org/event/divine-service/2026-01-04/
LOCATION:Church\, 8990 Church Rd.\, St. Johns\, MI\, 48879\, United States
CATEGORIES:Church
END:VEVENT
BEGIN:VEVENT
DTSTART;TZID=America/Detroit:20260102T180000
DTEND;TZID=America/Detroit:20260103T150000
DTSTAMP:20260422T062835
CREATED:20251220T154037Z
LAST-MODIFIED:20251220T154037Z
UID:10003649-1767376800-1767452400@stpeterriley.org
SUMMARY:Higher Things Youth Retreat
DESCRIPTION:
URL:https://stpeterriley.org/event/higher-things-youth-retreat/
LOCATION:Church\, 8990 Church Rd.\, St. Johns\, MI\, 48879\, United States
CATEGORIES:Church
END:VEVENT
BEGIN:VEVENT
DTSTART;TZID=America/Detroit:20251228T093000
DTEND;TZID=America/Detroit:20251228T103000
DTSTAMP:20260422T062835
CREATED:20231005T174607Z
LAST-MODIFIED:20231005T174607Z
UID:10001494-1766914200-1766917800@stpeterriley.org
SUMMARY:Divine Service
DESCRIPTION:
URL:https://stpeterriley.org/event/divine-service/2025-12-28/
LOCATION:Church\, 8990 Church Rd.\, St. Johns\, MI\, 48879\, United States
CATEGORIES:Church
END:VEVENT
BEGIN:VEVENT
DTSTART;TZID=America/Detroit:20251228T093000
DTEND;TZID=America/Detroit:20251228T103000
DTSTAMP:20260422T062835
CREATED:20230808T140514Z
LAST-MODIFIED:20231005T174808Z
UID:10001666-1766914200-1766917800@stpeterriley.org
SUMMARY:Mites Sunday
DESCRIPTION:
URL:https://stpeterriley.org/event/mites-sunday/2025-12-28/
LOCATION:Church\, 8990 Church Rd.\, St. Johns\, MI\, 48879\, United States
CATEGORIES:Church
END:VEVENT
BEGIN:VEVENT
DTSTART;TZID=America/Detroit:20251225T093000
DTEND;TZID=America/Detroit:20251225T103000
DTSTAMP:20260422T062835
CREATED:20231218T180146Z
LAST-MODIFIED:20251208T192217Z
UID:10002242-1766655000-1766658600@stpeterriley.org
SUMMARY:Christmas Day Divine Service
DESCRIPTION:
URL:https://stpeterriley.org/event/christmas-day-divine-service/
LOCATION:Church\, 8990 Church Rd.\, St. Johns\, MI\, 48879\, United States
CATEGORIES:Church
END:VEVENT
BEGIN:VEVENT
DTSTART;TZID=America/Detroit:20251224T230000
DTEND;TZID=America/Detroit:20251224T235900
DTSTAMP:20260422T062835
CREATED:20241111T223217Z
LAST-MODIFIED:20251208T191814Z
UID:10003245-1766617200-1766620740@stpeterriley.org
SUMMARY:Christmas Eve - Candlelight Divine Service
DESCRIPTION:
URL:https://stpeterriley.org/event/christmas-eve-candlelight-divine-service/
LOCATION:Church\, 8990 Church Rd.\, St. Johns\, MI\, 48879\, United States
CATEGORIES:Church
END:VEVENT
BEGIN:VEVENT
DTSTART;TZID=America/Detroit:20251224T190000
DTEND;TZID=America/Detroit:20251224T200000
DTSTAMP:20260422T062835
CREATED:20231218T174413Z
LAST-MODIFIED:20251208T191527Z
UID:10002240-1766602800-1766606400@stpeterriley.org
SUMMARY:Christmas Eve - Early Divine Service
DESCRIPTION:
URL:https://stpeterriley.org/event/christmas-eve-divine-service/
LOCATION:Church\, 8990 Church Rd.\, St. Johns\, MI\, 48879\, United States
CATEGORIES:Church
END:VEVENT
BEGIN:VEVENT
DTSTART;TZID=America/Detroit:20251221T093000
DTEND;TZID=America/Detroit:20251221T103000
DTSTAMP:20260422T062835
CREATED:20231005T174607Z
LAST-MODIFIED:20231005T174607Z
UID:10001493-1766309400-1766313000@stpeterriley.org
SUMMARY:Divine Service
DESCRIPTION:
URL:https://stpeterriley.org/event/divine-service/2025-12-21/
LOCATION:Church\, 8990 Church Rd.\, St. Johns\, MI\, 48879\, United States
CATEGORIES:Church
END:VEVENT
BEGIN:VEVENT
DTSTART;TZID=America/Detroit:20251216T190000
DTEND;TZID=America/Detroit:20251216T200000
DTSTAMP:20260422T062835
CREATED:20251208T193100Z
LAST-MODIFIED:20251208T193100Z
UID:10003648-1765911600-1765915200@stpeterriley.org
SUMMARY:Children's Christmas Program
DESCRIPTION:
URL:https://stpeterriley.org/event/childrens-christmas-program/
LOCATION:Church\, 8990 Church Rd.\, St. Johns\, MI\, 48879\, United States
CATEGORIES:Church
END:VEVENT
BEGIN:VEVENT
DTSTART;TZID=America/Detroit:20251214T093000
DTEND;TZID=America/Detroit:20251214T103000
DTSTAMP:20260422T062835
CREATED:20231005T174607Z
LAST-MODIFIED:20231005T174607Z
UID:10001492-1765704600-1765708200@stpeterriley.org
SUMMARY:Divine Service
DESCRIPTION:
URL:https://stpeterriley.org/event/divine-service/2025-12-14/
LOCATION:Church\, 8990 Church Rd.\, St. Johns\, MI\, 48879\, United States
CATEGORIES:Church
END:VEVENT
BEGIN:VEVENT
DTSTART;TZID=America/Detroit:20251212T190000
DTEND;TZID=America/Detroit:20251212T203000
DTSTAMP:20260422T062835
CREATED:20231128T231145Z
LAST-MODIFIED:20251208T192712Z
UID:10002228-1765566000-1765571400@stpeterriley.org
SUMMARY:Capitol City Chordsmen
DESCRIPTION:
URL:https://stpeterriley.org/event/capitol-city-chordsmen/
LOCATION:Church\, 8990 Church Rd.\, St. Johns\, MI\, 48879\, United States
CATEGORIES:Church
END:VEVENT
BEGIN:VEVENT
DTSTART;TZID=America/Detroit:20251207T093000
DTEND;TZID=America/Detroit:20251207T103000
DTSTAMP:20260422T062835
CREATED:20231005T174607Z
LAST-MODIFIED:20231005T174607Z
UID:10001491-1765099800-1765103400@stpeterriley.org
SUMMARY:Divine Service
DESCRIPTION:
URL:https://stpeterriley.org/event/divine-service/2025-12-07/
LOCATION:Church\, 8990 Church Rd.\, St. Johns\, MI\, 48879\, United States
CATEGORIES:Church
END:VEVENT
BEGIN:VEVENT
DTSTART;TZID=America/Detroit:20251130T093000
DTEND;TZID=America/Detroit:20251130T103000
DTSTAMP:20260422T062835
CREATED:20231005T174607Z
LAST-MODIFIED:20231005T174607Z
UID:10001490-1764495000-1764498600@stpeterriley.org
SUMMARY:Divine Service
DESCRIPTION:
URL:https://stpeterriley.org/event/divine-service/2025-11-30/
LOCATION:Church\, 8990 Church Rd.\, St. Johns\, MI\, 48879\, United States
CATEGORIES:Church
END:VEVENT
BEGIN:VEVENT
DTSTART;TZID=America/Detroit:20251130T093000
DTEND;TZID=America/Detroit:20251130T103000
DTSTAMP:20260422T062835
CREATED:20230808T140514Z
LAST-MODIFIED:20231005T174808Z
UID:10001665-1764495000-1764498600@stpeterriley.org
SUMMARY:Mites Sunday
DESCRIPTION:
URL:https://stpeterriley.org/event/mites-sunday/2025-11-30/
LOCATION:Church\, 8990 Church Rd.\, St. Johns\, MI\, 48879\, United States
CATEGORIES:Church
END:VEVENT
BEGIN:VEVENT
DTSTART;TZID=America/Detroit:20251123T093000
DTEND;TZID=America/Detroit:20251123T103000
DTSTAMP:20260422T062835
CREATED:20231005T174607Z
LAST-MODIFIED:20231005T174607Z
UID:10001489-1763890200-1763893800@stpeterriley.org
SUMMARY:Divine Service
DESCRIPTION:
URL:https://stpeterriley.org/event/divine-service/2025-11-23/
LOCATION:Church\, 8990 Church Rd.\, St. Johns\, MI\, 48879\, United States
CATEGORIES:Church
END:VEVENT
BEGIN:VEVENT
DTSTART;TZID=America/Detroit:20251116T093000
DTEND;TZID=America/Detroit:20251116T103000
DTSTAMP:20260422T062835
CREATED:20231005T174607Z
LAST-MODIFIED:20231005T174607Z
UID:10001488-1763285400-1763289000@stpeterriley.org
SUMMARY:Divine Service
DESCRIPTION:
URL:https://stpeterriley.org/event/divine-service/2025-11-16/
LOCATION:Church\, 8990 Church Rd.\, St. Johns\, MI\, 48879\, United States
CATEGORIES:Church
END:VEVENT
BEGIN:VEVENT
DTSTART;TZID=America/Detroit:20251109T093000
DTEND;TZID=America/Detroit:20251109T103000
DTSTAMP:20260422T062835
CREATED:20231005T174607Z
LAST-MODIFIED:20231005T174607Z
UID:10001487-1762680600-1762684200@stpeterriley.org
SUMMARY:Divine Service
DESCRIPTION:
URL:https://stpeterriley.org/event/divine-service/2025-11-09/
LOCATION:Church\, 8990 Church Rd.\, St. Johns\, MI\, 48879\, United States
CATEGORIES:Church
END:VEVENT
BEGIN:VEVENT
DTSTART;TZID=America/Detroit:20251102T093000
DTEND;TZID=America/Detroit:20251102T103000
DTSTAMP:20260422T062835
CREATED:20231005T174607Z
LAST-MODIFIED:20231005T174607Z
UID:10001486-1762075800-1762079400@stpeterriley.org
SUMMARY:Divine Service
DESCRIPTION:
URL:https://stpeterriley.org/event/divine-service/2025-11-02/
LOCATION:Church\, 8990 Church Rd.\, St. Johns\, MI\, 48879\, United States
CATEGORIES:Church
END:VEVENT
BEGIN:VEVENT
DTSTART;TZID=America/Detroit:20251026T093000
DTEND;TZID=America/Detroit:20251026T103000
DTSTAMP:20260422T062835
CREATED:20231005T174607Z
LAST-MODIFIED:20231005T174607Z
UID:10001485-1761471000-1761474600@stpeterriley.org
SUMMARY:Divine Service
DESCRIPTION:
URL:https://stpeterriley.org/event/divine-service/2025-10-26/
LOCATION:Church\, 8990 Church Rd.\, St. Johns\, MI\, 48879\, United States
CATEGORIES:Church
END:VEVENT
BEGIN:VEVENT
DTSTART;TZID=America/Detroit:20251026T093000
DTEND;TZID=America/Detroit:20251026T103000
DTSTAMP:20260422T062835
CREATED:20230808T140514Z
LAST-MODIFIED:20231005T174808Z
UID:10001664-1761471000-1761474600@stpeterriley.org
SUMMARY:Mites Sunday
DESCRIPTION:
URL:https://stpeterriley.org/event/mites-sunday/2025-10-26/
LOCATION:Church\, 8990 Church Rd.\, St. Johns\, MI\, 48879\, United States
CATEGORIES:Church
END:VEVENT
BEGIN:VEVENT
DTSTART;TZID=America/Detroit:20251019T093000
DTEND;TZID=America/Detroit:20251019T103000
DTSTAMP:20260422T062835
CREATED:20231005T174607Z
LAST-MODIFIED:20231005T174607Z
UID:10001484-1760866200-1760869800@stpeterriley.org
SUMMARY:Divine Service
DESCRIPTION:
URL:https://stpeterriley.org/event/divine-service/2025-10-19/
LOCATION:Church\, 8990 Church Rd.\, St. Johns\, MI\, 48879\, United States
CATEGORIES:Church
END:VEVENT
BEGIN:VEVENT
DTSTART;TZID=America/Detroit:20251012T093000
DTEND;TZID=America/Detroit:20251012T103000
DTSTAMP:20260422T062835
CREATED:20231005T174607Z
LAST-MODIFIED:20231005T174607Z
UID:10001483-1760261400-1760265000@stpeterriley.org
SUMMARY:Divine Service
DESCRIPTION:
URL:https://stpeterriley.org/event/divine-service/2025-10-12/
LOCATION:Church\, 8990 Church Rd.\, St. Johns\, MI\, 48879\, United States
CATEGORIES:Church
END:VEVENT
BEGIN:VEVENT
DTSTART;TZID=America/Detroit:20251005T093000
DTEND;TZID=America/Detroit:20251005T103000
DTSTAMP:20260422T062835
CREATED:20231005T174607Z
LAST-MODIFIED:20231005T174607Z
UID:10001482-1759656600-1759660200@stpeterriley.org
SUMMARY:Divine Service
DESCRIPTION:
URL:https://stpeterriley.org/event/divine-service/2025-10-05/
LOCATION:Church\, 8990 Church Rd.\, St. Johns\, MI\, 48879\, United States
CATEGORIES:Church
END:VEVENT
END:VCALENDAR