BEGIN:VCALENDAR
VERSION:2.0
PRODID:-//St. Peter Lutheran Church and School - ECPv6.15.20//NONSGML v1.0//EN
CALSCALE:GREGORIAN
METHOD:PUBLISH
X-WR-CALNAME:St. Peter Lutheran Church and School
X-ORIGINAL-URL:https://stpeterriley.org
X-WR-CALDESC:Events for St. Peter Lutheran Church and School
REFRESH-INTERVAL;VALUE=DURATION:PT1H
X-Robots-Tag:noindex
X-PUBLISHED-TTL:PT1H
BEGIN:VTIMEZONE
TZID:America/Detroit
BEGIN:DAYLIGHT
TZOFFSETFROM:-0500
TZOFFSETTO:-0400
TZNAME:EDT
DTSTART:20220313T070000
END:DAYLIGHT
BEGIN:STANDARD
TZOFFSETFROM:-0400
TZOFFSETTO:-0500
TZNAME:EST
DTSTART:20221106T060000
END:STANDARD
BEGIN:DAYLIGHT
TZOFFSETFROM:-0500
TZOFFSETTO:-0400
TZNAME:EDT
DTSTART:20230312T070000
END:DAYLIGHT
BEGIN:STANDARD
TZOFFSETFROM:-0400
TZOFFSETTO:-0500
TZNAME:EST
DTSTART:20231105T060000
END:STANDARD
BEGIN:DAYLIGHT
TZOFFSETFROM:-0500
TZOFFSETTO:-0400
TZNAME:EDT
DTSTART:20240310T070000
END:DAYLIGHT
BEGIN:STANDARD
TZOFFSETFROM:-0400
TZOFFSETTO:-0500
TZNAME:EST
DTSTART:20241103T060000
END:STANDARD
BEGIN:DAYLIGHT
TZOFFSETFROM:-0500
TZOFFSETTO:-0400
TZNAME:EDT
DTSTART:20250309T070000
END:DAYLIGHT
BEGIN:STANDARD
TZOFFSETFROM:-0400
TZOFFSETTO:-0500
TZNAME:EST
DTSTART:20251102T060000
END:STANDARD
END:VTIMEZONE
BEGIN:VEVENT
DTSTART;TZID=America/Detroit:20240204T093000
DTEND;TZID=America/Detroit:20240204T103000
DTSTAMP:20260424T112655
CREATED:20231005T174607Z
LAST-MODIFIED:20231005T174607Z
UID:10001395-1707039000-1707042600@stpeterriley.org
SUMMARY:Divine Service
DESCRIPTION:
URL:https://stpeterriley.org/event/divine-service/2024-02-04/
LOCATION:Church\, 8990 Church Rd.\, St. Johns\, MI\, 48879\, United States
CATEGORIES:Church
END:VEVENT
BEGIN:VEVENT
DTSTART;TZID=America/Detroit:20240128T093000
DTEND;TZID=America/Detroit:20240128T103000
DTSTAMP:20260424T112655
CREATED:20231005T174607Z
LAST-MODIFIED:20231005T174607Z
UID:10001394-1706434200-1706437800@stpeterriley.org
SUMMARY:Divine Service
DESCRIPTION:
URL:https://stpeterriley.org/event/divine-service/2024-01-28/
LOCATION:Church\, 8990 Church Rd.\, St. Johns\, MI\, 48879\, United States
CATEGORIES:Church
END:VEVENT
BEGIN:VEVENT
DTSTART;TZID=America/Detroit:20240128T093000
DTEND;TZID=America/Detroit:20240128T103000
DTSTAMP:20260424T112655
CREATED:20230808T140514Z
LAST-MODIFIED:20231005T174808Z
UID:10001643-1706434200-1706437800@stpeterriley.org
SUMMARY:Mites Sunday
DESCRIPTION:
URL:https://stpeterriley.org/event/mites-sunday/2024-01-28/
LOCATION:Church\, 8990 Church Rd.\, St. Johns\, MI\, 48879\, United States
CATEGORIES:Church
END:VEVENT
BEGIN:VEVENT
DTSTART;TZID=America/Detroit:20240121T093000
DTEND;TZID=America/Detroit:20240121T103000
DTSTAMP:20260424T112655
CREATED:20231005T174607Z
LAST-MODIFIED:20231005T174607Z
UID:10001393-1705829400-1705833000@stpeterriley.org
SUMMARY:Divine Service
DESCRIPTION:
URL:https://stpeterriley.org/event/divine-service/2024-01-21/
LOCATION:Church\, 8990 Church Rd.\, St. Johns\, MI\, 48879\, United States
CATEGORIES:Church
END:VEVENT
BEGIN:VEVENT
DTSTART;TZID=America/Detroit:20240114T093000
DTEND;TZID=America/Detroit:20240114T103000
DTSTAMP:20260424T112655
CREATED:20231005T174607Z
LAST-MODIFIED:20231005T174607Z
UID:10001392-1705224600-1705228200@stpeterriley.org
SUMMARY:Divine Service
DESCRIPTION:
URL:https://stpeterriley.org/event/divine-service/2024-01-14/
LOCATION:Church\, 8990 Church Rd.\, St. Johns\, MI\, 48879\, United States
CATEGORIES:Church
END:VEVENT
BEGIN:VEVENT
DTSTART;TZID=America/Detroit:20240107T093000
DTEND;TZID=America/Detroit:20240107T103000
DTSTAMP:20260424T112655
CREATED:20231005T174607Z
LAST-MODIFIED:20231005T174607Z
UID:10001391-1704619800-1704623400@stpeterriley.org
SUMMARY:Divine Service
DESCRIPTION:
URL:https://stpeterriley.org/event/divine-service/2024-01-07/
LOCATION:Church\, 8990 Church Rd.\, St. Johns\, MI\, 48879\, United States
CATEGORIES:Church
END:VEVENT
BEGIN:VEVENT
DTSTART;TZID=America/Detroit:20231231T093000
DTEND;TZID=America/Detroit:20231231T103000
DTSTAMP:20260424T112655
CREATED:20231005T174607Z
LAST-MODIFIED:20231005T174607Z
UID:10001390-1704015000-1704018600@stpeterriley.org
SUMMARY:Divine Service
DESCRIPTION:
URL:https://stpeterriley.org/event/divine-service/2023-12-31/
LOCATION:Church\, 8990 Church Rd.\, St. Johns\, MI\, 48879\, United States
CATEGORIES:Church
END:VEVENT
BEGIN:VEVENT
DTSTART;TZID=America/Detroit:20231231T093000
DTEND;TZID=America/Detroit:20231231T103000
DTSTAMP:20260424T112655
CREATED:20230808T140514Z
LAST-MODIFIED:20231005T174808Z
UID:10001642-1704015000-1704018600@stpeterriley.org
SUMMARY:Mites Sunday
DESCRIPTION:
URL:https://stpeterriley.org/event/mites-sunday/2023-12-31/
LOCATION:Church\, 8990 Church Rd.\, St. Johns\, MI\, 48879\, United States
CATEGORIES:Church
END:VEVENT
BEGIN:VEVENT
DTSTART;TZID=America/Detroit:20231224T093000
DTEND;TZID=America/Detroit:20231224T103000
DTSTAMP:20260424T112655
CREATED:20231005T174607Z
LAST-MODIFIED:20231005T174607Z
UID:10001389-1703410200-1703413800@stpeterriley.org
SUMMARY:Divine Service
DESCRIPTION:
URL:https://stpeterriley.org/event/divine-service/2023-12-24/
LOCATION:Church\, 8990 Church Rd.\, St. Johns\, MI\, 48879\, United States
CATEGORIES:Church
END:VEVENT
BEGIN:VEVENT
DTSTART;TZID=America/Detroit:20231217T093000
DTEND;TZID=America/Detroit:20231217T103000
DTSTAMP:20260424T112655
CREATED:20231005T174607Z
LAST-MODIFIED:20231005T174607Z
UID:10001388-1702805400-1702809000@stpeterriley.org
SUMMARY:Divine Service
DESCRIPTION:
URL:https://stpeterriley.org/event/divine-service/2023-12-17/
LOCATION:Church\, 8990 Church Rd.\, St. Johns\, MI\, 48879\, United States
CATEGORIES:Church
END:VEVENT
BEGIN:VEVENT
DTSTART;TZID=America/Detroit:20231210T093000
DTEND;TZID=America/Detroit:20231210T103000
DTSTAMP:20260424T112655
CREATED:20231005T174607Z
LAST-MODIFIED:20231005T174607Z
UID:10001387-1702200600-1702204200@stpeterriley.org
SUMMARY:Divine Service
DESCRIPTION:
URL:https://stpeterriley.org/event/divine-service/2023-12-10/
LOCATION:Church\, 8990 Church Rd.\, St. Johns\, MI\, 48879\, United States
CATEGORIES:Church
END:VEVENT
BEGIN:VEVENT
DTSTART;TZID=America/Detroit:20231203T093000
DTEND;TZID=America/Detroit:20231203T103000
DTSTAMP:20260424T112655
CREATED:20231005T174607Z
LAST-MODIFIED:20231005T174607Z
UID:10001386-1701595800-1701599400@stpeterriley.org
SUMMARY:Divine Service
DESCRIPTION:
URL:https://stpeterriley.org/event/divine-service/2023-12-03/
LOCATION:Church\, 8990 Church Rd.\, St. Johns\, MI\, 48879\, United States
CATEGORIES:Church
END:VEVENT
BEGIN:VEVENT
DTSTART;TZID=America/Detroit:20231126T093000
DTEND;TZID=America/Detroit:20231126T103000
DTSTAMP:20260424T112655
CREATED:20231005T174607Z
LAST-MODIFIED:20231005T174607Z
UID:10001385-1700991000-1700994600@stpeterriley.org
SUMMARY:Divine Service
DESCRIPTION:
URL:https://stpeterriley.org/event/divine-service/2023-11-26/
LOCATION:Church\, 8990 Church Rd.\, St. Johns\, MI\, 48879\, United States
CATEGORIES:Church
END:VEVENT
BEGIN:VEVENT
DTSTART;TZID=America/Detroit:20231126T093000
DTEND;TZID=America/Detroit:20231126T103000
DTSTAMP:20260424T112655
CREATED:20230808T140514Z
LAST-MODIFIED:20231005T174808Z
UID:10001641-1700991000-1700994600@stpeterriley.org
SUMMARY:Mites Sunday
DESCRIPTION:
URL:https://stpeterriley.org/event/mites-sunday/2023-11-26/
LOCATION:Church\, 8990 Church Rd.\, St. Johns\, MI\, 48879\, United States
CATEGORIES:Church
END:VEVENT
BEGIN:VEVENT
DTSTART;TZID=America/Detroit:20231119T093000
DTEND;TZID=America/Detroit:20231119T103000
DTSTAMP:20260424T112655
CREATED:20231005T174607Z
LAST-MODIFIED:20231005T174607Z
UID:10001384-1700386200-1700389800@stpeterriley.org
SUMMARY:Divine Service
DESCRIPTION:
URL:https://stpeterriley.org/event/divine-service/2023-11-19/
LOCATION:Church\, 8990 Church Rd.\, St. Johns\, MI\, 48879\, United States
CATEGORIES:Church
END:VEVENT
BEGIN:VEVENT
DTSTART;TZID=America/Detroit:20231112T093000
DTEND;TZID=America/Detroit:20231112T103000
DTSTAMP:20260424T112655
CREATED:20231005T174607Z
LAST-MODIFIED:20231005T174607Z
UID:10001383-1699781400-1699785000@stpeterriley.org
SUMMARY:Divine Service
DESCRIPTION:
URL:https://stpeterriley.org/event/divine-service/2023-11-12/
LOCATION:Church\, 8990 Church Rd.\, St. Johns\, MI\, 48879\, United States
CATEGORIES:Church
END:VEVENT
BEGIN:VEVENT
DTSTART;TZID=America/Detroit:20231105T093000
DTEND;TZID=America/Detroit:20231105T103000
DTSTAMP:20260424T112655
CREATED:20231005T174607Z
LAST-MODIFIED:20231005T174607Z
UID:10001382-1699176600-1699180200@stpeterriley.org
SUMMARY:Divine Service
DESCRIPTION:
URL:https://stpeterriley.org/event/divine-service/2023-11-05/
LOCATION:Church\, 8990 Church Rd.\, St. Johns\, MI\, 48879\, United States
CATEGORIES:Church
END:VEVENT
BEGIN:VEVENT
DTSTART;TZID=America/Detroit:20231029T093000
DTEND;TZID=America/Detroit:20231029T103000
DTSTAMP:20260424T112655
CREATED:20231005T174607Z
LAST-MODIFIED:20231005T174607Z
UID:10001381-1698571800-1698575400@stpeterriley.org
SUMMARY:Divine Service
DESCRIPTION:
URL:https://stpeterriley.org/event/divine-service/2023-10-29/
LOCATION:Church\, 8990 Church Rd.\, St. Johns\, MI\, 48879\, United States
CATEGORIES:Church
END:VEVENT
BEGIN:VEVENT
DTSTART;TZID=America/Detroit:20231029T093000
DTEND;TZID=America/Detroit:20231029T103000
DTSTAMP:20260424T112655
CREATED:20230808T140514Z
LAST-MODIFIED:20231005T174808Z
UID:10001640-1698571800-1698575400@stpeterriley.org
SUMMARY:Mites Sunday
DESCRIPTION:
URL:https://stpeterriley.org/event/mites-sunday/2023-10-29/
LOCATION:Church\, 8990 Church Rd.\, St. Johns\, MI\, 48879\, United States
CATEGORIES:Church
END:VEVENT
BEGIN:VEVENT
DTSTART;TZID=America/Detroit:20231022T093000
DTEND;TZID=America/Detroit:20231022T103000
DTSTAMP:20260424T112655
CREATED:20231005T174607Z
LAST-MODIFIED:20231005T174607Z
UID:10001380-1697967000-1697970600@stpeterriley.org
SUMMARY:Divine Service
DESCRIPTION:
URL:https://stpeterriley.org/event/divine-service/2023-10-22/
LOCATION:Church\, 8990 Church Rd.\, St. Johns\, MI\, 48879\, United States
CATEGORIES:Church
END:VEVENT
BEGIN:VEVENT
DTSTART;TZID=America/Detroit:20231015T093000
DTEND;TZID=America/Detroit:20231015T103000
DTSTAMP:20260424T112655
CREATED:20231005T174607Z
LAST-MODIFIED:20231005T174607Z
UID:10001379-1697362200-1697365800@stpeterriley.org
SUMMARY:Divine Service
DESCRIPTION:
URL:https://stpeterriley.org/event/divine-service/2023-10-15/
LOCATION:Church\, 8990 Church Rd.\, St. Johns\, MI\, 48879\, United States
CATEGORIES:Church
END:VEVENT
BEGIN:VEVENT
DTSTART;TZID=America/Detroit:20231008T093000
DTEND;TZID=America/Detroit:20231008T103000
DTSTAMP:20260424T112655
CREATED:20231005T174607Z
LAST-MODIFIED:20231005T174607Z
UID:10001378-1696757400-1696761000@stpeterriley.org
SUMMARY:Divine Service
DESCRIPTION:
URL:https://stpeterriley.org/event/divine-service/2023-10-08/
LOCATION:Church\, 8990 Church Rd.\, St. Johns\, MI\, 48879\, United States
CATEGORIES:Church
END:VEVENT
BEGIN:VEVENT
DTSTART;TZID=America/Detroit:20231001T093000
DTEND;TZID=America/Detroit:20231001T103000
DTSTAMP:20260424T112655
CREATED:20231005T174607Z
LAST-MODIFIED:20231005T174607Z
UID:10001377-1696152600-1696156200@stpeterriley.org
SUMMARY:Divine Service
DESCRIPTION:
URL:https://stpeterriley.org/event/divine-service/2023-10-01/
LOCATION:Church\, 8990 Church Rd.\, St. Johns\, MI\, 48879\, United States
CATEGORIES:Church
END:VEVENT
BEGIN:VEVENT
DTSTART;TZID=America/Detroit:20230924T093000
DTEND;TZID=America/Detroit:20230924T103000
DTSTAMP:20260424T112655
CREATED:20230808T140514Z
LAST-MODIFIED:20231005T174808Z
UID:10001639-1695547800-1695551400@stpeterriley.org
SUMMARY:Mites Sunday
DESCRIPTION:
URL:https://stpeterriley.org/event/mites-sunday/2023-09-24/
LOCATION:Church\, 8990 Church Rd.\, St. Johns\, MI\, 48879\, United States
CATEGORIES:Church
END:VEVENT
BEGIN:VEVENT
DTSTART;TZID=America/Detroit:20230827T093000
DTEND;TZID=America/Detroit:20230827T103000
DTSTAMP:20260424T112655
CREATED:20230808T140514Z
LAST-MODIFIED:20231005T174808Z
UID:10000015-1693128600-1693132200@stpeterriley.org
SUMMARY:Mites Sunday
DESCRIPTION:
URL:https://stpeterriley.org/event/mites-sunday/2023-08-27/
LOCATION:Church\, 8990 Church Rd.\, St. Johns\, MI\, 48879\, United States
CATEGORIES:Church
END:VEVENT
END:VCALENDAR