BEGIN:VCALENDAR
VERSION:2.0
PRODID:-//St. Peter Lutheran Church and School - ECPv6.15.20//NONSGML v1.0//EN
CALSCALE:GREGORIAN
METHOD:PUBLISH
X-ORIGINAL-URL:https://stpeterriley.org
X-WR-CALDESC:Events for St. Peter Lutheran Church and School
REFRESH-INTERVAL;VALUE=DURATION:PT1H
X-Robots-Tag:noindex
X-PUBLISHED-TTL:PT1H
BEGIN:VTIMEZONE
TZID:America/Detroit
BEGIN:DAYLIGHT
TZOFFSETFROM:-0500
TZOFFSETTO:-0400
TZNAME:EDT
DTSTART:20230312T070000
END:DAYLIGHT
BEGIN:STANDARD
TZOFFSETFROM:-0400
TZOFFSETTO:-0500
TZNAME:EST
DTSTART:20231105T060000
END:STANDARD
BEGIN:DAYLIGHT
TZOFFSETFROM:-0500
TZOFFSETTO:-0400
TZNAME:EDT
DTSTART:20240310T070000
END:DAYLIGHT
BEGIN:STANDARD
TZOFFSETFROM:-0400
TZOFFSETTO:-0500
TZNAME:EST
DTSTART:20241103T060000
END:STANDARD
BEGIN:DAYLIGHT
TZOFFSETFROM:-0500
TZOFFSETTO:-0400
TZNAME:EDT
DTSTART:20250309T070000
END:DAYLIGHT
BEGIN:STANDARD
TZOFFSETFROM:-0400
TZOFFSETTO:-0500
TZNAME:EST
DTSTART:20251102T060000
END:STANDARD
END:VTIMEZONE
BEGIN:VEVENT
DTSTART;TZID=America/Detroit:20240804T093000
DTEND;TZID=America/Detroit:20240804T103000
DTSTAMP:20260422T234527
CREATED:20231005T174607Z
LAST-MODIFIED:20231005T174607Z
UID:10001421-1722763800-1722767400@stpeterriley.org
SUMMARY:Divine Service
DESCRIPTION:
URL:https://stpeterriley.org/event/divine-service/2024-08-04/
LOCATION:Church\, 8990 Church Rd.\, St. Johns\, MI\, 48879\, United States
CATEGORIES:Church
END:VEVENT
BEGIN:VEVENT
DTSTART;TZID=America/Detroit:20240728T093000
DTEND;TZID=America/Detroit:20240728T103000
DTSTAMP:20260422T234527
CREATED:20231005T174607Z
LAST-MODIFIED:20231005T174607Z
UID:10001420-1722159000-1722162600@stpeterriley.org
SUMMARY:Divine Service
DESCRIPTION:
URL:https://stpeterriley.org/event/divine-service/2024-07-28/
LOCATION:Church\, 8990 Church Rd.\, St. Johns\, MI\, 48879\, United States
CATEGORIES:Church
END:VEVENT
BEGIN:VEVENT
DTSTART;TZID=America/Detroit:20240728T093000
DTEND;TZID=America/Detroit:20240728T103000
DTSTAMP:20260422T234527
CREATED:20230808T140514Z
LAST-MODIFIED:20231005T174808Z
UID:10001649-1722159000-1722162600@stpeterriley.org
SUMMARY:Mites Sunday
DESCRIPTION:
URL:https://stpeterriley.org/event/mites-sunday/2024-07-28/
LOCATION:Church\, 8990 Church Rd.\, St. Johns\, MI\, 48879\, United States
CATEGORIES:Church
END:VEVENT
BEGIN:VEVENT
DTSTART;TZID=America/Detroit:20240721T093000
DTEND;TZID=America/Detroit:20240721T103000
DTSTAMP:20260422T234527
CREATED:20240716T160805Z
LAST-MODIFIED:20240716T160805Z
UID:10003130-1721554200-1721557800@stpeterriley.org
SUMMARY:Confirmation Day
DESCRIPTION:
URL:https://stpeterriley.org/event/confirmation-day/
LOCATION:Church\, 8990 Church Rd.\, St. Johns\, MI\, 48879\, United States
CATEGORIES:Church
END:VEVENT
BEGIN:VEVENT
DTSTART;TZID=America/Detroit:20240721T093000
DTEND;TZID=America/Detroit:20240721T103000
DTSTAMP:20260422T234527
CREATED:20231005T174607Z
LAST-MODIFIED:20231005T174607Z
UID:10001419-1721554200-1721557800@stpeterriley.org
SUMMARY:Divine Service
DESCRIPTION:
URL:https://stpeterriley.org/event/divine-service/2024-07-21/
LOCATION:Church\, 8990 Church Rd.\, St. Johns\, MI\, 48879\, United States
CATEGORIES:Church
END:VEVENT
BEGIN:VEVENT
DTSTART;TZID=America/Detroit:20240714T093000
DTEND;TZID=America/Detroit:20240714T103000
DTSTAMP:20260422T234527
CREATED:20231005T174607Z
LAST-MODIFIED:20231005T174607Z
UID:10001418-1720949400-1720953000@stpeterriley.org
SUMMARY:Divine Service
DESCRIPTION:
URL:https://stpeterriley.org/event/divine-service/2024-07-14/
LOCATION:Church\, 8990 Church Rd.\, St. Johns\, MI\, 48879\, United States
CATEGORIES:Church
END:VEVENT
BEGIN:VEVENT
DTSTART;TZID=America/Detroit:20240707T093000
DTEND;TZID=America/Detroit:20240707T103000
DTSTAMP:20260422T234527
CREATED:20231005T174607Z
LAST-MODIFIED:20231005T174607Z
UID:10001417-1720344600-1720348200@stpeterriley.org
SUMMARY:Divine Service
DESCRIPTION:
URL:https://stpeterriley.org/event/divine-service/2024-07-07/
LOCATION:Church\, 8990 Church Rd.\, St. Johns\, MI\, 48879\, United States
CATEGORIES:Church
END:VEVENT
BEGIN:VEVENT
DTSTART;TZID=America/Detroit:20240630T093000
DTEND;TZID=America/Detroit:20240630T103000
DTSTAMP:20260422T234527
CREATED:20231005T174607Z
LAST-MODIFIED:20231005T174607Z
UID:10001416-1719739800-1719743400@stpeterriley.org
SUMMARY:Divine Service
DESCRIPTION:
URL:https://stpeterriley.org/event/divine-service/2024-06-30/
LOCATION:Church\, 8990 Church Rd.\, St. Johns\, MI\, 48879\, United States
CATEGORIES:Church
END:VEVENT
BEGIN:VEVENT
DTSTART;TZID=America/Detroit:20240630T093000
DTEND;TZID=America/Detroit:20240630T103000
DTSTAMP:20260422T234527
CREATED:20230808T140514Z
LAST-MODIFIED:20231005T174808Z
UID:10001648-1719739800-1719743400@stpeterriley.org
SUMMARY:Mites Sunday
DESCRIPTION:
URL:https://stpeterriley.org/event/mites-sunday/2024-06-30/
LOCATION:Church\, 8990 Church Rd.\, St. Johns\, MI\, 48879\, United States
CATEGORIES:Church
END:VEVENT
BEGIN:VEVENT
DTSTART;TZID=America/Detroit:20240623T093000
DTEND;TZID=America/Detroit:20240623T103000
DTSTAMP:20260422T234527
CREATED:20231005T174607Z
LAST-MODIFIED:20231005T174607Z
UID:10001415-1719135000-1719138600@stpeterriley.org
SUMMARY:Divine Service
DESCRIPTION:
URL:https://stpeterriley.org/event/divine-service/2024-06-23/
LOCATION:Church\, 8990 Church Rd.\, St. Johns\, MI\, 48879\, United States
CATEGORIES:Church
END:VEVENT
BEGIN:VEVENT
DTSTART;TZID=America/Detroit:20240616T093000
DTEND;TZID=America/Detroit:20240616T103000
DTSTAMP:20260422T234527
CREATED:20231005T174607Z
LAST-MODIFIED:20231005T174607Z
UID:10001414-1718530200-1718533800@stpeterriley.org
SUMMARY:Divine Service
DESCRIPTION:
URL:https://stpeterriley.org/event/divine-service/2024-06-16/
LOCATION:Church\, 8990 Church Rd.\, St. Johns\, MI\, 48879\, United States
CATEGORIES:Church
END:VEVENT
BEGIN:VEVENT
DTSTART;TZID=America/Detroit:20240609T093000
DTEND;TZID=America/Detroit:20240609T103000
DTSTAMP:20260422T234527
CREATED:20231005T174607Z
LAST-MODIFIED:20231005T174607Z
UID:10001413-1717925400-1717929000@stpeterriley.org
SUMMARY:Divine Service
DESCRIPTION:
URL:https://stpeterriley.org/event/divine-service/2024-06-09/
LOCATION:Church\, 8990 Church Rd.\, St. Johns\, MI\, 48879\, United States
CATEGORIES:Church
END:VEVENT
BEGIN:VEVENT
DTSTART;TZID=America/Detroit:20240602T093000
DTEND;TZID=America/Detroit:20240602T103000
DTSTAMP:20260422T234527
CREATED:20231005T174607Z
LAST-MODIFIED:20231005T174607Z
UID:10001412-1717320600-1717324200@stpeterriley.org
SUMMARY:Divine Service
DESCRIPTION:
URL:https://stpeterriley.org/event/divine-service/2024-06-02/
LOCATION:Church\, 8990 Church Rd.\, St. Johns\, MI\, 48879\, United States
CATEGORIES:Church
END:VEVENT
BEGIN:VEVENT
DTSTART;TZID=America/Detroit:20240526T093000
DTEND;TZID=America/Detroit:20240526T103000
DTSTAMP:20260422T234527
CREATED:20231005T174607Z
LAST-MODIFIED:20231005T174607Z
UID:10001411-1716715800-1716719400@stpeterriley.org
SUMMARY:Divine Service
DESCRIPTION:
URL:https://stpeterriley.org/event/divine-service/2024-05-26/
LOCATION:Church\, 8990 Church Rd.\, St. Johns\, MI\, 48879\, United States
CATEGORIES:Church
END:VEVENT
BEGIN:VEVENT
DTSTART;TZID=America/Detroit:20240526T093000
DTEND;TZID=America/Detroit:20240526T103000
DTSTAMP:20260422T234527
CREATED:20230808T140514Z
LAST-MODIFIED:20231005T174808Z
UID:10001647-1716715800-1716719400@stpeterriley.org
SUMMARY:Mites Sunday
DESCRIPTION:
URL:https://stpeterriley.org/event/mites-sunday/2024-05-26/
LOCATION:Church\, 8990 Church Rd.\, St. Johns\, MI\, 48879\, United States
CATEGORIES:Church
END:VEVENT
BEGIN:VEVENT
DTSTART;TZID=America/Detroit:20240519T093000
DTEND;TZID=America/Detroit:20240519T103000
DTSTAMP:20260422T234527
CREATED:20231005T174607Z
LAST-MODIFIED:20231005T174607Z
UID:10001410-1716111000-1716114600@stpeterriley.org
SUMMARY:Divine Service
DESCRIPTION:
URL:https://stpeterriley.org/event/divine-service/2024-05-19/
LOCATION:Church\, 8990 Church Rd.\, St. Johns\, MI\, 48879\, United States
CATEGORIES:Church
END:VEVENT
BEGIN:VEVENT
DTSTART;TZID=America/Detroit:20240512T093000
DTEND;TZID=America/Detroit:20240512T103000
DTSTAMP:20260422T234527
CREATED:20231005T174607Z
LAST-MODIFIED:20231005T174607Z
UID:10001409-1715506200-1715509800@stpeterriley.org
SUMMARY:Divine Service
DESCRIPTION:
URL:https://stpeterriley.org/event/divine-service/2024-05-12/
LOCATION:Church\, 8990 Church Rd.\, St. Johns\, MI\, 48879\, United States
CATEGORIES:Church
END:VEVENT
BEGIN:VEVENT
DTSTART;TZID=America/Detroit:20240505T093000
DTEND;TZID=America/Detroit:20240505T103000
DTSTAMP:20260422T234527
CREATED:20231005T174607Z
LAST-MODIFIED:20231005T174607Z
UID:10001408-1714901400-1714905000@stpeterriley.org
SUMMARY:Divine Service
DESCRIPTION:
URL:https://stpeterriley.org/event/divine-service/2024-05-05/
LOCATION:Church\, 8990 Church Rd.\, St. Johns\, MI\, 48879\, United States
CATEGORIES:Church
END:VEVENT
BEGIN:VEVENT
DTSTART;TZID=America/Detroit:20240428T093000
DTEND;TZID=America/Detroit:20240428T103000
DTSTAMP:20260422T234527
CREATED:20231005T174607Z
LAST-MODIFIED:20231005T174607Z
UID:10001407-1714296600-1714300200@stpeterriley.org
SUMMARY:Divine Service
DESCRIPTION:
URL:https://stpeterriley.org/event/divine-service/2024-04-28/
LOCATION:Church\, 8990 Church Rd.\, St. Johns\, MI\, 48879\, United States
CATEGORIES:Church
END:VEVENT
BEGIN:VEVENT
DTSTART;TZID=America/Detroit:20240428T093000
DTEND;TZID=America/Detroit:20240428T103000
DTSTAMP:20260422T234527
CREATED:20230808T140514Z
LAST-MODIFIED:20231005T174808Z
UID:10001646-1714296600-1714300200@stpeterriley.org
SUMMARY:Mites Sunday
DESCRIPTION:
URL:https://stpeterriley.org/event/mites-sunday/2024-04-28/
LOCATION:Church\, 8990 Church Rd.\, St. Johns\, MI\, 48879\, United States
CATEGORIES:Church
END:VEVENT
BEGIN:VEVENT
DTSTART;TZID=America/Detroit:20240421T093000
DTEND;TZID=America/Detroit:20240421T103000
DTSTAMP:20260422T234527
CREATED:20231005T174607Z
LAST-MODIFIED:20231005T174607Z
UID:10001406-1713691800-1713695400@stpeterriley.org
SUMMARY:Divine Service
DESCRIPTION:
URL:https://stpeterriley.org/event/divine-service/2024-04-21/
LOCATION:Church\, 8990 Church Rd.\, St. Johns\, MI\, 48879\, United States
CATEGORIES:Church
END:VEVENT
BEGIN:VEVENT
DTSTART;TZID=America/Detroit:20240414T093000
DTEND;TZID=America/Detroit:20240414T103000
DTSTAMP:20260422T234527
CREATED:20231005T174607Z
LAST-MODIFIED:20231005T174607Z
UID:10001405-1713087000-1713090600@stpeterriley.org
SUMMARY:Divine Service
DESCRIPTION:
URL:https://stpeterriley.org/event/divine-service/2024-04-14/
LOCATION:Church\, 8990 Church Rd.\, St. Johns\, MI\, 48879\, United States
CATEGORIES:Church
END:VEVENT
BEGIN:VEVENT
DTSTART;TZID=America/Detroit:20240407T093000
DTEND;TZID=America/Detroit:20240407T103000
DTSTAMP:20260422T234527
CREATED:20231005T174607Z
LAST-MODIFIED:20231005T174607Z
UID:10001404-1712482200-1712485800@stpeterriley.org
SUMMARY:Divine Service
DESCRIPTION:
URL:https://stpeterriley.org/event/divine-service/2024-04-07/
LOCATION:Church\, 8990 Church Rd.\, St. Johns\, MI\, 48879\, United States
CATEGORIES:Church
END:VEVENT
BEGIN:VEVENT
DTSTART;TZID=America/Detroit:20240331T093000
DTEND;TZID=America/Detroit:20240331T103000
DTSTAMP:20260422T234527
CREATED:20231005T174607Z
LAST-MODIFIED:20231005T174607Z
UID:10001403-1711877400-1711881000@stpeterriley.org
SUMMARY:Divine Service
DESCRIPTION:
URL:https://stpeterriley.org/event/divine-service/2024-03-31/
LOCATION:Church\, 8990 Church Rd.\, St. Johns\, MI\, 48879\, United States
CATEGORIES:Church
END:VEVENT
BEGIN:VEVENT
DTSTART;TZID=America/Detroit:20240331T093000
DTEND;TZID=America/Detroit:20240331T103000
DTSTAMP:20260422T234527
CREATED:20230808T140514Z
LAST-MODIFIED:20231005T174808Z
UID:10001645-1711877400-1711881000@stpeterriley.org
SUMMARY:Mites Sunday
DESCRIPTION:
URL:https://stpeterriley.org/event/mites-sunday/2024-03-31/
LOCATION:Church\, 8990 Church Rd.\, St. Johns\, MI\, 48879\, United States
CATEGORIES:Church
END:VEVENT
BEGIN:VEVENT
DTSTART;TZID=America/Detroit:20240327T120000
DTEND;TZID=America/Detroit:20240327T123000
DTSTAMP:20260422T234527
CREATED:20240322T141213Z
LAST-MODIFIED:20240322T141213Z
UID:10002532-1711540800-1711542600@stpeterriley.org
SUMMARY:Daily Office Service
DESCRIPTION:
URL:https://stpeterriley.org/event/daily-office-service/2024-03-27/
LOCATION:Church\, 8990 Church Rd.\, St. Johns\, MI\, 48879\, United States
CATEGORIES:Church
END:VEVENT
BEGIN:VEVENT
DTSTART;TZID=America/Detroit:20240326T120000
DTEND;TZID=America/Detroit:20240326T123000
DTSTAMP:20260422T234527
CREATED:20240322T141213Z
LAST-MODIFIED:20240322T141213Z
UID:10002531-1711454400-1711456200@stpeterriley.org
SUMMARY:Daily Office Service
DESCRIPTION:
URL:https://stpeterriley.org/event/daily-office-service/2024-03-26/
LOCATION:Church\, 8990 Church Rd.\, St. Johns\, MI\, 48879\, United States
CATEGORIES:Church
END:VEVENT
BEGIN:VEVENT
DTSTART;TZID=America/Detroit:20240325T120000
DTEND;TZID=America/Detroit:20240325T123000
DTSTAMP:20260422T234527
CREATED:20240322T141213Z
LAST-MODIFIED:20240322T141213Z
UID:10002530-1711368000-1711369800@stpeterriley.org
SUMMARY:Daily Office Service
DESCRIPTION:
URL:https://stpeterriley.org/event/daily-office-service/2024-03-25/
LOCATION:Church\, 8990 Church Rd.\, St. Johns\, MI\, 48879\, United States
CATEGORIES:Church
END:VEVENT
BEGIN:VEVENT
DTSTART;TZID=America/Detroit:20240324T093000
DTEND;TZID=America/Detroit:20240324T103000
DTSTAMP:20260422T234527
CREATED:20231005T174607Z
LAST-MODIFIED:20231005T174607Z
UID:10001402-1711272600-1711276200@stpeterriley.org
SUMMARY:Divine Service
DESCRIPTION:
URL:https://stpeterriley.org/event/divine-service/2024-03-24/
LOCATION:Church\, 8990 Church Rd.\, St. Johns\, MI\, 48879\, United States
CATEGORIES:Church
END:VEVENT
BEGIN:VEVENT
DTSTART;TZID=America/Detroit:20240317T093000
DTEND;TZID=America/Detroit:20240317T103000
DTSTAMP:20260422T234527
CREATED:20231005T174607Z
LAST-MODIFIED:20231005T174607Z
UID:10001401-1710667800-1710671400@stpeterriley.org
SUMMARY:Divine Service
DESCRIPTION:
URL:https://stpeterriley.org/event/divine-service/2024-03-17/
LOCATION:Church\, 8990 Church Rd.\, St. Johns\, MI\, 48879\, United States
CATEGORIES:Church
END:VEVENT
END:VCALENDAR