BEGIN:VCALENDAR
VERSION:2.0
PRODID:-//St. Peter Lutheran Church and School - ECPv6.15.20//NONSGML v1.0//EN
CALSCALE:GREGORIAN
METHOD:PUBLISH
X-ORIGINAL-URL:https://stpeterriley.org
X-WR-CALDESC:Events for St. Peter Lutheran Church and School
REFRESH-INTERVAL;VALUE=DURATION:PT1H
X-Robots-Tag:noindex
X-PUBLISHED-TTL:PT1H
BEGIN:VTIMEZONE
TZID:America/Detroit
BEGIN:DAYLIGHT
TZOFFSETFROM:-0500
TZOFFSETTO:-0400
TZNAME:EDT
DTSTART:20250309T070000
END:DAYLIGHT
BEGIN:STANDARD
TZOFFSETFROM:-0400
TZOFFSETTO:-0500
TZNAME:EST
DTSTART:20251102T060000
END:STANDARD
BEGIN:DAYLIGHT
TZOFFSETFROM:-0500
TZOFFSETTO:-0400
TZNAME:EDT
DTSTART:20260308T070000
END:DAYLIGHT
BEGIN:STANDARD
TZOFFSETFROM:-0400
TZOFFSETTO:-0500
TZNAME:EST
DTSTART:20261101T060000
END:STANDARD
BEGIN:DAYLIGHT
TZOFFSETFROM:-0500
TZOFFSETTO:-0400
TZNAME:EDT
DTSTART:20270314T070000
END:DAYLIGHT
BEGIN:STANDARD
TZOFFSETFROM:-0400
TZOFFSETTO:-0500
TZNAME:EST
DTSTART:20271107T060000
END:STANDARD
END:VTIMEZONE
BEGIN:VEVENT
DTSTART;TZID=America/Detroit:20260320T083500
DTEND;TZID=America/Detroit:20260320T090000
DTSTAMP:20260421T105010
CREATED:20250806T203451Z
LAST-MODIFIED:20260126T202847Z
UID:10003498-1773995700-1773997200@stpeterriley.org
SUMMARY:Matins
DESCRIPTION:
URL:https://stpeterriley.org/event/matins-5/2026-03-20/
CATEGORIES:Church
END:VEVENT
BEGIN:VEVENT
DTSTART;TZID=America/Detroit:20260320T183000
DTEND;TZID=America/Detroit:20260320T203000
DTSTAMP:20260421T105010
CREATED:20260214T143802Z
LAST-MODIFIED:20260214T143802Z
UID:10003685-1774031400-1774038600@stpeterriley.org
SUMMARY:Young Ladies Meeting
DESCRIPTION:
URL:https://stpeterriley.org/event/young-ladies-meeting-2/
CATEGORIES:Church
END:VEVENT
END:VCALENDAR